{"text_format":"1","workbook":"xlsx","n_sheets":14,"sheets":["Income","Benefits_&_Tax_Credits","Housing_&_Utilities","Other_Household_Expenditure","Housekeeping_&_Health","Leisure_&_Clothing","Travel","Debts_&_Loans","Children","Savings_&_Giving","Miscellaneous","Financial_Overview","Debt_Reduction_Calculator","Payment_Schedule"],"not_rendered":{"charts":1,"images":23,"macros":1,"external_links":1,"defined_names":2,"comments":1,"pivot_tables":0},"unopened":[],"bounds":{"document_bytes":16777216,"sheet_cells":100000,"rows_first":2000,"rows_last":500,"rows_between":2000,"halvings":0,"cell_chars":16384,"cell_head_chars":4096},"cells_cut":0,"cells_raw":0,"read":"whole","date_system":"1900"}

{"sheet":"Income","index":0,"n_rows":36,"n_cols":3,"rows_kept":36,"cut":false,"hidden":false,"merged":[[7,1,8,1],[7,2,8,2],[16,1,17,1],[16,2,17,2],[26,1,27,1],[26,2,27,2]]}
[]
[null,"Income"]
[]
[null,"Please provide details of all income after tax has been deducted."]
[]
[null,"Salary/Wages"]
[]
[null,"Description","Amount £"]
[]
[null,"My 'take home' Salary/Wages",0]
[null,"Partner's 'take home' Salary/Wages",0]
[null,"Income from Self-employment",0]
[null,"Salary/Wages Total:",{"$f":"SUM(C10:C12)","v":0}]
[]
[null,"Pension"]
[]
[null,"Description","Amount £"]
[]
[null,"My State Pension",0]
[null,"Partner's State Pension",0]
[null,"My Private Pension",0]
[null,"Partner's Private Pension",0]
[null,"Pensions Total:",{"$f":"SUM(C19:C22)","v":0}]
[]
[null,"Other Income"]
[]
[null,"Description","Amount £"]
[]
[null,"Income received from Child Maintenance payments",0]
[null,"Income from lodgers",0]
[null,"Housekeeping paid by relative / child",0]
[null,"Student loan / grant / parental contribution",0]
[null,"Regular interest income ",0]
[null,"Regular income from savings plan / annuity",0]
[null,"Regular dividend income ",0]
[null,"Other Income Total:",{"$f":"SUM(C29:C35)","v":0}]

{"sheet":"Benefits_&_Tax_Credits","index":1,"n_rows":18,"n_cols":3,"rows_kept":18,"cut":false,"hidden":false,"merged":[[5,1,6,1],[5,2,6,2]]}
[]
[null,"Benefits & Tax Credits"]
[]
[null,"Please provide details of all benefits or tax credits."]
[]
[null,"Description","Amount £"]
[]
[null,"Jobseeker's Allowance",0]
[null,"Income Support",0]
[null,"Working Tax Credit",0]
[null,"Child Benefit",0]
[null,"Child Tax Benefit",0]
[null,"Incapacity Benefit or Sick Pay",0]
[null,"Disability Benefits",0]
[null,"Carer's Allowence ",0]
[null,"Council Tax Benefit",0]
[null,"Housing Benefits",0]
[null,"Benefits & Tax Credits Total:",{"$f":"SUM(C8:C17)","v":0}]

{"sheet":"Housing_&_Utilities","index":2,"n_rows":20,"n_cols":3,"rows_kept":20,"cut":false,"hidden":false,"merged":[[5,1,6,1],[5,2,6,2]]}
[]
[null,"Housing & Utilities"]
[]
[null,"Please provide details of all housing and utility expenses."]
[]
[null,"Description","Amount £"]
[]
[null,"Mortgage",0]
[null,"Mortgage on second property",0]
[null,"Endownments or savings linked to mortgage",0]
[null,"Rent",0]
[null,"Ground Rent and/or Services Charges",0]
[null,"Gas",0]
[null,"Electricity",0]
[null,"Water",0]
[null,"Building Insurance",0]
[null,"Contents Insurance",0]
[null,"Council Tax",0]
[null,"Household Maintenance / Repair",0]
[null,"Housing & Utilities Total:",{"$f":"SUM(C8:C19)","v":0}]

{"sheet":"Other_Household_Expenditure","index":3,"n_rows":36,"n_cols":3,"rows_kept":36,"cut":false,"hidden":false,"merged":[[7,1,8,1],[7,2,8,2],[17,1,18,1],[17,2,18,2],[26,1,27,1],[26,2,27,2]]}
[]
[null,"Other Household Expenditure"]
[]
[null,"Please provide details of all other household expenses."]
[]
[null,"Telephone"]
[]
[null,"Description","Amount £"]
[]
[null,"Telephone Line Rental",0]
[null,"Telephone Call Charges",0]
[null,"Mobile Phone Contract",0]
[null,"Mobile Phone Call/Text Charges",0]
[null,"Telephone Total:",{"$f":"SUM(C10:C13)","v":0}]
[]
[null,"TV & Internet"]
[]
[null,"Description","Amount £"]
[]
[null,"TV Licence",0]
[null,"Internet",0]
[null,"Cable / Satellite TV",0]
[null,"TV & Internet Total:",{"$f":"SUM(C20:C22)","v":0}]
[]
[null,"Insurance, Warranties & Pension"]
[]
[null,"Description","Amount £"]
[]
[null,"Travel Insurance",0]
[null,"Life Assurance",0]
[null,"Pet Insurance & Vet's Costs",0]
[null,"Critical Illness Cover",0]
[null,"Gas / Plumbing Insurance",0]
[null,"Pension Payments",0]
[null,"Private Health Insurance",0]
[null,"Insurance, Warranties & Pension Total:",{"$f":"SUM(C29:C35)","v":0}]

{"sheet":"Housekeeping_&_Health","index":4,"n_rows":36,"n_cols":3,"rows_kept":36,"cut":false,"hidden":false,"merged":[[7,1,8,1],[7,2,8,2],[19,1,20,1],[19,2,20,2],[29,1,30,1],[29,2,30,2]]}
[]
[null,"Housekeeping & Health"]
[]
[null,"Please provide details of all housekeeping and health expenses."]
[]
[null,"Food & Drink"]
[]
[null,"Description","Amount £"]
[]
[null,"Food & Drink (not pub / meals out)",0]
[null,"Coffees, snacks etc (not meals out)",0]
[null,"Meals at Work",0]
[null,"Alcohol",0]
[null,"Cigarettes",0]
[null,"Pet food",0]
[null,"Food & Drink Total:",{"$f":"SUM(C10:C15)","v":0}]
[]
[null,"Cleaning & Toiletries"]
[]
[null,"Description","Amount £"]
[]
[null,"Cleaning & Toiletries",0]
[null,"Other Cleaning costs",0]
[null,"Toiletries",0]
[null,"Laundry & dry cleaning",0]
[null,"Cleaning & Toiletries Total:",{"$f":"SUM(C22:C25)","v":0}]
[]
[null,"Health"]
[]
[null,"Description","Amount £"]
[]
[null,"Hairdressing",0]
[null,"Regular Prescription Costs",0]
[null,"Eye care costs",0]
[null,"Dental Costs",0]
[null,"Health Total:",{"$f":"SUM(C32:C35)","v":0}]

{"sheet":"Leisure_&_Clothing","index":5,"n_rows":19,"n_cols":3,"rows_kept":19,"cut":false,"hidden":false,"merged":[[7,1,8,1],[7,2,8,2]]}
[]
[null,"Leisure & Clothing"]
[]
[null,"Please provide details of all your leisure & clothing expenses."]
[]
[null,"Leisure & Clothing"]
[]
[null,"Description","Amount £"]
[]
[null,"Fitness / Gym",0]
[null,"Sports subscriptions",0]
[null,"Clothing",0]
[null,"Shoes",0]
[null,"Newspapers / Magazines",0]
[null,"Leisure Activities",0]
[null,"Hobbies",0]
[null,"Pub",0]
[null,"Meals out",0]
[null,"Leisure & Clothing Total:",{"$f":"SUM(C10:C18)","v":0}]

{"sheet":"Travel","index":6,"n_rows":26,"n_cols":3,"rows_kept":26,"cut":false,"hidden":false,"merged":[[7,1,8,1],[7,2,8,2],[17,1,18,1],[17,2,18,2]]}
[]
[null,"Travel"]
[]
[null,"Please provide details of all your Travel expenses."]
[]
[null,"Public Transport"]
[]
[null,"Description","Amount £"]
[]
[null,"Travel card / Season Ticket",0]
[null,"Other Regular Public Transport",0]
[null,"One-off trips",0]
[null,"Taxis",0]
[null,"Public Transport Total:",{"$f":"SUM(C10:C13)","v":0}]
[]
[null,"Motoring"]
[]
[null,"Description","Amount £"]
[]
[null,"Road Tax",0]
[null,"Car / Motorbike Insurance",0]
[null,"Petrol",0]
[null,"MOT / Servicing",0]
[null,"Breakdown Cover",0]
[null,"Parking charges (not fines or tolls)",0]
[null,"Motoring Total:",{"$f":"SUM(C20:C25)","v":0}]

{"sheet":"Debts_&_Loans","index":7,"n_rows":17,"n_cols":5,"rows_kept":17,"cut":false,"hidden":false,"merged":[[7,1,8,1],[7,2,8,2],[7,3,8,3],[7,4,8,4]]}
[]
[null,"Debts & Loans"]
[]
[null,"Please provide details of all your debt and loan payments."]
[]
[null,"Debts & Loans"]
[]
[null,"Description","Amount £","Interest Rate","Remaining Debt/Loan Balance"]
[]
[null,"Loan repayments for loans secured on your home",0,0,0]
[null,"Car loan repayments",0,0,0]
[null,"Hire Purchase / Leasing payments",0,0,0]
[null,"Other unsecured loan repayments",0,0,0]
[null,"Payments to Reduce Overdraft",0,0,0]
[null,"Credit / Store Card repayments",0,0,0]
[null,"Bank / Overdraft Charges",0,0,0]
[null,"Debts & Loans Total:",{"$f":"SUM(C10:C16)","v":0}]

{"sheet":"Children","index":8,"n_rows":21,"n_cols":3,"rows_kept":21,"cut":false,"hidden":false,"merged":[[7,1,8,1],[7,2,8,2]]}
[]
[null,"Children"]
[]
[null,"Please provide details of all payments related to children you are responsible for."]
[]
[null,"Children"]
[]
[null,"Description","Amount £"]
[]
[null,"Nappies",0]
[null,"Childcare / Playgroup",0]
[null,"Baby Sitting",0]
[null,"Pocket Money",0]
[null,"Children's Clothing",0]
[null,"School Meals",0]
[null,"School Trips",0]
[null,"Children's Leisure",0]
[null,"Maintenance / Child support payments",0]
[null,"School Fees",0]
[null,"Payments to children at University or College",0]
[null,"Children Total:",{"$f":"SUM(C10:C20)","v":0}]

{"sheet":"Savings_&_Giving","index":9,"n_rows":25,"n_cols":3,"rows_kept":25,"cut":false,"hidden":false,"merged":[[7,1,8,1],[7,2,8,2],[20,1,21,1],[20,2,21,2]]}
[]
[null,"Saving & Giving"]
[]
[null,"Please provide details of all money you save and give."]
[]
[null,"Savings & Big Purchases"]
[]
[null,"Description","Amount £"]
[]
[null,"Regular Savings",0]
[null,"ISAs",0]
[null,"Car",0]
[null,"Holiday",0]
[null,"Home",0]
[null,"Education",0]
[null,"Other",0]
[null,"Saving & Big Purchases Total:",{"$f":"SUM(C10:C16)","v":0}]
[]
[null,"Giving"]
[]
[null,"Description","Amount £"]
[]
[null,"Regular Donations",0]
[null,"One-off Donations",0]
[null,"Giving Total:",{"$f":"SUM(C23:C24)","v":0}]

{"sheet":"Miscellaneous","index":10,"n_rows":16,"n_cols":3,"rows_kept":16,"cut":false,"hidden":false,"merged":[[7,1,8,1],[7,2,8,2]]}
[]
[null,"Miscellaneous (incl. Christmas)"]
[]
[null,"Please provide details of all miscellaneous spending including christmas"]
[]
[null,"Miscellaneous & Christmas"]
[]
[null,"Description","Amount £"]
[]
[null,"Birthday presents",0]
[null,"Christmas",0]
[null,"Fines",0]
[null,"Tax & NI provisions (for self-employed only)",0]
[null,"Adult Education classes / costs",0]
[null,"University / College fees",0]
[null,"Miscellaneous & Christmas Total:",{"$f":"SUM(C10:C15)","v":0}]

{"sheet":"Financial_Overview","index":11,"n_rows":23,"n_cols":10,"rows_kept":23,"cut":false,"hidden":false,"merged":[[3,1,4,1],[3,2,4,2],[3,5,4,5],[3,6,4,6]]}
[]
[null,"Income",null,null,null,"Remaining Income"]
[]
[null,"Description","Amount £",null,null,"Description","Amount £"]
[]
[null,"Income (non-benefit)",0,null,null,"Income",{"$f":"C8","v":0}]
[null,"Benefits & Tax Credits",0,null,null,"Expenditure",{"$f":"C23","v":0}]
[null,"Total Income:",{"$f":"SUM(C6:C7)","v":0},null,null,"Remaining Income",{"$f":"G6-G7","v":0}]
[]
[]
[null,"Expenditure",null,null,null,null,null,null,null,"Debt Reduction Calculation"]
[]
[null,"Description","Amount £"]
[null,"Housing & Utilities",0]
[null,"Other household expenditure",0]
[null,"Housekeeping & Health",0]
[null,"Leisure & Clothing",0]
[null,"Travel",0]
[null,"Debts & Loans",0]
[null,"Children",0]
[null,"Savings (incl, Big Purchases) & Giving",0]
[null,"Miscellaneous (incl. Christmas)",0]
[null,"Total Expenditure:",{"$f":"SUM(C14:C22)","v":0}]

{"sheet":"Debt_Reduction_Calculator","index":12,"n_rows":17,"n_cols":7,"rows_kept":17,"cut":false,"hidden":false,"merged":[[0,3,1,4],[3,6,4,6],[3,1,4,1],[3,2,4,2],[3,3,4,3],[3,4,4,4],[3,5,4,5],[11,1,12,1],[11,2,12,2],[11,3,12,3],[11,4,12,4],[11,5,12,5]]}
[null,{"$f":"TODAY()","v":"2016-01-25"},null,"Payment Stratergy:-"]
[]
[]
[null,"Description","Amount £","Interest Rate","Remaining Debt/Loan Balance","Interest Added Per Month","Ranking"]
[null,null,null,null,null,{"$f":"(E5*D5)/12","v":0},2]
[]
[]
[null,"Snowball Payment:-",0]
[]
[]
[]
[null,"Creditors","Original Balance","Interest Paid","Months To Pay Off","Last Payment"]
[]
[]
[]
[]
[null,"Total Interest Paid:-",0]

{"sheet":"Payment_Schedule","index":13,"n_rows":260,"n_cols":46,"rows_kept":260,"cut":false,"hidden":true,"merged":[[4,1,4,2]]}
[]
[]
[]
[]
[null,"Monthly Payment:-"]
[]
[null,null,null,"Creditor:","Credit / Store Card repayments","Hire Purchase / Leasing payments","Car loan repayments","Other unsecured loan repayments","Payments to Reduce Overdraft","Loan repayments for loans secured on your home",{"$f":"IF(ISERROR([1]Order!I66),\"\",IF(ISBLANK(INDEX([1]Calculator!$B$8:$B$17,[1]Order!I66)),\" - \",INDEX([1]Calculator!$B$8:$B$17,[1]Order!I66)))","v":""}]
[null,null,null,"Balance:",null,null,null,null,null,null,0]
[null,null,null,"Rate:",null,null,null,null,null,null,0]
[null,null,null,"Base Payment:",null,null,null,null,null,null,0]
[null,null,null,"Months to Pay Off:",{"$f":"IF(E8>0,1+MAX((ROW(E21:E190)-ROW(E$21))*(E21:E190>0)),0)","v":0},{"$f":"IF(F8>0,1+MAX((ROW(F21:F190)-ROW(F$21))*(F21:F190>0)),0)","v":0},{"$f":"IF(G8>0,1+MAX((ROW(G21:G190)-ROW(G$21))*(G21:G190>0)),0)","v":0},{"$f":"IF(H8>0,1+MAX((ROW(H21:H190)-ROW(H$21))*(H21:H190>0)),0)","v":0},{"$f":"IF(I8>0,1+MAX((ROW(I21:I190)-ROW(I$21))*(I21:I190>0)),0)","v":0},{"$f":"IF(J8>0,1+MAX((ROW(J21:J190)-ROW(J$21))*(J21:J190>0)),0)","v":0},{"$f":"IF(K8>0,1+MAX((ROW(K21:K190)-ROW(K$21))*(K21:K190>0)),0)","v":0}]
[null,null,null,"Month Paid Off:",{"$f":"IF(E8>0,INDEX($B$21:$B$190,E11),\"\")","v":""},"","","","","",""]
[null,null,null,"Total Interest:",{"$f":"IF(E260=0,SUM(V21:V190),NA())","v":0},{"$f":"IF(F260=0,SUM(W21:W190),NA())","v":0},0,0,0,0,0]
[]
[]
[null,null,null,"Total Interest:",{"$f":"SUM(E13:N13)","v":0}]
[]
[null,null,null,"Monthly Payments",null,null,null,null,null,null,null,null,null,null,"Balance AFTER Payment",null,null,null,null,null,null,null,"Interest",null,null,null,null,null,null,null,null,"Payment Before Snowball",null,null,null,null,null,null,null,null,"Extra Payment"]
["No.","Month","Snowball",null,{"$f":"E7","v":"Credit / Store Card repayments"},{"$f":"F7","v":"Hire Purchase / Leasing payments"},"Car loan repayments","Other unsecured loan repayments","Payments to Reduce Overdraft","Loan repayments for loans secured on your home",{"$f":"J7","v":"Loan repayments for loans secured on your home"},null,"END BALANCE",{"$f":"E19","v":"Credit / Store Card repayments"},"Hire Purchase / Leasing payments","Car loan repayments","Other unsecured loan repayments","Payments to Reduce Overdraft","Loan repayments for loans secured on your home","Loan repayments for loans secured on your home",null,{"$f":"E19","v":"Credit / Store Card repayments"},"Hire Purchase / Leasing payments","Car loan repayments","Other unsecured loan repayments","Payments to Reduce Overdraft","Loan repayments for loans secured on your home","Loan repayments for loans secured on your home","TOTAL",null,{"$f":"E19","v":"Credit / Store Card repayments"},"Hire Purchase / Leasing payments","Car loan repayments","Other unsecured loan repayments","Payments to Reduce Overdraft","Loan repayments for loans secured on your home","Loan repayments for loans secured on your home","TOTAL",null,{"$f":"E7","v":"Credit / Store Card repayments"},"Hire Purchase / Leasing payments","Car loan repayments","Other unsecured loan repayments","Payments to Reduce Overdraft","Loan repayments for loans secured on your home",""]
[null,{"$f":"TODAY()","v":"2016-01-25"},null,null,null,null,null,null,null,null,null,null,{"$f":"SUM(N20:T20)","v":0},{"$f":"E8","v":0},0,0,0,0,0,0]
[{"$f":"IF(SUM(N20:T20)<=0,\"\",A20+1)","v":""},{"$f":"IF(A21=\"\",NA(),DATE(YEAR(B20),MONTH(B20)+1,1))","v":{"$error":"#N/A"}},"",null,{"$f":"AE21+AN21","v":0},{"$f":"AF21+AO21","v":0},{"$f":"AG21+AP21","v":0},{"$f":"AH21+AQ21","v":0},{"$f":"AI21+AR21","v":0},{"$f":"AJ21+AS21","v":0},{"$f":"AK21+AT21","v":0},null,0,{"$f":"IF(D$8=0,0,ROUND(N20-(E21-V21),2))","v":0},{"$f":"IF(E$8=0,0,ROUND(O20-(F21-W21),2))","v":0},{"$f":"IF(F$8=0,0,ROUND(P20-(G21-X21),2))","v":0},{"$f":"IF(G$8=0,0,ROUND(Q20-(H21-Y21),2))","v":0},{"$f":"IF(H$8=0,0,ROUND(R20-(I21-Z21),2))","v":0},{"$f":"IF(I$8=0,0,ROUND(S20-(J21-AA21),2))","v":0},{"$f":"IF(J$8=0,0,ROUND(T20-(K21-AB21),2))","v":0},null,{"$f":"ROUND(N20*E$9/12,2)","v":0},{"$f":"ROUND(O20*F$9/12,2)","v":0},{"$f":"ROUND(P20*G$9/12,2)","v":0},{"$f":"ROUND(Q20*H$9/12,2)","v":0},{"$f":"ROUND(R20*I$9/12,2)","v":0},{"$f":"ROUND(S20*J$9/12,2)","v":0},{"$f":"ROUND(T20*K$9/12,2)","v":0},{"$f":"SUM(V21:AB21)","v":0},null,{"$f":"IF(N20>0,IF((N20+V21)<E$10,N20+V21,E$10),0)","v":0},0,0,0,0,0,0,{"$f":"SUM(AE21:AK21)","v":0},null,{"$f":"IF(N20<=0,0,IF(AE21+$C21>N20+V21,N20+V21-AE21,$C21))","v":0},{"$f":"IF(O20<=0,0,IF($C21<=SUM($AN21:AN21),0,IF(AF21+$C21-SUM($AN21:AN21)>O20+W21,O20+W21-AF21,$C21-SUM($AN21:AN21))))","v":0},{"$f":"IF(P20<=0,0,IF($C21<=SUM($AN21:AO21),0,IF(AG21+$C21-SUM($AN21:AO21)>P20+X21,P20+X21-AG21,$C21-SUM($AN21:AO21))))","v":0},{"$f":"IF(Q20<=0,0,IF($C21<=SUM($AN21:AP21),0,IF(AH21+$C21-SUM($AN21:AP21)>Q20+Y21,Q20+Y21-AH21,$C21-SUM($AN21:AP21))))","v":0},{"$f":"IF(R20<=0,0,IF($C21<=SUM($AN21:AQ21),0,IF(AI21+$C21-SUM($AN21:AQ21)>R20+Z21,R20+Z21-AI21,$C21-SUM($AN21:AQ21))))","v":0},{"$f":"IF(S20<=0,0,IF($C21<=SUM($AN21:AR21),0,IF(AJ21+$C21-SUM($AN21:AR21)>S20+AA21,S20+AA21-AJ21,$C21-SUM($AN21:AR21))))","v":0},{"$f":"IF(T20<=0,0,IF($C21<=SUM($AN21:AS21),0,IF(AK21+$C21-SUM($AN21:AS21)>T20+AB21,T20+AB21-AK21,$C21-SUM($AN21:AS21))))","v":0}]
["",{"$f":"IF(A22=\"\",NA(),DATE(YEAR(B21),MONTH(B21)+1,1))","v":{"$error":"#N/A"}},"",null,0,0,0,0,0,0,0,null,0,0,0,0,0,0,0,0,null,0,0,0,0,0,0,0,{"$f":"SUM(V22:AB22)","v":0},null,{"$f":"IF(N21>0,IF((N21+V22)<E$10,N21+V22,E$10),0)","v":0},{"$f":"IF(O21>0,IF((O21+W22)<F$10,O21+W22,F$10),0)","v":0},{"$f":"IF(P21>0,IF((P21+X22)<G$10,P21+X22,G$10),0)","v":0},{"$f":"IF(Q21>0,IF((Q21+Y22)<H$10,Q21+Y22,H$10),0)","v":0},{"$f":"IF(R21>0,IF((R21+Z22)<I$10,R21+Z22,I$10),0)","v":0},{"$f":"IF(S21>0,IF((S21+AA22)<I$10,S21+AA22,I$10),0)","v":0},{"$f":"IF(T21>0,IF((T21+AB22)<#REF!,T21+AB22,#REF!),0)","v":0},0,null,0,{"$f":"IF(O21<=0,0,IF($C22<=SUM($AN22:AN22),0,IF(AF22+$C22-SUM($AN22:AN22)>O21+W22,O21+W22-AF22,$C22-SUM($AN22:AN22))))","v":0},{"$f":"IF(P21<=0,0,IF($C22<=SUM($AN22:AO22),0,IF(AG22+$C22-SUM($AN22:AO22)>P21+X22,P21+X22-AG22,$C22-SUM($AN22:AO22))))","v":0},{"$f":"IF(Q21<=0,0,IF($C22<=SUM($AN22:AP22),0,IF(AH22+$C22-SUM($AN22:AP22)>Q21+Y22,Q21+Y22-AH22,$C22-SUM($AN22:AP22))))","v":0},{"$f":"IF(R21<=0,0,IF($C22<=SUM($AN22:AQ22),0,IF(AI22+$C22-SUM($AN22:AQ22)>R21+Z22,R21+Z22-AI22,$C22-SUM($AN22:AQ22))))","v":0},{"$f":"IF(S21<=0,0,IF($C22<=SUM($AN22:AR22),0,IF(AJ22+$C22-SUM($AN22:AR22)>S21+AA22,S21+AA22-AJ22,$C22-SUM($AN22:AR22))))","v":0},{"$f":"IF(T21<=0,0,IF($C22<=SUM($AN22:AS22),0,IF(AK22+$C22-SUM($AN22:AS22)>T21+AB22,T21+AB22-AK22,$C22-SUM($AN22:AS22))))","v":0}]
["",{"$f":"IF(A23=\"\",NA(),DATE(YEAR(B22),MONTH(B22)+1,1))","v":{"$error":"#N/A"}},"",null,0,0,0,0,0,0,0,null,0,0,0,0,0,0,0,0,null,0,0,0,0,0,0,0,0,null,0,0,0,0,0,0,{"$f":"IF(T22>0,IF((T22+AB23)<#REF!,T22+AB23,#REF!),0)","v":0},0,null,0,{"$f":"IF(O22<=0,0,IF($C23<=SUM($AN23:AN23),0,IF(AF23+$C23-SUM($AN23:AN23)>O22+W23,O22+W23-AF23,$C23-SUM($AN23:AN23))))","v":0},{"$f":"IF(P22<=0,0,IF($C23<=SUM($AN23:AO23),0,IF(AG23+$C23-SUM($AN23:AO23)>P22+X23,P22+X23-AG23,$C23-SUM($AN23:AO23))))","v":0},{"$f":"IF(Q22<=0,0,IF($C23<=SUM($AN23:AP23),0,IF(AH23+$C23-SUM($AN23:AP23)>Q22+Y23,Q22+Y23-AH23,$C23-SUM($AN23:AP23))))","v":0},{"$f":"IF(R22<=0,0,IF($C23<=SUM($AN23:AQ23),0,IF(AI23+$C23-SUM($AN23:AQ23)>R22+Z23,R22+Z23-AI23,$C23-SUM($AN23:AQ23))))","v":0},{"$f":"IF(S22<=0,0,IF($C23<=SUM($AN23:AR23),0,IF(AJ23+$C23-SUM($AN23:AR23)>S22+AA23,S22+AA23-AJ23,$C23-SUM($AN23:AR23))))","v":0},{"$f":"IF(T22<=0,0,IF($C23<=SUM($AN23:AS23),0,IF(AK23+$C23-SUM($AN23:AS23)>T22+AB23,T22+AB23-AK23,$C23-SUM($AN23:AS23))))","v":0}]
["",{"$error":"#N/A"},"",null,0,0,0,0,0,0,0,null,0,0,0,0,0,0,0,0,null,0,0,0,0,0,0,0,0,null,0,0,0,0,0,0,{"$f":"IF(T23>0,IF((T23+AB24)<#REF!,T23+AB24,#REF!),0)","v":0},0,null,0,{"$f":"IF(O23<=0,0,IF($C24<=SUM($AN24:AN24),0,IF(AF24+$C24-SUM($AN24:AN24)>O23+W24,O23+W24-AF24,$C24-SUM($AN24:AN24))))","v":0},{"$f":"IF(P23<=0,0,IF($C24<=SUM($AN24:AO24),0,IF(AG24+$C24-SUM($AN24:AO24)>P23+X24,P23+X24-AG24,$C24-SUM($AN24:AO24))))","v":0},{"$f":"IF(Q23<=0,0,IF($C24<=SUM($AN24:AP24),0,IF(AH24+$C24-SUM($AN24:AP24)>Q23+Y24,Q23+Y24-AH24,$C24-SUM($AN24:AP24))))","v":0},{"$f":"IF(R23<=0,0,IF($C24<=SUM($AN24:AQ24),0,IF(AI24+$C24-SUM($AN24:AQ24)>R23+Z24,R23+Z24-AI24,$C24-SUM($AN24:AQ24))))","v":0},{"$f":"IF(S23<=0,0,IF($C24<=SUM($AN24:AR24),0,IF(AJ24+$C24-SUM($AN24:AR24)>S23+AA24,S23+AA24-AJ24,$C24-SUM($AN24:AR24))))","v":0},{"$f":"IF(T23<=0,0,IF($C24<=SUM($AN24:AS24),0,IF(AK24+$C24-SUM($AN24:AS24)>T23+AB24,T23+AB24-AK24,$C24-SUM($AN24:AS24))))","v":0}]
["",{"$error":"#N/A"},"",null,0,0,0,0,0,0,0,null,0,0,0,0,0,0,0,0,null,0,0,0,0,0,0,0,0,null,0,0,0,0,0,0,{"$f":"IF(T24>0,IF((T24+AB25)<#REF!,T24+AB25,#REF!),0)","v":0},0,null,0,{"$f":"IF(O24<=0,0,IF($C25<=SUM($AN25:AN25),0,IF(AF25+$C25-SUM($AN25:AN25)>O24+W25,O24+W25-AF25,$C25-SUM($AN25:AN25))))","v":0},{"$f":"IF(P24<=0,0,IF($C25<=SUM($AN25:AO25),0,IF(AG25+$C25-SUM($AN25:AO25)>P24+X25,P24+X25-AG25,$C25-SUM($AN25:AO25))))","v":0},{"$f":"IF(Q24<=0,0,IF($C25<=SUM($AN25:AP25),0,IF(AH25+$C25-SUM($AN25:AP25)>Q24+Y25,Q24+Y25-AH25,$C25-SUM($AN25:AP25))))","v":0},{"$f":"IF(R24<=0,0,IF($C25<=SUM($AN25:AQ25),0,IF(AI25+$C25-SUM($AN25:AQ25)>R24+Z25,R24+Z25-AI25,$C25-SUM($AN25:AQ25))))","v":0},{"$f":"IF(S24<=0,0,IF($C25<=SUM($AN25:AR25),0,IF(AJ25+$C25-SUM($AN25:AR25)>S24+AA25,S24+AA25-AJ25,$C25-SUM($AN25:AR25))))","v":0},{"$f":"IF(T24<=0,0,IF($C25<=SUM($AN25:AS25),0,IF(AK25+$C25-SUM($AN25:AS25)>T24+AB25,T24+AB25-AK25,$C25-SUM($AN25:AS25))))","v":0}]
["",{"$error":"#N/A"},"",null,0,0,0,0,0,0,0,null,0,0,0,0,0,0,0,0,null,0,0,0,0,0,0,0,0,null,0,0,0,0,0,0,{"$f":"IF(T25>0,IF((T25+AB26)<#REF!,T25+AB26,#REF!),0)","v":0},0,null,0,{"$f":"IF(O25<=0,0,IF($C26<=SUM($AN26:AN26),0,IF(AF26+$C26-SUM($AN26:AN26)>O25+W26,O25+W26-AF26,$C26-SUM($AN26:AN26))))","v":0},{"$f":"IF(P25<=0,0,IF($C26<=SUM($AN26:AO26),0,IF(AG26+$C26-SUM($AN26:AO26)>P25+X26,P25+X26-AG26,$C26-SUM($AN26:AO26))))","v":0},{"$f":"IF(Q25<=0,0,IF($C26<=SUM($AN26:AP26),0,IF(AH26+$C26-SUM($AN26:AP26)>Q25+Y26,Q25+Y26-AH26,$C26-SUM($AN26:AP26))))","v":0},{"$f":"IF(R25<=0,0,IF($C26<=SUM($AN26:AQ26),0,IF(AI26+$C26-SUM($AN26:AQ26)>R25+Z26,R25+Z26-AI26,$C26-SUM($AN26:AQ26))))","v":0},{"$f":"IF(S25<=0,0,IF($C26<=SUM($AN26:AR26),0,IF(AJ26+$C26-SUM($AN26:AR26)>S25+AA26,S25+AA26-AJ26,$C26-SUM($AN26:AR26))))","v":0},{"$f":"IF(T25<=0,0,IF($C26<=SUM($AN26:AS26),0,IF(AK26+$C26-SUM($AN26:AS26)>T25+AB26,T25+AB26-AK26,$C26-SUM($AN26:AS26))))","v":0}]
["",{"$error":"#N/A"},"",null,0,0,0,0,0,0,0,null,0,0,0,0,0,0,0,0,null,0,0,0,0,0,0,0,0,null,0,0,0,0,0,0,{"$f":"IF(T26>0,IF((T26+AB27)<#REF!,T26+AB27,#REF!),0)","v":0},0,null,0,{"$f":"IF(O26<=0,0,IF($C27<=SUM($AN27:AN27),0,IF(AF27+$C27-SUM($AN27:AN27)>O26+W27,O26+W27-AF27,$C27-SUM($AN27:AN27))))","v":0},{"$f":"IF(P26<=0,0,IF($C27<=SUM($AN27:AO27),0,IF(AG27+$C27-SUM($AN27:AO27)>P26+X27,P26+X27-AG27,$C27-SUM($AN27:AO27))))","v":0},{"$f":"IF(Q26<=0,0,IF($C27<=SUM($AN27:AP27),0,IF(AH27+$C27-SUM($AN27:AP27)>Q26+Y27,Q26+Y27-AH27,$C27-SUM($AN27:AP27))))","v":0},{"$f":"IF(R26<=0,0,IF($C27<=SUM($AN27:AQ27),0,IF(AI27+$C27-SUM($AN27:AQ27)>R26+Z27,R26+Z27-AI27,$C27-SUM($AN27:AQ27))))","v":0},{"$f":"IF(S26<=0,0,IF($C27<=SUM($AN27:AR27),0,IF(AJ27+$C27-SUM($AN27:AR27)>S26+AA27,S26+AA27-AJ27,$C27-SUM($AN27:AR27))))","v":0},{"$f":"IF(T26<=0,0,IF($C27<=SUM($AN27:AS27),0,IF(AK27+$C27-SUM($AN27:AS27)>T26+AB27,T26+AB27-AK27,$C27-SUM($AN27:AS27))))","v":0}]
["",{"$error":"#N/A"},"",null,0,0,0,0,0,0,0,null,0,0,0,0,0,0,0,0,null,0,0,0,0,0,0,0,0,null,0,0,0,0,0,0,{"$f":"IF(T27>0,IF((T27+AB28)<#REF!,T27+AB28,#REF!),0)","v":0},0,null,0,{"$f":"IF(O27<=0,0,IF($C28<=SUM($AN28:AN28),0,IF(AF28+$C28-SUM($AN28:AN28)>O27+W28,O27+W28-AF28,$C28-SUM($AN28:AN28))))","v":0},{"$f":"IF(P27<=0,0,IF($C28<=SUM($AN28:AO28),0,IF(AG28+$C28-SUM($AN28:AO28)>P27+X28,P27+X28-AG28,$C28-SUM($AN28:AO28))))","v":0},{"$f":"IF(Q27<=0,0,IF($C28<=SUM($AN28:AP28),0,IF(AH28+$C28-SUM($AN28:AP28)>Q27+Y28,Q27+Y28-AH28,$C28-SUM($AN28:AP28))))","v":0},{"$f":"IF(R27<=0,0,IF($C28<=SUM($AN28:AQ28),0,IF(AI28+$C28-SUM($AN28:AQ28)>R27+Z28,R27+Z28-AI28,$C28-SUM($AN28:AQ28))))","v":0},{"$f":"IF(S27<=0,0,IF($C28<=SUM($AN28:AR28),0,IF(AJ28+$C28-SUM($AN28:AR28)>S27+AA28,S27+AA28-AJ28,$C28-SUM($AN28:AR28))))","v":0},{"$f":"IF(T27<=0,0,IF($C28<=SUM($AN28:AS28),0,IF(AK28+$C28-SUM($AN28:AS28)>T27+AB28,T27+AB28-AK28,$C28-SUM($AN28:AS28))))","v":0}]
["",{"$error":"#N/A"},"",null,0,0,0,0,0,0,0,null,0,0,0,0,0,0,0,0,null,0,0,0,0,0,0,0,0,null,0,0,0,0,0,0,{"$f":"IF(T28>0,IF((T28+AB29)<#REF!,T28+AB29,#REF!),0)","v":0},0,null,0,{"$f":"IF(O28<=0,0,IF($C29<=SUM($AN29:AN29),0,IF(AF29+$C29-SUM($AN29:AN29)>O28+W29,O28+W29-AF29,$C29-SUM($AN29:AN29))))","v":0},{"$f":"IF(P28<=0,0,IF($C29<=SUM($AN29:AO29),0,IF(AG29+$C29-SUM($AN29:AO29)>P28+X29,P28+X29-AG29,$C29-SUM($AN29:AO29))))","v":0},{"$f":"IF(Q28<=0,0,IF($C29<=SUM($AN29:AP29),0,IF(AH29+$C29-SUM($AN29:AP29)>Q28+Y29,Q28+Y29-AH29,$C29-SUM($AN29:AP29))))","v":0},{"$f":"IF(R28<=0,0,IF($C29<=SUM($AN29:AQ29),0,IF(AI29+$C29-SUM($AN29:AQ29)>R28+Z29,R28+Z29-AI29,$C29-SUM($AN29:AQ29))))","v":0},{"$f":"IF(S28<=0,0,IF($C29<=SUM($AN29:AR29),0,IF(AJ29+$C29-SUM($AN29:AR29)>S28+AA29,S28+AA29-AJ29,$C29-SUM($AN29:AR29))))","v":0},{"$f":"IF(T28<=0,0,IF($C29<=SUM($AN29:AS29),0,IF(AK29+$C29-SUM($AN29:AS29)>T28+AB29,T28+AB29-AK29,$C29-SUM($AN29:AS29))))","v":0}]
["",{"$error":"#N/A"},"",null,0,0,0,0,0,0,0,null,0,0,0,0,0,0,0,0,null,0,0,0,0,0,0,0,0,null,0,0,0,0,0,0,{"$f":"IF(T29>0,IF((T29+AB30)<#REF!,T29+AB30,#REF!),0)","v":0},0,null,0,{"$f":"IF(O29<=0,0,IF($C30<=SUM($AN30:AN30),0,IF(AF30+$C30-SUM($AN30:AN30)>O29+W30,O29+W30-AF30,$C30-SUM($AN30:AN30))))","v":0},{"$f":"IF(P29<=0,0,IF($C30<=SUM($AN30:AO30),0,IF(AG30+$C30-SUM($AN30:AO30)>P29+X30,P29+X30-AG30,$C30-SUM($AN30:AO30))))","v":0},{"$f":"IF(Q29<=0,0,IF($C30<=SUM($AN30:AP30),0,IF(AH30+$C30-SUM($AN30:AP30)>Q29+Y30,Q29+Y30-AH30,$C30-SUM($AN30:AP30))))","v":0},{"$f":"IF(R29<=0,0,IF($C30<=SUM($AN30:AQ30),0,IF(AI30+$C30-SUM($AN30:AQ30)>R29+Z30,R29+Z30-AI30,$C30-SUM($AN30:AQ30))))","v":0},{"$f":"IF(S29<=0,0,IF($C30<=SUM($AN30:AR30),0,IF(AJ30+$C30-SUM($AN30:AR30)>S29+AA30,S29+AA30-AJ30,$C30-SUM($AN30:AR30))))","v":0},{"$f":"IF(T29<=0,0,IF($C30<=SUM($AN30:AS30),0,IF(AK30+$C30-SUM($AN30:AS30)>T29+AB30,T29+AB30-AK30,$C30-SUM($AN30:AS30))))","v":0}]
["",{"$error":"#N/A"},"",null,0,0,0,0,0,0,0,null,0,0,0,0,0,0,0,0,null,0,0,0,0,0,0,0,0,null,0,0,0,0,0,0,{"$f":"IF(T30>0,IF((T30+AB31)<#REF!,T30+AB31,#REF!),0)","v":0},0,null,0,{"$f":"IF(O30<=0,0,IF($C31<=SUM($AN31:AN31),0,IF(AF31+$C31-SUM($AN31:AN31)>O30+W31,O30+W31-AF31,$C31-SUM($AN31:AN31))))","v":0},{"$f":"IF(P30<=0,0,IF($C31<=SUM($AN31:AO31),0,IF(AG31+$C31-SUM($AN31:AO31)>P30+X31,P30+X31-AG31,$C31-SUM($AN31:AO31))))","v":0},{"$f":"IF(Q30<=0,0,IF($C31<=SUM($AN31:AP31),0,IF(AH31+$C31-SUM($AN31:AP31)>Q30+Y31,Q30+Y31-AH31,$C31-SUM($AN31:AP31))))","v":0},{"$f":"IF(R30<=0,0,IF($C31<=SUM($AN31:AQ31),0,IF(AI31+$C31-SUM($AN31:AQ31)>R30+Z31,R30+Z31-AI31,$C31-SUM($AN31:AQ31))))","v":0},{"$f":"IF(S30<=0,0,IF($C31<=SUM($AN31:AR31),0,IF(AJ31+$C31-SUM($AN31:AR31)>S30+AA31,S30+AA31-AJ31,$C31-SUM($AN31:AR31))))","v":0},{"$f":"IF(T30<=0,0,IF($C31<=SUM($AN31:AS31),0,IF(AK31+$C31-SUM($AN31:AS31)>T30+AB31,T30+AB31-AK31,$C31-SUM($AN31:AS31))))","v":0}]
["",{"$error":"#N/A"},"",null,0,0,0,0,0,0,0,null,0,0,0,0,0,0,0,0,null,0,0,0,0,0,0,0,0,null,0,0,0,0,0,0,{"$f":"IF(T31>0,IF((T31+AB32)<#REF!,T31+AB32,#REF!),0)","v":0},0,null,0,{"$f":"IF(O31<=0,0,IF($C32<=SUM($AN32:AN32),0,IF(AF32+$C32-SUM($AN32:AN32)>O31+W32,O31+W32-AF32,$C32-SUM($AN32:AN32))))","v":0},{"$f":"IF(P31<=0,0,IF($C32<=SUM($AN32:AO32),0,IF(AG32+$C32-SUM($AN32:AO32)>P31+X32,P31+X32-AG32,$C32-SUM($AN32:AO32))))","v":0},{"$f":"IF(Q31<=0,0,IF($C32<=SUM($AN32:AP32),0,IF(AH32+$C32-SUM($AN32:AP32)>Q31+Y32,Q31+Y32-AH32,$C32-SUM($AN32:AP32))))","v":0},{"$f":"IF(R31<=0,0,IF($C32<=SUM($AN32:AQ32),0,IF(AI32+$C32-SUM($AN32:AQ32)>R31+Z32,R31+Z32-AI32,$C32-SUM($AN32:AQ32))))","v":0},{"$f":"IF(S31<=0,0,IF($C32<=SUM($AN32:AR32),0,IF(AJ32+$C32-SUM($AN32:AR32)>S31+AA32,S31+AA32-AJ32,$C32-SUM($AN32:AR32))))","v":0},{"$f":"IF(T31<=0,0,IF($C32<=SUM($AN32:AS32),0,IF(AK32+$C32-SUM($AN32:AS32)>T31+AB32,T31+AB32-AK32,$C32-SUM($AN32:AS32))))","v":0}]
["",{"$error":"#N/A"},"",null,0,0,0,0,0,0,0,null,0,0,0,0,0,0,0,0,null,0,0,0,0,0,0,0,0,null,0,0,0,0,0,0,{"$f":"IF(T32>0,IF((T32+AB33)<#REF!,T32+AB33,#REF!),0)","v":0},0,null,0,{"$f":"IF(O32<=0,0,IF($C33<=SUM($AN33:AN33),0,IF(AF33+$C33-SUM($AN33:AN33)>O32+W33,O32+W33-AF33,$C33-SUM($AN33:AN33))))","v":0},{"$f":"IF(P32<=0,0,IF($C33<=SUM($AN33:AO33),0,IF(AG33+$C33-SUM($AN33:AO33)>P32+X33,P32+X33-AG33,$C33-SUM($AN33:AO33))))","v":0},{"$f":"IF(Q32<=0,0,IF($C33<=SUM($AN33:AP33),0,IF(AH33+$C33-SUM($AN33:AP33)>Q32+Y33,Q32+Y33-AH33,$C33-SUM($AN33:AP33))))","v":0},{"$f":"IF(R32<=0,0,IF($C33<=SUM($AN33:AQ33),0,IF(AI33+$C33-SUM($AN33:AQ33)>R32+Z33,R32+Z33-AI33,$C33-SUM($AN33:AQ33))))","v":0},{"$f":"IF(S32<=0,0,IF($C33<=SUM($AN33:AR33),0,IF(AJ33+$C33-SUM($AN33:AR33)>S32+AA33,S32+AA33-AJ33,$C33-SUM($AN33:AR33))))","v":0},{"$f":"IF(T32<=0,0,IF($C33<=SUM($AN33:AS33),0,IF(AK33+$C33-SUM($AN33:AS33)>T32+AB33,T32+AB33-AK33,$C33-SUM($AN33:AS33))))","v":0}]
["",{"$error":"#N/A"},"",null,0,0,0,0,0,0,0,null,0,0,0,0,0,0,0,0,null,0,0,0,0,0,0,0,0,null,0,0,0,0,0,0,{"$f":"IF(T33>0,IF((T33+AB34)<#REF!,T33+AB34,#REF!),0)","v":0},0,null,0,{"$f":"IF(O33<=0,0,IF($C34<=SUM($AN34:AN34),0,IF(AF34+$C34-SUM($AN34:AN34)>O33+W34,O33+W34-AF34,$C34-SUM($AN34:AN34))))","v":0},{"$f":"IF(P33<=0,0,IF($C34<=SUM($AN34:AO34),0,IF(AG34+$C34-SUM($AN34:AO34)>P33+X34,P33+X34-AG34,$C34-SUM($AN34:AO34))))","v":0},{"$f":"IF(Q33<=0,0,IF($C34<=SUM($AN34:AP34),0,IF(AH34+$C34-SUM($AN34:AP34)>Q33+Y34,Q33+Y34-AH34,$C34-SUM($AN34:AP34))))","v":0},{"$f":"IF(R33<=0,0,IF($C34<=SUM($AN34:AQ34),0,IF(AI34+$C34-SUM($AN34:AQ34)>R33+Z34,R33+Z34-AI34,$C34-SUM($AN34:AQ34))))","v":0},{"$f":"IF(S33<=0,0,IF($C34<=SUM($AN34:AR34),0,IF(AJ34+$C34-SUM($AN34:AR34)>S33+AA34,S33+AA34-AJ34,$C34-SUM($AN34:AR34))))","v":0},{"$f":"IF(T33<=0,0,IF($C34<=SUM($AN34:AS34),0,IF(AK34+$C34-SUM($AN34:AS34)>T33+AB34,T33+AB34-AK34,$C34-SUM($AN34:AS34))))","v":0}]
["",{"$error":"#N/A"},"",null,0,0,0,0,0,0,0,null,0,0,0,0,0,0,0,0,null,0,0,0,0,0,0,0,0,null,0,0,0,0,0,0,{"$f":"IF(T34>0,IF((T34+AB35)<#REF!,T34+AB35,#REF!),0)","v":0},0,null,0,{"$f":"IF(O34<=0,0,IF($C35<=SUM($AN35:AN35),0,IF(AF35+$C35-SUM($AN35:AN35)>O34+W35,O34+W35-AF35,$C35-SUM($AN35:AN35))))","v":0},{"$f":"IF(P34<=0,0,IF($C35<=SUM($AN35:AO35),0,IF(AG35+$C35-SUM($AN35:AO35)>P34+X35,P34+X35-AG35,$C35-SUM($AN35:AO35))))","v":0},{"$f":"IF(Q34<=0,0,IF($C35<=SUM($AN35:AP35),0,IF(AH35+$C35-SUM($AN35:AP35)>Q34+Y35,Q34+Y35-AH35,$C35-SUM($AN35:AP35))))","v":0},{"$f":"IF(R34<=0,0,IF($C35<=SUM($AN35:AQ35),0,IF(AI35+$C35-SUM($AN35:AQ35)>R34+Z35,R34+Z35-AI35,$C35-SUM($AN35:AQ35))))","v":0},{"$f":"IF(S34<=0,0,IF($C35<=SUM($AN35:AR35),0,IF(AJ35+$C35-SUM($AN35:AR35)>S34+AA35,S34+AA35-AJ35,$C35-SUM($AN35:AR35))))","v":0},{"$f":"IF(T34<=0,0,IF($C35<=SUM($AN35:AS35),0,IF(AK35+$C35-SUM($AN35:AS35)>T34+AB35,T34+AB35-AK35,$C35-SUM($AN35:AS35))))","v":0}]
["",{"$error":"#N/A"},"",null,0,0,0,0,0,0,0,null,0,0,0,0,0,0,0,0,null,0,0,0,0,0,0,0,0,null,0,0,0,0,0,0,{"$f":"IF(T35>0,IF((T35+AB36)<#REF!,T35+AB36,#REF!),0)","v":0},0,null,0,{"$f":"IF(O35<=0,0,IF($C36<=SUM($AN36:AN36),0,IF(AF36+$C36-SUM($AN36:AN36)>O35+W36,O35+W36-AF36,$C36-SUM($AN36:AN36))))","v":0},{"$f":"IF(P35<=0,0,IF($C36<=SUM($AN36:AO36),0,IF(AG36+$C36-SUM($AN36:AO36)>P35+X36,P35+X36-AG36,$C36-SUM($AN36:AO36))))","v":0},{"$f":"IF(Q35<=0,0,IF($C36<=SUM($AN36:AP36),0,IF(AH36+$C36-SUM($AN36:AP36)>Q35+Y36,Q35+Y36-AH36,$C36-SUM($AN36:AP36))))","v":0},{"$f":"IF(R35<=0,0,IF($C36<=SUM($AN36:AQ36),0,IF(AI36+$C36-SUM($AN36:AQ36)>R35+Z36,R35+Z36-AI36,$C36-SUM($AN36:AQ36))))","v":0},{"$f":"IF(S35<=0,0,IF($C36<=SUM($AN36:AR36),0,IF(AJ36+$C36-SUM($AN36:AR36)>S35+AA36,S35+AA36-AJ36,$C36-SUM($AN36:AR36))))","v":0},{"$f":"IF(T35<=0,0,IF($C36<=SUM($AN36:AS36),0,IF(AK36+$C36-SUM($AN36:AS36)>T35+AB36,T35+AB36-AK36,$C36-SUM($AN36:AS36))))","v":0}]
["",{"$error":"#N/A"},"",null,0,0,0,0,0,0,0,null,0,0,0,0,0,0,0,0,null,0,0,0,0,0,0,0,0,null,0,0,0,0,0,0,{"$f":"IF(T36>0,IF((T36+AB37)<#REF!,T36+AB37,#REF!),0)","v":0},0,null,0,{"$f":"IF(O36<=0,0,IF($C37<=SUM($AN37:AN37),0,IF(AF37+$C37-SUM($AN37:AN37)>O36+W37,O36+W37-AF37,$C37-SUM($AN37:AN37))))","v":0},{"$f":"IF(P36<=0,0,IF($C37<=SUM($AN37:AO37),0,IF(AG37+$C37-SUM($AN37:AO37)>P36+X37,P36+X37-AG37,$C37-SUM($AN37:AO37))))","v":0},{"$f":"IF(Q36<=0,0,IF($C37<=SUM($AN37:AP37),0,IF(AH37+$C37-SUM($AN37:AP37)>Q36+Y37,Q36+Y37-AH37,$C37-SUM($AN37:AP37))))","v":0},{"$f":"IF(R36<=0,0,IF($C37<=SUM($AN37:AQ37),0,IF(AI37+$C37-SUM($AN37:AQ37)>R36+Z37,R36+Z37-AI37,$C37-SUM($AN37:AQ37))))","v":0},{"$f":"IF(S36<=0,0,IF($C37<=SUM($AN37:AR37),0,IF(AJ37+$C37-SUM($AN37:AR37)>S36+AA37,S36+AA37-AJ37,$C37-SUM($AN37:AR37))))","v":0},{"$f":"IF(T36<=0,0,IF($C37<=SUM($AN37:AS37),0,IF(AK37+$C37-SUM($AN37:AS37)>T36+AB37,T36+AB37-AK37,$C37-SUM($AN37:AS37))))","v":0}]
["",{"$error":"#N/A"},"",null,0,0,0,0,0,0,0,null,0,0,0,0,0,0,0,0,null,0,0,0,0,0,0,0,0,null,0,0,0,0,0,0,{"$f":"IF(T37>0,IF((T37+AB38)<#REF!,T37+AB38,#REF!),0)","v":0},0,null,0,{"$f":"IF(O37<=0,0,IF($C38<=SUM($AN38:AN38),0,IF(AF38+$C38-SUM($AN38:AN38)>O37+W38,O37+W38-AF38,$C38-SUM($AN38:AN38))))","v":0},{"$f":"IF(P37<=0,0,IF($C38<=SUM($AN38:AO38),0,IF(AG38+$C38-SUM($AN38:AO38)>P37+X38,P37+X38-AG38,$C38-SUM($AN38:AO38))))","v":0},{"$f":"IF(Q37<=0,0,IF($C38<=SUM($AN38:AP38),0,IF(AH38+$C38-SUM($AN38:AP38)>Q37+Y38,Q37+Y38-AH38,$C38-SUM($AN38:AP38))))","v":0},{"$f":"IF(R37<=0,0,IF($C38<=SUM($AN38:AQ38),0,IF(AI38+$C38-SUM($AN38:AQ38)>R37+Z38,R37+Z38-AI38,$C38-SUM($AN38:AQ38))))","v":0},{"$f":"IF(S37<=0,0,IF($C38<=SUM($AN38:AR38),0,IF(AJ38+$C38-SUM($AN38:AR38)>S37+AA38,S37+AA38-AJ38,$C38-SUM($AN38:AR38))))","v":0},{"$f":"IF(T37<=0,0,IF($C38<=SUM($AN38:AS38),0,IF(AK38+$C38-SUM($AN38:AS38)>T37+AB38,T37+AB38-AK38,$C38-SUM($AN38:AS38))))","v":0}]
["",{"$error":"#N/A"},"",null,0,0,0,0,0,0,0,null,0,0,0,0,0,0,0,0,null,0,0,0,0,0,0,0,0,null,0,0,0,0,0,0,{"$f":"IF(T38>0,IF((T38+AB39)<#REF!,T38+AB39,#REF!),0)","v":0},0,null,0,{"$f":"IF(O38<=0,0,IF($C39<=SUM($AN39:AN39),0,IF(AF39+$C39-SUM($AN39:AN39)>O38+W39,O38+W39-AF39,$C39-SUM($AN39:AN39))))","v":0},{"$f":"IF(P38<=0,0,IF($C39<=SUM($AN39:AO39),0,IF(AG39+$C39-SUM($AN39:AO39)>P38+X39,P38+X39-AG39,$C39-SUM($AN39:AO39))))","v":0},{"$f":"IF(Q38<=0,0,IF($C39<=SUM($AN39:AP39),0,IF(AH39+$C39-SUM($AN39:AP39)>Q38+Y39,Q38+Y39-AH39,$C39-SUM($AN39:AP39))))","v":0},{"$f":"IF(R38<=0,0,IF($C39<=SUM($AN39:AQ39),0,IF(AI39+$C39-SUM($AN39:AQ39)>R38+Z39,R38+Z39-AI39,$C39-SUM($AN39:AQ39))))","v":0},{"$f":"IF(S38<=0,0,IF($C39<=SUM($AN39:AR39),0,IF(AJ39+$C39-SUM($AN39:AR39)>S38+AA39,S38+AA39-AJ39,$C39-SUM($AN39:AR39))))","v":0},{"$f":"IF(T38<=0,0,IF($C39<=SUM($AN39:AS39),0,IF(AK39+$C39-SUM($AN39:AS39)>T38+AB39,T38+AB39-AK39,$C39-SUM($AN39:AS39))))","v":0}]
["",{"$error":"#N/A"},"",null,0,0,0,0,0,0,0,null,0,0,0,0,0,0,0,0,null,0,0,0,0,0,0,0,0,null,0,0,0,0,0,0,{"$f":"IF(T39>0,IF((T39+AB40)<#REF!,T39+AB40,#REF!),0)","v":0},0,null,0,{"$f":"IF(O39<=0,0,IF($C40<=SUM($AN40:AN40),0,IF(AF40+$C40-SUM($AN40:AN40)>O39+W40,O39+W40-AF40,$C40-SUM($AN40:AN40))))","v":0},{"$f":"IF(P39<=0,0,IF($C40<=SUM($AN40:AO40),0,IF(AG40+$C40-SUM($AN40:AO40)>P39+X40,P39+X40-AG40,$C40-SUM($AN40:AO40))))","v":0},{"$f":"IF(Q39<=0,0,IF($C40<=SUM($AN40:AP40),0,IF(AH40+$C40-SUM($AN40:AP40)>Q39+Y40,Q39+Y40-AH40,$C40-SUM($AN40:AP40))))","v":0},{"$f":"IF(R39<=0,0,IF($C40<=SUM($AN40:AQ40),0,IF(AI40+$C40-SUM($AN40:AQ40)>R39+Z40,R39+Z40-AI40,$C40-SUM($AN40:AQ40))))","v":0},{"$f":"IF(S39<=0,0,IF($C40<=SUM($AN40:AR40),0,IF(AJ40+$C40-SUM($AN40:AR40)>S39+AA40,S39+AA40-AJ40,$C40-SUM($AN40:AR40))))","v":0},{"$f":"IF(T39<=0,0,IF($C40<=SUM($AN40:AS40),0,IF(AK40+$C40-SUM($AN40:AS40)>T39+AB40,T39+AB40-AK40,$C40-SUM($AN40:AS40))))","v":0}]
["",{"$error":"#N/A"},"",null,0,0,0,0,0,0,0,null,0,0,0,0,0,0,0,0,null,0,0,0,0,0,0,0,0,null,0,0,0,0,0,0,{"$f":"IF(T40>0,IF((T40+AB41)<#REF!,T40+AB41,#REF!),0)","v":0},0,null,0,{"$f":"IF(O40<=0,0,IF($C41<=SUM($AN41:AN41),0,IF(AF41+$C41-SUM($AN41:AN41)>O40+W41,O40+W41-AF41,$C41-SUM($AN41:AN41))))","v":0},{"$f":"IF(P40<=0,0,IF($C41<=SUM($AN41:AO41),0,IF(AG41+$C41-SUM($AN41:AO41)>P40+X41,P40+X41-AG41,$C41-SUM($AN41:AO41))))","v":0},{"$f":"IF(Q40<=0,0,IF($C41<=SUM($AN41:AP41),0,IF(AH41+$C41-SUM($AN41:AP41)>Q40+Y41,Q40+Y41-AH41,$C41-SUM($AN41:AP41))))","v":0},{"$f":"IF(R40<=0,0,IF($C41<=SUM($AN41:AQ41),0,IF(AI41+$C41-SUM($AN41:AQ41)>R40+Z41,R40+Z41-AI41,$C41-SUM($AN41:AQ41))))","v":0},{"$f":"IF(S40<=0,0,IF($C41<=SUM($AN41:AR41),0,IF(AJ41+$C41-SUM($AN41:AR41)>S40+AA41,S40+AA41-AJ41,$C41-SUM($AN41:AR41))))","v":0},{"$f":"IF(T40<=0,0,IF($C41<=SUM($AN41:AS41),0,IF(AK41+$C41-SUM($AN41:AS41)>T40+AB41,T40+AB41-AK41,$C41-SUM($AN41:AS41))))","v":0}]
["",{"$error":"#N/A"},"",null,0,0,0,0,0,0,0,null,0,0,0,0,0,0,0,0,null,0,0,0,0,0,0,0,0,null,0,0,0,0,0,0,{"$f":"IF(T41>0,IF((T41+AB42)<#REF!,T41+AB42,#REF!),0)","v":0},0,null,0,{"$f":"IF(O41<=0,0,IF($C42<=SUM($AN42:AN42),0,IF(AF42+$C42-SUM($AN42:AN42)>O41+W42,O41+W42-AF42,$C42-SUM($AN42:AN42))))","v":0},{"$f":"IF(P41<=0,0,IF($C42<=SUM($AN42:AO42),0,IF(AG42+$C42-SUM($AN42:AO42)>P41+X42,P41+X42-AG42,$C42-SUM($AN42:AO42))))","v":0},{"$f":"IF(Q41<=0,0,IF($C42<=SUM($AN42:AP42),0,IF(AH42+$C42-SUM($AN42:AP42)>Q41+Y42,Q41+Y42-AH42,$C42-SUM($AN42:AP42))))","v":0},{"$f":"IF(R41<=0,0,IF($C42<=SUM($AN42:AQ42),0,IF(AI42+$C42-SUM($AN42:AQ42)>R41+Z42,R41+Z42-AI42,$C42-SUM($AN42:AQ42))))","v":0},{"$f":"IF(S41<=0,0,IF($C42<=SUM($AN42:AR42),0,IF(AJ42+$C42-SUM($AN42:AR42)>S41+AA42,S41+AA42-AJ42,$C42-SUM($AN42:AR42))))","v":0},{"$f":"IF(T41<=0,0,IF($C42<=SUM($AN42:AS42),0,IF(AK42+$C42-SUM($AN42:AS42)>T41+AB42,T41+AB42-AK42,$C42-SUM($AN42:AS42))))","v":0}]
["",{"$error":"#N/A"},"",null,0,0,0,0,0,0,0,null,0,0,0,0,0,0,0,0,null,0,0,0,0,0,0,0,0,null,0,0,0,0,0,0,{"$f":"IF(T42>0,IF((T42+AB43)<#REF!,T42+AB43,#REF!),0)","v":0},0,null,0,{"$f":"IF(O42<=0,0,IF($C43<=SUM($AN43:AN43),0,IF(AF43+$C43-SUM($AN43:AN43)>O42+W43,O42+W43-AF43,$C43-SUM($AN43:AN43))))","v":0},{"$f":"IF(P42<=0,0,IF($C43<=SUM($AN43:AO43),0,IF(AG43+$C43-SUM($AN43:AO43)>P42+X43,P42+X43-AG43,$C43-SUM($AN43:AO43))))","v":0},{"$f":"IF(Q42<=0,0,IF($C43<=SUM($AN43:AP43),0,IF(AH43+$C43-SUM($AN43:AP43)>Q42+Y43,Q42+Y43-AH43,$C43-SUM($AN43:AP43))))","v":0},{"$f":"IF(R42<=0,0,IF($C43<=SUM($AN43:AQ43),0,IF(AI43+$C43-SUM($AN43:AQ43)>R42+Z43,R42+Z43-AI43,$C43-SUM($AN43:AQ43))))","v":0},{"$f":"IF(S42<=0,0,IF($C43<=SUM($AN43:AR43),0,IF(AJ43+$C43-SUM($AN43:AR43)>S42+AA43,S42+AA43-AJ43,$C43-SUM($AN43:AR43))))","v":0},{"$f":"IF(T42<=0,0,IF($C43<=SUM($AN43:AS43),0,IF(AK43+$C43-SUM($AN43:AS43)>T42+AB43,T42+AB43-AK43,$C43-SUM($AN43:AS43))))","v":0}]
["",{"$error":"#N/A"},"",null,0,0,0,0,0,0,0,null,0,0,0,0,0,0,0,0,null,0,0,0,0,0,0,0,0,null,0,0,0,0,0,0,{"$f":"IF(T43>0,IF((T43+AB44)<#REF!,T43+AB44,#REF!),0)","v":0},0,null,0,{"$f":"IF(O43<=0,0,IF($C44<=SUM($AN44:AN44),0,IF(AF44+$C44-SUM($AN44:AN44)>O43+W44,O43+W44-AF44,$C44-SUM($AN44:AN44))))","v":0},{"$f":"IF(P43<=0,0,IF($C44<=SUM($AN44:AO44),0,IF(AG44+$C44-SUM($AN44:AO44)>P43+X44,P43+X44-AG44,$C44-SUM($AN44:AO44))))","v":0},{"$f":"IF(Q43<=0,0,IF($C44<=SUM($AN44:AP44),0,IF(AH44+$C44-SUM($AN44:AP44)>Q43+Y44,Q43+Y44-AH44,$C44-SUM($AN44:AP44))))","v":0},{"$f":"IF(R43<=0,0,IF($C44<=SUM($AN44:AQ44),0,IF(AI44+$C44-SUM($AN44:AQ44)>R43+Z44,R43+Z44-AI44,$C44-SUM($AN44:AQ44))))","v":0},{"$f":"IF(S43<=0,0,IF($C44<=SUM($AN44:AR44),0,IF(AJ44+$C44-SUM($AN44:AR44)>S43+AA44,S43+AA44-AJ44,$C44-SUM($AN44:AR44))))","v":0},{"$f":"IF(T43<=0,0,IF($C44<=SUM($AN44:AS44),0,IF(AK44+$C44-SUM($AN44:AS44)>T43+AB44,T43+AB44-AK44,$C44-SUM($AN44:AS44))))","v":0}]
["",{"$error":"#N/A"},"",null,0,0,0,0,0,0,0,null,0,0,0,0,0,0,0,0,null,0,0,0,0,0,0,0,0,null,0,0,0,0,0,0,{"$f":"IF(T44>0,IF((T44+AB45)<#REF!,T44+AB45,#REF!),0)","v":0},0,null,0,{"$f":"IF(O44<=0,0,IF($C45<=SUM($AN45:AN45),0,IF(AF45+$C45-SUM($AN45:AN45)>O44+W45,O44+W45-AF45,$C45-SUM($AN45:AN45))))","v":0},{"$f":"IF(P44<=0,0,IF($C45<=SUM($AN45:AO45),0,IF(AG45+$C45-SUM($AN45:AO45)>P44+X45,P44+X45-AG45,$C45-SUM($AN45:AO45))))","v":0},{"$f":"IF(Q44<=0,0,IF($C45<=SUM($AN45:AP45),0,IF(AH45+$C45-SUM($AN45:AP45)>Q44+Y45,Q44+Y45-AH45,$C45-SUM($AN45:AP45))))","v":0},{"$f":"IF(R44<=0,0,IF($C45<=SUM($AN45:AQ45),0,IF(AI45+$C45-SUM($AN45:AQ45)>R44+Z45,R44+Z45-AI45,$C45-SUM($AN45:AQ45))))","v":0},{"$f":"IF(S44<=0,0,IF($C45<=SUM($AN45:AR45),0,IF(AJ45+$C45-SUM($AN45:AR45)>S44+AA45,S44+AA45-AJ45,$C45-SUM($AN45:AR45))))","v":0},{"$f":"IF(T44<=0,0,IF($C45<=SUM($AN45:AS45),0,IF(AK45+$C45-SUM($AN45:AS45)>T44+AB45,T44+AB45-AK45,$C45-SUM($AN45:AS45))))","v":0}]
["",{"$error":"#N/A"},"",null,0,0,0,0,0,0,0,null,0,0,0,0,0,0,0,0,null,0,0,0,0,0,0,0,0,null,0,0,0,0,0,0,{"$f":"IF(T45>0,IF((T45+AB46)<#REF!,T45+AB46,#REF!),0)","v":0},0,null,0,{"$f":"IF(O45<=0,0,IF($C46<=SUM($AN46:AN46),0,IF(AF46+$C46-SUM($AN46:AN46)>O45+W46,O45+W46-AF46,$C46-SUM($AN46:AN46))))","v":0},{"$f":"IF(P45<=0,0,IF($C46<=SUM($AN46:AO46),0,IF(AG46+$C46-SUM($AN46:AO46)>P45+X46,P45+X46-AG46,$C46-SUM($AN46:AO46))))","v":0},{"$f":"IF(Q45<=0,0,IF($C46<=SUM($AN46:AP46),0,IF(AH46+$C46-SUM($AN46:AP46)>Q45+Y46,Q45+Y46-AH46,$C46-SUM($AN46:AP46))))","v":0},{"$f":"IF(R45<=0,0,IF($C46<=SUM($AN46:AQ46),0,IF(AI46+$C46-SUM($AN46:AQ46)>R45+Z46,R45+Z46-AI46,$C46-SUM($AN46:AQ46))))","v":0},{"$f":"IF(S45<=0,0,IF($C46<=SUM($AN46:AR46),0,IF(AJ46+$C46-SUM($AN46:AR46)>S45+AA46,S45+AA46-AJ46,$C46-SUM($AN46:AR46))))","v":0},{"$f":"IF(T45<=0,0,IF($C46<=SUM($AN46:AS46),0,IF(AK46+$C46-SUM($AN46:AS46)>T45+AB46,T45+AB46-AK46,$C46-SUM($AN46:AS46))))","v":0}]
["",{"$error":"#N/A"},"",null,0,0,0,0,0,0,0,null,0,0,0,0,0,0,0,0,null,0,0,0,0,0,0,0,0,null,0,0,0,0,0,0,{"$f":"IF(T46>0,IF((T46+AB47)<#REF!,T46+AB47,#REF!),0)","v":0},0,null,0,{"$f":"IF(O46<=0,0,IF($C47<=SUM($AN47:AN47),0,IF(AF47+$C47-SUM($AN47:AN47)>O46+W47,O46+W47-AF47,$C47-SUM($AN47:AN47))))","v":0},{"$f":"IF(P46<=0,0,IF($C47<=SUM($AN47:AO47),0,IF(AG47+$C47-SUM($AN47:AO47)>P46+X47,P46+X47-AG47,$C47-SUM($AN47:AO47))))","v":0},{"$f":"IF(Q46<=0,0,IF($C47<=SUM($AN47:AP47),0,IF(AH47+$C47-SUM($AN47:AP47)>Q46+Y47,Q46+Y47-AH47,$C47-SUM($AN47:AP47))))","v":0},{"$f":"IF(R46<=0,0,IF($C47<=SUM($AN47:AQ47),0,IF(AI47+$C47-SUM($AN47:AQ47)>R46+Z47,R46+Z47-AI47,$C47-SUM($AN47:AQ47))))","v":0},{"$f":"IF(S46<=0,0,IF($C47<=SUM($AN47:AR47),0,IF(AJ47+$C47-SUM($AN47:AR47)>S46+AA47,S46+AA47-AJ47,$C47-SUM($AN47:AR47))))","v":0},{"$f":"IF(T46<=0,0,IF($C47<=SUM($AN47:AS47),0,IF(AK47+$C47-SUM($AN47:AS47)>T46+AB47,T46+AB47-AK47,$C47-SUM($AN47:AS47))))","v":0}]
["",{"$error":"#N/A"},"",null,0,0,0,0,0,0,0,null,0,0,0,0,0,0,0,0,null,0,0,0,0,0,0,0,0,null,0,0,0,0,0,0,{"$f":"IF(T47>0,IF((T47+AB48)<#REF!,T47+AB48,#REF!),0)","v":0},0,null,0,{"$f":"IF(O47<=0,0,IF($C48<=SUM($AN48:AN48),0,IF(AF48+$C48-SUM($AN48:AN48)>O47+W48,O47+W48-AF48,$C48-SUM($AN48:AN48))))","v":0},{"$f":"IF(P47<=0,0,IF($C48<=SUM($AN48:AO48),0,IF(AG48+$C48-SUM($AN48:AO48)>P47+X48,P47+X48-AG48,$C48-SUM($AN48:AO48))))","v":0},{"$f":"IF(Q47<=0,0,IF($C48<=SUM($AN48:AP48),0,IF(AH48+$C48-SUM($AN48:AP48)>Q47+Y48,Q47+Y48-AH48,$C48-SUM($AN48:AP48))))","v":0},{"$f":"IF(R47<=0,0,IF($C48<=SUM($AN48:AQ48),0,IF(AI48+$C48-SUM($AN48:AQ48)>R47+Z48,R47+Z48-AI48,$C48-SUM($AN48:AQ48))))","v":0},{"$f":"IF(S47<=0,0,IF($C48<=SUM($AN48:AR48),0,IF(AJ48+$C48-SUM($AN48:AR48)>S47+AA48,S47+AA48-AJ48,$C48-SUM($AN48:AR48))))","v":0},{"$f":"IF(T47<=0,0,IF($C48<=SUM($AN48:AS48),0,IF(AK48+$C48-SUM($AN48:AS48)>T47+AB48,T47+AB48-AK48,$C48-SUM($AN48:AS48))))","v":0}]
["",{"$error":"#N/A"},"",null,0,0,0,0,0,0,0,null,0,0,0,0,0,0,0,0,null,0,0,0,0,0,0,0,0,null,0,0,0,0,0,0,{"$f":"IF(T48>0,IF((T48+AB49)<#REF!,T48+AB49,#REF!),0)","v":0},0,null,0,{"$f":"IF(O48<=0,0,IF($C49<=SUM($AN49:AN49),0,IF(AF49+$C49-SUM($AN49:AN49)>O48+W49,O48+W49-AF49,$C49-SUM($AN49:AN49))))","v":0},{"$f":"IF(P48<=0,0,IF($C49<=SUM($AN49:AO49),0,IF(AG49+$C49-SUM($AN49:AO49)>P48+X49,P48+X49-AG49,$C49-SUM($AN49:AO49))))","v":0},{"$f":"IF(Q48<=0,0,IF($C49<=SUM($AN49:AP49),0,IF(AH49+$C49-SUM($AN49:AP49)>Q48+Y49,Q48+Y49-AH49,$C49-SUM($AN49:AP49))))","v":0},{"$f":"IF(R48<=0,0,IF($C49<=SUM($AN49:AQ49),0,IF(AI49+$C49-SUM($AN49:AQ49)>R48+Z49,R48+Z49-AI49,$C49-SUM($AN49:AQ49))))","v":0},{"$f":"IF(S48<=0,0,IF($C49<=SUM($AN49:AR49),0,IF(AJ49+$C49-SUM($AN49:AR49)>S48+AA49,S48+AA49-AJ49,$C49-SUM($AN49:AR49))))","v":0},{"$f":"IF(T48<=0,0,IF($C49<=SUM($AN49:AS49),0,IF(AK49+$C49-SUM($AN49:AS49)>T48+AB49,T48+AB49-AK49,$C49-SUM($AN49:AS49))))","v":0}]
["",{"$error":"#N/A"},"",null,0,0,0,0,0,0,0,null,0,0,0,0,0,0,0,0,null,0,0,0,0,0,0,0,0,null,0,0,0,0,0,0,{"$f":"IF(T49>0,IF((T49+AB50)<#REF!,T49+AB50,#REF!),0)","v":0},0,null,0,{"$f":"IF(O49<=0,0,IF($C50<=SUM($AN50:AN50),0,IF(AF50+$C50-SUM($AN50:AN50)>O49+W50,O49+W50-AF50,$C50-SUM($AN50:AN50))))","v":0},{"$f":"IF(P49<=0,0,IF($C50<=SUM($AN50:AO50),0,IF(AG50+$C50-SUM($AN50:AO50)>P49+X50,P49+X50-AG50,$C50-SUM($AN50:AO50))))","v":0},{"$f":"IF(Q49<=0,0,IF($C50<=SUM($AN50:AP50),0,IF(AH50+$C50-SUM($AN50:AP50)>Q49+Y50,Q49+Y50-AH50,$C50-SUM($AN50:AP50))))","v":0},{"$f":"IF(R49<=0,0,IF($C50<=SUM($AN50:AQ50),0,IF(AI50+$C50-SUM($AN50:AQ50)>R49+Z50,R49+Z50-AI50,$C50-SUM($AN50:AQ50))))","v":0},{"$f":"IF(S49<=0,0,IF($C50<=SUM($AN50:AR50),0,IF(AJ50+$C50-SUM($AN50:AR50)>S49+AA50,S49+AA50-AJ50,$C50-SUM($AN50:AR50))))","v":0},{"$f":"IF(T49<=0,0,IF($C50<=SUM($AN50:AS50),0,IF(AK50+$C50-SUM($AN50:AS50)>T49+AB50,T49+AB50-AK50,$C50-SUM($AN50:AS50))))","v":0}]
["",{"$error":"#N/A"},"",null,0,0,0,0,0,0,0,null,0,0,0,0,0,0,0,0,null,0,0,0,0,0,0,0,0,null,0,0,0,0,0,0,{"$f":"IF(T50>0,IF((T50+AB51)<#REF!,T50+AB51,#REF!),0)","v":0},0,null,0,{"$f":"IF(O50<=0,0,IF($C51<=SUM($AN51:AN51),0,IF(AF51+$C51-SUM($AN51:AN51)>O50+W51,O50+W51-AF51,$C51-SUM($AN51:AN51))))","v":0},{"$f":"IF(P50<=0,0,IF($C51<=SUM($AN51:AO51),0,IF(AG51+$C51-SUM($AN51:AO51)>P50+X51,P50+X51-AG51,$C51-SUM($AN51:AO51))))","v":0},{"$f":"IF(Q50<=0,0,IF($C51<=SUM($AN51:AP51),0,IF(AH51+$C51-SUM($AN51:AP51)>Q50+Y51,Q50+Y51-AH51,$C51-SUM($AN51:AP51))))","v":0},{"$f":"IF(R50<=0,0,IF($C51<=SUM($AN51:AQ51),0,IF(AI51+$C51-SUM($AN51:AQ51)>R50+Z51,R50+Z51-AI51,$C51-SUM($AN51:AQ51))))","v":0},{"$f":"IF(S50<=0,0,IF($C51<=SUM($AN51:AR51),0,IF(AJ51+$C51-SUM($AN51:AR51)>S50+AA51,S50+AA51-AJ51,$C51-SUM($AN51:AR51))))","v":0},{"$f":"IF(T50<=0,0,IF($C51<=SUM($AN51:AS51),0,IF(AK51+$C51-SUM($AN51:AS51)>T50+AB51,T50+AB51-AK51,$C51-SUM($AN51:AS51))))","v":0}]
["",{"$error":"#N/A"},"",null,0,0,0,0,0,0,0,null,{"$f":"SUM(N52:T52)","v":0},0,0,0,0,0,0,0,null,0,0,0,0,0,0,0,0,null,0,0,0,0,0,0,{"$f":"IF(T51>0,IF((T51+AB52)<#REF!,T51+AB52,#REF!),0)","v":0},0,null,0,{"$f":"IF(O51<=0,0,IF($C52<=SUM($AN52:AN52),0,IF(AF52+$C52-SUM($AN52:AN52)>O51+W52,O51+W52-AF52,$C52-SUM($AN52:AN52))))","v":0},{"$f":"IF(P51<=0,0,IF($C52<=SUM($AN52:AO52),0,IF(AG52+$C52-SUM($AN52:AO52)>P51+X52,P51+X52-AG52,$C52-SUM($AN52:AO52))))","v":0},{"$f":"IF(Q51<=0,0,IF($C52<=SUM($AN52:AP52),0,IF(AH52+$C52-SUM($AN52:AP52)>Q51+Y52,Q51+Y52-AH52,$C52-SUM($AN52:AP52))))","v":0},{"$f":"IF(R51<=0,0,IF($C52<=SUM($AN52:AQ52),0,IF(AI52+$C52-SUM($AN52:AQ52)>R51+Z52,R51+Z52-AI52,$C52-SUM($AN52:AQ52))))","v":0},{"$f":"IF(S51<=0,0,IF($C52<=SUM($AN52:AR52),0,IF(AJ52+$C52-SUM($AN52:AR52)>S51+AA52,S51+AA52-AJ52,$C52-SUM($AN52:AR52))))","v":0},{"$f":"IF(T51<=0,0,IF($C52<=SUM($AN52:AS52),0,IF(AK52+$C52-SUM($AN52:AS52)>T51+AB52,T51+AB52-AK52,$C52-SUM($AN52:AS52))))","v":0}]
[{"$f":"IF(SUM(N52:T52)<=0,\"\",A52+1)","v":""},{"$error":"#N/A"},"",null,{"$f":"AE53+AN53","v":0},{"$f":"AF53+AO53","v":0},{"$f":"AG53+AP53","v":0},{"$f":"AH53+AQ53","v":0},{"$f":"AI53+AR53","v":0},{"$f":"AJ53+AS53","v":0},{"$f":"AK53+AT53","v":0},null,0,{"$f":"IF(D$8=0,0,ROUND(N52-(E53-V53),2))","v":0},{"$f":"IF(E$8=0,0,ROUND(O52-(F53-W53),2))","v":0},{"$f":"IF(F$8=0,0,ROUND(P52-(G53-X53),2))","v":0},{"$f":"IF(G$8=0,0,ROUND(Q52-(H53-Y53),2))","v":0},{"$f":"IF(H$8=0,0,ROUND(R52-(I53-Z53),2))","v":0},{"$f":"IF(I$8=0,0,ROUND(S52-(J53-AA53),2))","v":0},{"$f":"IF(J$8=0,0,ROUND(T52-(K53-AB53),2))","v":0},null,{"$f":"ROUND(N52*E$9/12,2)","v":0},{"$f":"ROUND(O52*F$9/12,2)","v":0},{"$f":"ROUND(P52*G$9/12,2)","v":0},{"$f":"ROUND(Q52*H$9/12,2)","v":0},{"$f":"ROUND(R52*I$9/12,2)","v":0},{"$f":"ROUND(S52*J$9/12,2)","v":0},{"$f":"ROUND(T52*K$9/12,2)","v":0},0,null,0,0,0,0,0,0,{"$f":"IF(T52>0,IF((T52+AB53)<#REF!,T52+AB53,#REF!),0)","v":0},{"$f":"SUM(AE53:AK53)","v":0},null,{"$f":"IF(N52<=0,0,IF(AE53+$C53>N52+V53,N52+V53-AE53,$C53))","v":0},{"$f":"IF(O52<=0,0,IF($C53<=SUM($AN53:AN53),0,IF(AF53+$C53-SUM($AN53:AN53)>O52+W53,O52+W53-AF53,$C53-SUM($AN53:AN53))))","v":0},{"$f":"IF(P52<=0,0,IF($C53<=SUM($AN53:AO53),0,IF(AG53+$C53-SUM($AN53:AO53)>P52+X53,P52+X53-AG53,$C53-SUM($AN53:AO53))))","v":0},{"$f":"IF(Q52<=0,0,IF($C53<=SUM($AN53:AP53),0,IF(AH53+$C53-SUM($AN53:AP53)>Q52+Y53,Q52+Y53-AH53,$C53-SUM($AN53:AP53))))","v":0},{"$f":"IF(R52<=0,0,IF($C53<=SUM($AN53:AQ53),0,IF(AI53+$C53-SUM($AN53:AQ53)>R52+Z53,R52+Z53-AI53,$C53-SUM($AN53:AQ53))))","v":0},{"$f":"IF(S52<=0,0,IF($C53<=SUM($AN53:AR53),0,IF(AJ53+$C53-SUM($AN53:AR53)>S52+AA53,S52+AA53-AJ53,$C53-SUM($AN53:AR53))))","v":0},{"$f":"IF(T52<=0,0,IF($C53<=SUM($AN53:AS53),0,IF(AK53+$C53-SUM($AN53:AS53)>T52+AB53,T52+AB53-AK53,$C53-SUM($AN53:AS53))))","v":0}]
["",{"$error":"#N/A"},"",null,0,0,0,0,0,0,0,null,0,0,0,0,0,0,0,0,null,0,0,0,0,0,0,0,0,null,{"$f":"IF(N53>0,IF((N53+V54)<E$10,N53+V54,E$10),0)","v":0},{"$f":"IF(O53>0,IF((O53+W54)<F$10,O53+W54,F$10),0)","v":0},{"$f":"IF(P53>0,IF((P53+X54)<G$10,P53+X54,G$10),0)","v":0},{"$f":"IF(Q53>0,IF((Q53+Y54)<H$10,Q53+Y54,H$10),0)","v":0},{"$f":"IF(R53>0,IF((R53+Z54)<I$10,R53+Z54,I$10),0)","v":0},{"$f":"IF(S53>0,IF((S53+AA54)<I$10,S53+AA54,I$10),0)","v":0},{"$f":"IF(T53>0,IF((T53+AB54)<#REF!,T53+AB54,#REF!),0)","v":0},0,null,0,{"$f":"IF(O53<=0,0,IF($C54<=SUM($AN54:AN54),0,IF(AF54+$C54-SUM($AN54:AN54)>O53+W54,O53+W54-AF54,$C54-SUM($AN54:AN54))))","v":0},{"$f":"IF(P53<=0,0,IF($C54<=SUM($AN54:AO54),0,IF(AG54+$C54-SUM($AN54:AO54)>P53+X54,P53+X54-AG54,$C54-SUM($AN54:AO54))))","v":0},{"$f":"IF(Q53<=0,0,IF($C54<=SUM($AN54:AP54),0,IF(AH54+$C54-SUM($AN54:AP54)>Q53+Y54,Q53+Y54-AH54,$C54-SUM($AN54:AP54))))","v":0},{"$f":"IF(R53<=0,0,IF($C54<=SUM($AN54:AQ54),0,IF(AI54+$C54-SUM($AN54:AQ54)>R53+Z54,R53+Z54-AI54,$C54-SUM($AN54:AQ54))))","v":0},{"$f":"IF(S53<=0,0,IF($C54<=SUM($AN54:AR54),0,IF(AJ54+$C54-SUM($AN54:AR54)>S53+AA54,S53+AA54-AJ54,$C54-SUM($AN54:AR54))))","v":0},{"$f":"IF(T53<=0,0,IF($C54<=SUM($AN54:AS54),0,IF(AK54+$C54-SUM($AN54:AS54)>T53+AB54,T53+AB54-AK54,$C54-SUM($AN54:AS54))))","v":0}]
["",{"$error":"#N/A"},"",null,0,0,0,0,0,0,0,null,0,0,0,0,0,0,0,0,null,0,0,0,0,0,0,0,0,null,0,0,0,0,0,0,{"$f":"IF(T54>0,IF((T54+AB55)<#REF!,T54+AB55,#REF!),0)","v":0},0,null,0,{"$f":"IF(O54<=0,0,IF($C55<=SUM($AN55:AN55),0,IF(AF55+$C55-SUM($AN55:AN55)>O54+W55,O54+W55-AF55,$C55-SUM($AN55:AN55))))","v":0},{"$f":"IF(P54<=0,0,IF($C55<=SUM($AN55:AO55),0,IF(AG55+$C55-SUM($AN55:AO55)>P54+X55,P54+X55-AG55,$C55-SUM($AN55:AO55))))","v":0},{"$f":"IF(Q54<=0,0,IF($C55<=SUM($AN55:AP55),0,IF(AH55+$C55-SUM($AN55:AP55)>Q54+Y55,Q54+Y55-AH55,$C55-SUM($AN55:AP55))))","v":0},{"$f":"IF(R54<=0,0,IF($C55<=SUM($AN55:AQ55),0,IF(AI55+$C55-SUM($AN55:AQ55)>R54+Z55,R54+Z55-AI55,$C55-SUM($AN55:AQ55))))","v":0},{"$f":"IF(S54<=0,0,IF($C55<=SUM($AN55:AR55),0,IF(AJ55+$C55-SUM($AN55:AR55)>S54+AA55,S54+AA55-AJ55,$C55-SUM($AN55:AR55))))","v":0},{"$f":"IF(T54<=0,0,IF($C55<=SUM($AN55:AS55),0,IF(AK55+$C55-SUM($AN55:AS55)>T54+AB55,T54+AB55-AK55,$C55-SUM($AN55:AS55))))","v":0}]
["",{"$error":"#N/A"},"",null,0,0,0,0,0,0,0,null,0,0,0,0,0,0,0,0,null,0,0,0,0,0,0,0,0,null,0,0,0,0,0,0,{"$f":"IF(T55>0,IF((T55+AB56)<#REF!,T55+AB56,#REF!),0)","v":0},0,null,0,{"$f":"IF(O55<=0,0,IF($C56<=SUM($AN56:AN56),0,IF(AF56+$C56-SUM($AN56:AN56)>O55+W56,O55+W56-AF56,$C56-SUM($AN56:AN56))))","v":0},{"$f":"IF(P55<=0,0,IF($C56<=SUM($AN56:AO56),0,IF(AG56+$C56-SUM($AN56:AO56)>P55+X56,P55+X56-AG56,$C56-SUM($AN56:AO56))))","v":0},{"$f":"IF(Q55<=0,0,IF($C56<=SUM($AN56:AP56),0,IF(AH56+$C56-SUM($AN56:AP56)>Q55+Y56,Q55+Y56-AH56,$C56-SUM($AN56:AP56))))","v":0},{"$f":"IF(R55<=0,0,IF($C56<=SUM($AN56:AQ56),0,IF(AI56+$C56-SUM($AN56:AQ56)>R55+Z56,R55+Z56-AI56,$C56-SUM($AN56:AQ56))))","v":0},{"$f":"IF(S55<=0,0,IF($C56<=SUM($AN56:AR56),0,IF(AJ56+$C56-SUM($AN56:AR56)>S55+AA56,S55+AA56-AJ56,$C56-SUM($AN56:AR56))))","v":0},{"$f":"IF(T55<=0,0,IF($C56<=SUM($AN56:AS56),0,IF(AK56+$C56-SUM($AN56:AS56)>T55+AB56,T55+AB56-AK56,$C56-SUM($AN56:AS56))))","v":0}]
["",{"$error":"#N/A"},"",null,0,0,0,0,0,0,0,null,0,0,0,0,0,0,0,0,null,0,0,0,0,0,0,0,0,null,0,0,0,0,0,0,{"$f":"IF(T56>0,IF((T56+AB57)<#REF!,T56+AB57,#REF!),0)","v":0},0,null,0,{"$f":"IF(O56<=0,0,IF($C57<=SUM($AN57:AN57),0,IF(AF57+$C57-SUM($AN57:AN57)>O56+W57,O56+W57-AF57,$C57-SUM($AN57:AN57))))","v":0},{"$f":"IF(P56<=0,0,IF($C57<=SUM($AN57:AO57),0,IF(AG57+$C57-SUM($AN57:AO57)>P56+X57,P56+X57-AG57,$C57-SUM($AN57:AO57))))","v":0},{"$f":"IF(Q56<=0,0,IF($C57<=SUM($AN57:AP57),0,IF(AH57+$C57-SUM($AN57:AP57)>Q56+Y57,Q56+Y57-AH57,$C57-SUM($AN57:AP57))))","v":0},{"$f":"IF(R56<=0,0,IF($C57<=SUM($AN57:AQ57),0,IF(AI57+$C57-SUM($AN57:AQ57)>R56+Z57,R56+Z57-AI57,$C57-SUM($AN57:AQ57))))","v":0},{"$f":"IF(S56<=0,0,IF($C57<=SUM($AN57:AR57),0,IF(AJ57+$C57-SUM($AN57:AR57)>S56+AA57,S56+AA57-AJ57,$C57-SUM($AN57:AR57))))","v":0},{"$f":"IF(T56<=0,0,IF($C57<=SUM($AN57:AS57),0,IF(AK57+$C57-SUM($AN57:AS57)>T56+AB57,T56+AB57-AK57,$C57-SUM($AN57:AS57))))","v":0}]
["",{"$error":"#N/A"},"",null,0,0,0,0,0,0,0,null,0,0,0,0,0,0,0,0,null,0,0,0,0,0,0,0,0,null,0,0,0,0,0,0,{"$f":"IF(T57>0,IF((T57+AB58)<#REF!,T57+AB58,#REF!),0)","v":0},0,null,0,{"$f":"IF(O57<=0,0,IF($C58<=SUM($AN58:AN58),0,IF(AF58+$C58-SUM($AN58:AN58)>O57+W58,O57+W58-AF58,$C58-SUM($AN58:AN58))))","v":0},{"$f":"IF(P57<=0,0,IF($C58<=SUM($AN58:AO58),0,IF(AG58+$C58-SUM($AN58:AO58)>P57+X58,P57+X58-AG58,$C58-SUM($AN58:AO58))))","v":0},{"$f":"IF(Q57<=0,0,IF($C58<=SUM($AN58:AP58),0,IF(AH58+$C58-SUM($AN58:AP58)>Q57+Y58,Q57+Y58-AH58,$C58-SUM($AN58:AP58))))","v":0},{"$f":"IF(R57<=0,0,IF($C58<=SUM($AN58:AQ58),0,IF(AI58+$C58-SUM($AN58:AQ58)>R57+Z58,R57+Z58-AI58,$C58-SUM($AN58:AQ58))))","v":0},{"$f":"IF(S57<=0,0,IF($C58<=SUM($AN58:AR58),0,IF(AJ58+$C58-SUM($AN58:AR58)>S57+AA58,S57+AA58-AJ58,$C58-SUM($AN58:AR58))))","v":0},{"$f":"IF(T57<=0,0,IF($C58<=SUM($AN58:AS58),0,IF(AK58+$C58-SUM($AN58:AS58)>T57+AB58,T57+AB58-AK58,$C58-SUM($AN58:AS58))))","v":0}]
["",{"$error":"#N/A"},"",null,0,0,0,0,0,0,0,null,0,0,0,0,0,0,0,0,null,0,0,0,0,0,0,0,0,null,0,0,0,0,0,0,{"$f":"IF(T58>0,IF((T58+AB59)<#REF!,T58+AB59,#REF!),0)","v":0},0,null,0,{"$f":"IF(O58<=0,0,IF($C59<=SUM($AN59:AN59),0,IF(AF59+$C59-SUM($AN59:AN59)>O58+W59,O58+W59-AF59,$C59-SUM($AN59:AN59))))","v":0},{"$f":"IF(P58<=0,0,IF($C59<=SUM($AN59:AO59),0,IF(AG59+$C59-SUM($AN59:AO59)>P58+X59,P58+X59-AG59,$C59-SUM($AN59:AO59))))","v":0},{"$f":"IF(Q58<=0,0,IF($C59<=SUM($AN59:AP59),0,IF(AH59+$C59-SUM($AN59:AP59)>Q58+Y59,Q58+Y59-AH59,$C59-SUM($AN59:AP59))))","v":0},{"$f":"IF(R58<=0,0,IF($C59<=SUM($AN59:AQ59),0,IF(AI59+$C59-SUM($AN59:AQ59)>R58+Z59,R58+Z59-AI59,$C59-SUM($AN59:AQ59))))","v":0},{"$f":"IF(S58<=0,0,IF($C59<=SUM($AN59:AR59),0,IF(AJ59+$C59-SUM($AN59:AR59)>S58+AA59,S58+AA59-AJ59,$C59-SUM($AN59:AR59))))","v":0},{"$f":"IF(T58<=0,0,IF($C59<=SUM($AN59:AS59),0,IF(AK59+$C59-SUM($AN59:AS59)>T58+AB59,T58+AB59-AK59,$C59-SUM($AN59:AS59))))","v":0}]
["",{"$error":"#N/A"},"",null,0,0,0,0,0,0,0,null,0,0,0,0,0,0,0,0,null,0,0,0,0,0,0,0,0,null,0,0,0,0,0,0,{"$f":"IF(T59>0,IF((T59+AB60)<#REF!,T59+AB60,#REF!),0)","v":0},0,null,0,{"$f":"IF(O59<=0,0,IF($C60<=SUM($AN60:AN60),0,IF(AF60+$C60-SUM($AN60:AN60)>O59+W60,O59+W60-AF60,$C60-SUM($AN60:AN60))))","v":0},{"$f":"IF(P59<=0,0,IF($C60<=SUM($AN60:AO60),0,IF(AG60+$C60-SUM($AN60:AO60)>P59+X60,P59+X60-AG60,$C60-SUM($AN60:AO60))))","v":0},{"$f":"IF(Q59<=0,0,IF($C60<=SUM($AN60:AP60),0,IF(AH60+$C60-SUM($AN60:AP60)>Q59+Y60,Q59+Y60-AH60,$C60-SUM($AN60:AP60))))","v":0},{"$f":"IF(R59<=0,0,IF($C60<=SUM($AN60:AQ60),0,IF(AI60+$C60-SUM($AN60:AQ60)>R59+Z60,R59+Z60-AI60,$C60-SUM($AN60:AQ60))))","v":0},{"$f":"IF(S59<=0,0,IF($C60<=SUM($AN60:AR60),0,IF(AJ60+$C60-SUM($AN60:AR60)>S59+AA60,S59+AA60-AJ60,$C60-SUM($AN60:AR60))))","v":0},{"$f":"IF(T59<=0,0,IF($C60<=SUM($AN60:AS60),0,IF(AK60+$C60-SUM($AN60:AS60)>T59+AB60,T59+AB60-AK60,$C60-SUM($AN60:AS60))))","v":0}]
["",{"$error":"#N/A"},"",null,0,0,0,0,0,0,0,null,0,0,0,0,0,0,0,0,null,0,0,0,0,0,0,0,0,null,0,0,0,0,0,0,{"$f":"IF(T60>0,IF((T60+AB61)<#REF!,T60+AB61,#REF!),0)","v":0},0,null,0,{"$f":"IF(O60<=0,0,IF($C61<=SUM($AN61:AN61),0,IF(AF61+$C61-SUM($AN61:AN61)>O60+W61,O60+W61-AF61,$C61-SUM($AN61:AN61))))","v":0},{"$f":"IF(P60<=0,0,IF($C61<=SUM($AN61:AO61),0,IF(AG61+$C61-SUM($AN61:AO61)>P60+X61,P60+X61-AG61,$C61-SUM($AN61:AO61))))","v":0},{"$f":"IF(Q60<=0,0,IF($C61<=SUM($AN61:AP61),0,IF(AH61+$C61-SUM($AN61:AP61)>Q60+Y61,Q60+Y61-AH61,$C61-SUM($AN61:AP61))))","v":0},{"$f":"IF(R60<=0,0,IF($C61<=SUM($AN61:AQ61),0,IF(AI61+$C61-SUM($AN61:AQ61)>R60+Z61,R60+Z61-AI61,$C61-SUM($AN61:AQ61))))","v":0},{"$f":"IF(S60<=0,0,IF($C61<=SUM($AN61:AR61),0,IF(AJ61+$C61-SUM($AN61:AR61)>S60+AA61,S60+AA61-AJ61,$C61-SUM($AN61:AR61))))","v":0},{"$f":"IF(T60<=0,0,IF($C61<=SUM($AN61:AS61),0,IF(AK61+$C61-SUM($AN61:AS61)>T60+AB61,T60+AB61-AK61,$C61-SUM($AN61:AS61))))","v":0}]
["",{"$error":"#N/A"},"",null,0,0,0,0,0,0,0,null,0,0,0,0,0,0,0,0,null,0,0,0,0,0,0,0,0,null,0,0,0,0,0,0,{"$f":"IF(T61>0,IF((T61+AB62)<#REF!,T61+AB62,#REF!),0)","v":0},0,null,0,{"$f":"IF(O61<=0,0,IF($C62<=SUM($AN62:AN62),0,IF(AF62+$C62-SUM($AN62:AN62)>O61+W62,O61+W62-AF62,$C62-SUM($AN62:AN62))))","v":0},{"$f":"IF(P61<=0,0,IF($C62<=SUM($AN62:AO62),0,IF(AG62+$C62-SUM($AN62:AO62)>P61+X62,P61+X62-AG62,$C62-SUM($AN62:AO62))))","v":0},{"$f":"IF(Q61<=0,0,IF($C62<=SUM($AN62:AP62),0,IF(AH62+$C62-SUM($AN62:AP62)>Q61+Y62,Q61+Y62-AH62,$C62-SUM($AN62:AP62))))","v":0},{"$f":"IF(R61<=0,0,IF($C62<=SUM($AN62:AQ62),0,IF(AI62+$C62-SUM($AN62:AQ62)>R61+Z62,R61+Z62-AI62,$C62-SUM($AN62:AQ62))))","v":0},{"$f":"IF(S61<=0,0,IF($C62<=SUM($AN62:AR62),0,IF(AJ62+$C62-SUM($AN62:AR62)>S61+AA62,S61+AA62-AJ62,$C62-SUM($AN62:AR62))))","v":0},{"$f":"IF(T61<=0,0,IF($C62<=SUM($AN62:AS62),0,IF(AK62+$C62-SUM($AN62:AS62)>T61+AB62,T61+AB62-AK62,$C62-SUM($AN62:AS62))))","v":0}]
["",{"$error":"#N/A"},"",null,0,0,0,0,0,0,0,null,0,0,0,0,0,0,0,0,null,0,0,0,0,0,0,0,0,null,0,0,0,0,0,0,{"$f":"IF(T62>0,IF((T62+AB63)<#REF!,T62+AB63,#REF!),0)","v":0},0,null,0,{"$f":"IF(O62<=0,0,IF($C63<=SUM($AN63:AN63),0,IF(AF63+$C63-SUM($AN63:AN63)>O62+W63,O62+W63-AF63,$C63-SUM($AN63:AN63))))","v":0},{"$f":"IF(P62<=0,0,IF($C63<=SUM($AN63:AO63),0,IF(AG63+$C63-SUM($AN63:AO63)>P62+X63,P62+X63-AG63,$C63-SUM($AN63:AO63))))","v":0},{"$f":"IF(Q62<=0,0,IF($C63<=SUM($AN63:AP63),0,IF(AH63+$C63-SUM($AN63:AP63)>Q62+Y63,Q62+Y63-AH63,$C63-SUM($AN63:AP63))))","v":0},{"$f":"IF(R62<=0,0,IF($C63<=SUM($AN63:AQ63),0,IF(AI63+$C63-SUM($AN63:AQ63)>R62+Z63,R62+Z63-AI63,$C63-SUM($AN63:AQ63))))","v":0},{"$f":"IF(S62<=0,0,IF($C63<=SUM($AN63:AR63),0,IF(AJ63+$C63-SUM($AN63:AR63)>S62+AA63,S62+AA63-AJ63,$C63-SUM($AN63:AR63))))","v":0},{"$f":"IF(T62<=0,0,IF($C63<=SUM($AN63:AS63),0,IF(AK63+$C63-SUM($AN63:AS63)>T62+AB63,T62+AB63-AK63,$C63-SUM($AN63:AS63))))","v":0}]
["",{"$error":"#N/A"},"",null,0,0,0,0,0,0,0,null,0,0,0,0,0,0,0,0,null,0,0,0,0,0,0,0,0,null,0,0,0,0,0,0,{"$f":"IF(T63>0,IF((T63+AB64)<#REF!,T63+AB64,#REF!),0)","v":0},0,null,0,{"$f":"IF(O63<=0,0,IF($C64<=SUM($AN64:AN64),0,IF(AF64+$C64-SUM($AN64:AN64)>O63+W64,O63+W64-AF64,$C64-SUM($AN64:AN64))))","v":0},{"$f":"IF(P63<=0,0,IF($C64<=SUM($AN64:AO64),0,IF(AG64+$C64-SUM($AN64:AO64)>P63+X64,P63+X64-AG64,$C64-SUM($AN64:AO64))))","v":0},{"$f":"IF(Q63<=0,0,IF($C64<=SUM($AN64:AP64),0,IF(AH64+$C64-SUM($AN64:AP64)>Q63+Y64,Q63+Y64-AH64,$C64-SUM($AN64:AP64))))","v":0},{"$f":"IF(R63<=0,0,IF($C64<=SUM($AN64:AQ64),0,IF(AI64+$C64-SUM($AN64:AQ64)>R63+Z64,R63+Z64-AI64,$C64-SUM($AN64:AQ64))))","v":0},{"$f":"IF(S63<=0,0,IF($C64<=SUM($AN64:AR64),0,IF(AJ64+$C64-SUM($AN64:AR64)>S63+AA64,S63+AA64-AJ64,$C64-SUM($AN64:AR64))))","v":0},{"$f":"IF(T63<=0,0,IF($C64<=SUM($AN64:AS64),0,IF(AK64+$C64-SUM($AN64:AS64)>T63+AB64,T63+AB64-AK64,$C64-SUM($AN64:AS64))))","v":0}]
["",{"$error":"#N/A"},"",null,0,0,0,0,0,0,0,null,0,0,0,0,0,0,0,0,null,0,0,0,0,0,0,0,0,null,0,0,0,0,0,0,{"$f":"IF(T64>0,IF((T64+AB65)<#REF!,T64+AB65,#REF!),0)","v":0},0,null,0,{"$f":"IF(O64<=0,0,IF($C65<=SUM($AN65:AN65),0,IF(AF65+$C65-SUM($AN65:AN65)>O64+W65,O64+W65-AF65,$C65-SUM($AN65:AN65))))","v":0},{"$f":"IF(P64<=0,0,IF($C65<=SUM($AN65:AO65),0,IF(AG65+$C65-SUM($AN65:AO65)>P64+X65,P64+X65-AG65,$C65-SUM($AN65:AO65))))","v":0},{"$f":"IF(Q64<=0,0,IF($C65<=SUM($AN65:AP65),0,IF(AH65+$C65-SUM($AN65:AP65)>Q64+Y65,Q64+Y65-AH65,$C65-SUM($AN65:AP65))))","v":0},{"$f":"IF(R64<=0,0,IF($C65<=SUM($AN65:AQ65),0,IF(AI65+$C65-SUM($AN65:AQ65)>R64+Z65,R64+Z65-AI65,$C65-SUM($AN65:AQ65))))","v":0},{"$f":"IF(S64<=0,0,IF($C65<=SUM($AN65:AR65),0,IF(AJ65+$C65-SUM($AN65:AR65)>S64+AA65,S64+AA65-AJ65,$C65-SUM($AN65:AR65))))","v":0},{"$f":"IF(T64<=0,0,IF($C65<=SUM($AN65:AS65),0,IF(AK65+$C65-SUM($AN65:AS65)>T64+AB65,T64+AB65-AK65,$C65-SUM($AN65:AS65))))","v":0}]
["",{"$error":"#N/A"},"",null,0,0,0,0,0,0,0,null,0,0,0,0,0,0,0,0,null,0,0,0,0,0,0,0,0,null,0,0,0,0,0,0,{"$f":"IF(T65>0,IF((T65+AB66)<#REF!,T65+AB66,#REF!),0)","v":0},0,null,0,{"$f":"IF(O65<=0,0,IF($C66<=SUM($AN66:AN66),0,IF(AF66+$C66-SUM($AN66:AN66)>O65+W66,O65+W66-AF66,$C66-SUM($AN66:AN66))))","v":0},{"$f":"IF(P65<=0,0,IF($C66<=SUM($AN66:AO66),0,IF(AG66+$C66-SUM($AN66:AO66)>P65+X66,P65+X66-AG66,$C66-SUM($AN66:AO66))))","v":0},{"$f":"IF(Q65<=0,0,IF($C66<=SUM($AN66:AP66),0,IF(AH66+$C66-SUM($AN66:AP66)>Q65+Y66,Q65+Y66-AH66,$C66-SUM($AN66:AP66))))","v":0},{"$f":"IF(R65<=0,0,IF($C66<=SUM($AN66:AQ66),0,IF(AI66+$C66-SUM($AN66:AQ66)>R65+Z66,R65+Z66-AI66,$C66-SUM($AN66:AQ66))))","v":0},{"$f":"IF(S65<=0,0,IF($C66<=SUM($AN66:AR66),0,IF(AJ66+$C66-SUM($AN66:AR66)>S65+AA66,S65+AA66-AJ66,$C66-SUM($AN66:AR66))))","v":0},{"$f":"IF(T65<=0,0,IF($C66<=SUM($AN66:AS66),0,IF(AK66+$C66-SUM($AN66:AS66)>T65+AB66,T65+AB66-AK66,$C66-SUM($AN66:AS66))))","v":0}]
["",{"$error":"#N/A"},"",null,0,0,0,0,0,0,0,null,0,0,0,0,0,0,0,0,null,0,0,0,0,0,0,0,0,null,0,0,0,0,0,0,{"$f":"IF(T66>0,IF((T66+AB67)<#REF!,T66+AB67,#REF!),0)","v":0},0,null,0,{"$f":"IF(O66<=0,0,IF($C67<=SUM($AN67:AN67),0,IF(AF67+$C67-SUM($AN67:AN67)>O66+W67,O66+W67-AF67,$C67-SUM($AN67:AN67))))","v":0},{"$f":"IF(P66<=0,0,IF($C67<=SUM($AN67:AO67),0,IF(AG67+$C67-SUM($AN67:AO67)>P66+X67,P66+X67-AG67,$C67-SUM($AN67:AO67))))","v":0},{"$f":"IF(Q66<=0,0,IF($C67<=SUM($AN67:AP67),0,IF(AH67+$C67-SUM($AN67:AP67)>Q66+Y67,Q66+Y67-AH67,$C67-SUM($AN67:AP67))))","v":0},{"$f":"IF(R66<=0,0,IF($C67<=SUM($AN67:AQ67),0,IF(AI67+$C67-SUM($AN67:AQ67)>R66+Z67,R66+Z67-AI67,$C67-SUM($AN67:AQ67))))","v":0},{"$f":"IF(S66<=0,0,IF($C67<=SUM($AN67:AR67),0,IF(AJ67+$C67-SUM($AN67:AR67)>S66+AA67,S66+AA67-AJ67,$C67-SUM($AN67:AR67))))","v":0},{"$f":"IF(T66<=0,0,IF($C67<=SUM($AN67:AS67),0,IF(AK67+$C67-SUM($AN67:AS67)>T66+AB67,T66+AB67-AK67,$C67-SUM($AN67:AS67))))","v":0}]
["",{"$error":"#N/A"},"",null,0,0,0,0,0,0,0,null,0,0,0,0,0,0,0,0,null,0,0,0,0,0,0,0,0,null,0,0,0,0,0,0,{"$f":"IF(T67>0,IF((T67+AB68)<#REF!,T67+AB68,#REF!),0)","v":0},0,null,0,{"$f":"IF(O67<=0,0,IF($C68<=SUM($AN68:AN68),0,IF(AF68+$C68-SUM($AN68:AN68)>O67+W68,O67+W68-AF68,$C68-SUM($AN68:AN68))))","v":0},{"$f":"IF(P67<=0,0,IF($C68<=SUM($AN68:AO68),0,IF(AG68+$C68-SUM($AN68:AO68)>P67+X68,P67+X68-AG68,$C68-SUM($AN68:AO68))))","v":0},{"$f":"IF(Q67<=0,0,IF($C68<=SUM($AN68:AP68),0,IF(AH68+$C68-SUM($AN68:AP68)>Q67+Y68,Q67+Y68-AH68,$C68-SUM($AN68:AP68))))","v":0},{"$f":"IF(R67<=0,0,IF($C68<=SUM($AN68:AQ68),0,IF(AI68+$C68-SUM($AN68:AQ68)>R67+Z68,R67+Z68-AI68,$C68-SUM($AN68:AQ68))))","v":0},{"$f":"IF(S67<=0,0,IF($C68<=SUM($AN68:AR68),0,IF(AJ68+$C68-SUM($AN68:AR68)>S67+AA68,S67+AA68-AJ68,$C68-SUM($AN68:AR68))))","v":0},{"$f":"IF(T67<=0,0,IF($C68<=SUM($AN68:AS68),0,IF(AK68+$C68-SUM($AN68:AS68)>T67+AB68,T67+AB68-AK68,$C68-SUM($AN68:AS68))))","v":0}]
["",{"$error":"#N/A"},"",null,0,0,0,0,0,0,0,null,0,0,0,0,0,0,0,0,null,0,0,0,0,0,0,0,0,null,0,0,0,0,0,0,{"$f":"IF(T68>0,IF((T68+AB69)<#REF!,T68+AB69,#REF!),0)","v":0},0,null,0,{"$f":"IF(O68<=0,0,IF($C69<=SUM($AN69:AN69),0,IF(AF69+$C69-SUM($AN69:AN69)>O68+W69,O68+W69-AF69,$C69-SUM($AN69:AN69))))","v":0},{"$f":"IF(P68<=0,0,IF($C69<=SUM($AN69:AO69),0,IF(AG69+$C69-SUM($AN69:AO69)>P68+X69,P68+X69-AG69,$C69-SUM($AN69:AO69))))","v":0},{"$f":"IF(Q68<=0,0,IF($C69<=SUM($AN69:AP69),0,IF(AH69+$C69-SUM($AN69:AP69)>Q68+Y69,Q68+Y69-AH69,$C69-SUM($AN69:AP69))))","v":0},{"$f":"IF(R68<=0,0,IF($C69<=SUM($AN69:AQ69),0,IF(AI69+$C69-SUM($AN69:AQ69)>R68+Z69,R68+Z69-AI69,$C69-SUM($AN69:AQ69))))","v":0},{"$f":"IF(S68<=0,0,IF($C69<=SUM($AN69:AR69),0,IF(AJ69+$C69-SUM($AN69:AR69)>S68+AA69,S68+AA69-AJ69,$C69-SUM($AN69:AR69))))","v":0},{"$f":"IF(T68<=0,0,IF($C69<=SUM($AN69:AS69),0,IF(AK69+$C69-SUM($AN69:AS69)>T68+AB69,T68+AB69-AK69,$C69-SUM($AN69:AS69))))","v":0}]
["",{"$error":"#N/A"},"",null,0,0,0,0,0,0,0,null,0,0,0,0,0,0,0,0,null,0,0,0,0,0,0,0,0,null,0,0,0,0,0,0,{"$f":"IF(T69>0,IF((T69+AB70)<#REF!,T69+AB70,#REF!),0)","v":0},0,null,0,{"$f":"IF(O69<=0,0,IF($C70<=SUM($AN70:AN70),0,IF(AF70+$C70-SUM($AN70:AN70)>O69+W70,O69+W70-AF70,$C70-SUM($AN70:AN70))))","v":0},{"$f":"IF(P69<=0,0,IF($C70<=SUM($AN70:AO70),0,IF(AG70+$C70-SUM($AN70:AO70)>P69+X70,P69+X70-AG70,$C70-SUM($AN70:AO70))))","v":0},{"$f":"IF(Q69<=0,0,IF($C70<=SUM($AN70:AP70),0,IF(AH70+$C70-SUM($AN70:AP70)>Q69+Y70,Q69+Y70-AH70,$C70-SUM($AN70:AP70))))","v":0},{"$f":"IF(R69<=0,0,IF($C70<=SUM($AN70:AQ70),0,IF(AI70+$C70-SUM($AN70:AQ70)>R69+Z70,R69+Z70-AI70,$C70-SUM($AN70:AQ70))))","v":0},{"$f":"IF(S69<=0,0,IF($C70<=SUM($AN70:AR70),0,IF(AJ70+$C70-SUM($AN70:AR70)>S69+AA70,S69+AA70-AJ70,$C70-SUM($AN70:AR70))))","v":0},{"$f":"IF(T69<=0,0,IF($C70<=SUM($AN70:AS70),0,IF(AK70+$C70-SUM($AN70:AS70)>T69+AB70,T69+AB70-AK70,$C70-SUM($AN70:AS70))))","v":0}]
["",{"$error":"#N/A"},"",null,0,0,0,0,0,0,0,null,0,0,0,0,0,0,0,0,null,0,0,0,0,0,0,0,0,null,0,0,0,0,0,0,{"$f":"IF(T70>0,IF((T70+AB71)<#REF!,T70+AB71,#REF!),0)","v":0},0,null,0,{"$f":"IF(O70<=0,0,IF($C71<=SUM($AN71:AN71),0,IF(AF71+$C71-SUM($AN71:AN71)>O70+W71,O70+W71-AF71,$C71-SUM($AN71:AN71))))","v":0},{"$f":"IF(P70<=0,0,IF($C71<=SUM($AN71:AO71),0,IF(AG71+$C71-SUM($AN71:AO71)>P70+X71,P70+X71-AG71,$C71-SUM($AN71:AO71))))","v":0},{"$f":"IF(Q70<=0,0,IF($C71<=SUM($AN71:AP71),0,IF(AH71+$C71-SUM($AN71:AP71)>Q70+Y71,Q70+Y71-AH71,$C71-SUM($AN71:AP71))))","v":0},{"$f":"IF(R70<=0,0,IF($C71<=SUM($AN71:AQ71),0,IF(AI71+$C71-SUM($AN71:AQ71)>R70+Z71,R70+Z71-AI71,$C71-SUM($AN71:AQ71))))","v":0},{"$f":"IF(S70<=0,0,IF($C71<=SUM($AN71:AR71),0,IF(AJ71+$C71-SUM($AN71:AR71)>S70+AA71,S70+AA71-AJ71,$C71-SUM($AN71:AR71))))","v":0},{"$f":"IF(T70<=0,0,IF($C71<=SUM($AN71:AS71),0,IF(AK71+$C71-SUM($AN71:AS71)>T70+AB71,T70+AB71-AK71,$C71-SUM($AN71:AS71))))","v":0}]
["",{"$error":"#N/A"},"",null,0,0,0,0,0,0,0,null,0,0,0,0,0,0,0,0,null,0,0,0,0,0,0,0,0,null,0,0,0,0,0,0,{"$f":"IF(T71>0,IF((T71+AB72)<#REF!,T71+AB72,#REF!),0)","v":0},0,null,0,{"$f":"IF(O71<=0,0,IF($C72<=SUM($AN72:AN72),0,IF(AF72+$C72-SUM($AN72:AN72)>O71+W72,O71+W72-AF72,$C72-SUM($AN72:AN72))))","v":0},{"$f":"IF(P71<=0,0,IF($C72<=SUM($AN72:AO72),0,IF(AG72+$C72-SUM($AN72:AO72)>P71+X72,P71+X72-AG72,$C72-SUM($AN72:AO72))))","v":0},{"$f":"IF(Q71<=0,0,IF($C72<=SUM($AN72:AP72),0,IF(AH72+$C72-SUM($AN72:AP72)>Q71+Y72,Q71+Y72-AH72,$C72-SUM($AN72:AP72))))","v":0},{"$f":"IF(R71<=0,0,IF($C72<=SUM($AN72:AQ72),0,IF(AI72+$C72-SUM($AN72:AQ72)>R71+Z72,R71+Z72-AI72,$C72-SUM($AN72:AQ72))))","v":0},{"$f":"IF(S71<=0,0,IF($C72<=SUM($AN72:AR72),0,IF(AJ72+$C72-SUM($AN72:AR72)>S71+AA72,S71+AA72-AJ72,$C72-SUM($AN72:AR72))))","v":0},{"$f":"IF(T71<=0,0,IF($C72<=SUM($AN72:AS72),0,IF(AK72+$C72-SUM($AN72:AS72)>T71+AB72,T71+AB72-AK72,$C72-SUM($AN72:AS72))))","v":0}]
["",{"$error":"#N/A"},"",null,0,0,0,0,0,0,0,null,0,0,0,0,0,0,0,0,null,0,0,0,0,0,0,0,0,null,0,0,0,0,0,0,{"$f":"IF(T72>0,IF((T72+AB73)<#REF!,T72+AB73,#REF!),0)","v":0},0,null,0,{"$f":"IF(O72<=0,0,IF($C73<=SUM($AN73:AN73),0,IF(AF73+$C73-SUM($AN73:AN73)>O72+W73,O72+W73-AF73,$C73-SUM($AN73:AN73))))","v":0},{"$f":"IF(P72<=0,0,IF($C73<=SUM($AN73:AO73),0,IF(AG73+$C73-SUM($AN73:AO73)>P72+X73,P72+X73-AG73,$C73-SUM($AN73:AO73))))","v":0},{"$f":"IF(Q72<=0,0,IF($C73<=SUM($AN73:AP73),0,IF(AH73+$C73-SUM($AN73:AP73)>Q72+Y73,Q72+Y73-AH73,$C73-SUM($AN73:AP73))))","v":0},{"$f":"IF(R72<=0,0,IF($C73<=SUM($AN73:AQ73),0,IF(AI73+$C73-SUM($AN73:AQ73)>R72+Z73,R72+Z73-AI73,$C73-SUM($AN73:AQ73))))","v":0},{"$f":"IF(S72<=0,0,IF($C73<=SUM($AN73:AR73),0,IF(AJ73+$C73-SUM($AN73:AR73)>S72+AA73,S72+AA73-AJ73,$C73-SUM($AN73:AR73))))","v":0},{"$f":"IF(T72<=0,0,IF($C73<=SUM($AN73:AS73),0,IF(AK73+$C73-SUM($AN73:AS73)>T72+AB73,T72+AB73-AK73,$C73-SUM($AN73:AS73))))","v":0}]
["",{"$error":"#N/A"},"",null,0,0,0,0,0,0,0,null,0,0,0,0,0,0,0,0,null,0,0,0,0,0,0,0,0,null,0,0,0,0,0,0,{"$f":"IF(T73>0,IF((T73+AB74)<#REF!,T73+AB74,#REF!),0)","v":0},0,null,0,{"$f":"IF(O73<=0,0,IF($C74<=SUM($AN74:AN74),0,IF(AF74+$C74-SUM($AN74:AN74)>O73+W74,O73+W74-AF74,$C74-SUM($AN74:AN74))))","v":0},{"$f":"IF(P73<=0,0,IF($C74<=SUM($AN74:AO74),0,IF(AG74+$C74-SUM($AN74:AO74)>P73+X74,P73+X74-AG74,$C74-SUM($AN74:AO74))))","v":0},{"$f":"IF(Q73<=0,0,IF($C74<=SUM($AN74:AP74),0,IF(AH74+$C74-SUM($AN74:AP74)>Q73+Y74,Q73+Y74-AH74,$C74-SUM($AN74:AP74))))","v":0},{"$f":"IF(R73<=0,0,IF($C74<=SUM($AN74:AQ74),0,IF(AI74+$C74-SUM($AN74:AQ74)>R73+Z74,R73+Z74-AI74,$C74-SUM($AN74:AQ74))))","v":0},{"$f":"IF(S73<=0,0,IF($C74<=SUM($AN74:AR74),0,IF(AJ74+$C74-SUM($AN74:AR74)>S73+AA74,S73+AA74-AJ74,$C74-SUM($AN74:AR74))))","v":0},{"$f":"IF(T73<=0,0,IF($C74<=SUM($AN74:AS74),0,IF(AK74+$C74-SUM($AN74:AS74)>T73+AB74,T73+AB74-AK74,$C74-SUM($AN74:AS74))))","v":0}]
["",{"$error":"#N/A"},"",null,0,0,0,0,0,0,0,null,0,0,0,0,0,0,0,0,null,0,0,0,0,0,0,0,0,null,0,0,0,0,0,0,{"$f":"IF(T74>0,IF((T74+AB75)<#REF!,T74+AB75,#REF!),0)","v":0},0,null,0,{"$f":"IF(O74<=0,0,IF($C75<=SUM($AN75:AN75),0,IF(AF75+$C75-SUM($AN75:AN75)>O74+W75,O74+W75-AF75,$C75-SUM($AN75:AN75))))","v":0},{"$f":"IF(P74<=0,0,IF($C75<=SUM($AN75:AO75),0,IF(AG75+$C75-SUM($AN75:AO75)>P74+X75,P74+X75-AG75,$C75-SUM($AN75:AO75))))","v":0},{"$f":"IF(Q74<=0,0,IF($C75<=SUM($AN75:AP75),0,IF(AH75+$C75-SUM($AN75:AP75)>Q74+Y75,Q74+Y75-AH75,$C75-SUM($AN75:AP75))))","v":0},{"$f":"IF(R74<=0,0,IF($C75<=SUM($AN75:AQ75),0,IF(AI75+$C75-SUM($AN75:AQ75)>R74+Z75,R74+Z75-AI75,$C75-SUM($AN75:AQ75))))","v":0},{"$f":"IF(S74<=0,0,IF($C75<=SUM($AN75:AR75),0,IF(AJ75+$C75-SUM($AN75:AR75)>S74+AA75,S74+AA75-AJ75,$C75-SUM($AN75:AR75))))","v":0},{"$f":"IF(T74<=0,0,IF($C75<=SUM($AN75:AS75),0,IF(AK75+$C75-SUM($AN75:AS75)>T74+AB75,T74+AB75-AK75,$C75-SUM($AN75:AS75))))","v":0}]
["",{"$error":"#N/A"},"",null,0,0,0,0,0,0,0,null,0,0,0,0,0,0,0,0,null,0,0,0,0,0,0,0,0,null,0,0,0,0,0,0,{"$f":"IF(T75>0,IF((T75+AB76)<#REF!,T75+AB76,#REF!),0)","v":0},0,null,0,{"$f":"IF(O75<=0,0,IF($C76<=SUM($AN76:AN76),0,IF(AF76+$C76-SUM($AN76:AN76)>O75+W76,O75+W76-AF76,$C76-SUM($AN76:AN76))))","v":0},{"$f":"IF(P75<=0,0,IF($C76<=SUM($AN76:AO76),0,IF(AG76+$C76-SUM($AN76:AO76)>P75+X76,P75+X76-AG76,$C76-SUM($AN76:AO76))))","v":0},{"$f":"IF(Q75<=0,0,IF($C76<=SUM($AN76:AP76),0,IF(AH76+$C76-SUM($AN76:AP76)>Q75+Y76,Q75+Y76-AH76,$C76-SUM($AN76:AP76))))","v":0},{"$f":"IF(R75<=0,0,IF($C76<=SUM($AN76:AQ76),0,IF(AI76+$C76-SUM($AN76:AQ76)>R75+Z76,R75+Z76-AI76,$C76-SUM($AN76:AQ76))))","v":0},{"$f":"IF(S75<=0,0,IF($C76<=SUM($AN76:AR76),0,IF(AJ76+$C76-SUM($AN76:AR76)>S75+AA76,S75+AA76-AJ76,$C76-SUM($AN76:AR76))))","v":0},{"$f":"IF(T75<=0,0,IF($C76<=SUM($AN76:AS76),0,IF(AK76+$C76-SUM($AN76:AS76)>T75+AB76,T75+AB76-AK76,$C76-SUM($AN76:AS76))))","v":0}]
["",{"$error":"#N/A"},"",null,0,0,0,0,0,0,0,null,0,0,0,0,0,0,0,0,null,0,0,0,0,0,0,0,0,null,0,0,0,0,0,0,{"$f":"IF(T76>0,IF((T76+AB77)<#REF!,T76+AB77,#REF!),0)","v":0},0,null,0,{"$f":"IF(O76<=0,0,IF($C77<=SUM($AN77:AN77),0,IF(AF77+$C77-SUM($AN77:AN77)>O76+W77,O76+W77-AF77,$C77-SUM($AN77:AN77))))","v":0},{"$f":"IF(P76<=0,0,IF($C77<=SUM($AN77:AO77),0,IF(AG77+$C77-SUM($AN77:AO77)>P76+X77,P76+X77-AG77,$C77-SUM($AN77:AO77))))","v":0},{"$f":"IF(Q76<=0,0,IF($C77<=SUM($AN77:AP77),0,IF(AH77+$C77-SUM($AN77:AP77)>Q76+Y77,Q76+Y77-AH77,$C77-SUM($AN77:AP77))))","v":0},{"$f":"IF(R76<=0,0,IF($C77<=SUM($AN77:AQ77),0,IF(AI77+$C77-SUM($AN77:AQ77)>R76+Z77,R76+Z77-AI77,$C77-SUM($AN77:AQ77))))","v":0},{"$f":"IF(S76<=0,0,IF($C77<=SUM($AN77:AR77),0,IF(AJ77+$C77-SUM($AN77:AR77)>S76+AA77,S76+AA77-AJ77,$C77-SUM($AN77:AR77))))","v":0},{"$f":"IF(T76<=0,0,IF($C77<=SUM($AN77:AS77),0,IF(AK77+$C77-SUM($AN77:AS77)>T76+AB77,T76+AB77-AK77,$C77-SUM($AN77:AS77))))","v":0}]
["",{"$error":"#N/A"},"",null,0,0,0,0,0,0,0,null,0,0,0,0,0,0,0,0,null,0,0,0,0,0,0,0,0,null,0,0,0,0,0,0,{"$f":"IF(T77>0,IF((T77+AB78)<#REF!,T77+AB78,#REF!),0)","v":0},0,null,0,{"$f":"IF(O77<=0,0,IF($C78<=SUM($AN78:AN78),0,IF(AF78+$C78-SUM($AN78:AN78)>O77+W78,O77+W78-AF78,$C78-SUM($AN78:AN78))))","v":0},{"$f":"IF(P77<=0,0,IF($C78<=SUM($AN78:AO78),0,IF(AG78+$C78-SUM($AN78:AO78)>P77+X78,P77+X78-AG78,$C78-SUM($AN78:AO78))))","v":0},{"$f":"IF(Q77<=0,0,IF($C78<=SUM($AN78:AP78),0,IF(AH78+$C78-SUM($AN78:AP78)>Q77+Y78,Q77+Y78-AH78,$C78-SUM($AN78:AP78))))","v":0},{"$f":"IF(R77<=0,0,IF($C78<=SUM($AN78:AQ78),0,IF(AI78+$C78-SUM($AN78:AQ78)>R77+Z78,R77+Z78-AI78,$C78-SUM($AN78:AQ78))))","v":0},{"$f":"IF(S77<=0,0,IF($C78<=SUM($AN78:AR78),0,IF(AJ78+$C78-SUM($AN78:AR78)>S77+AA78,S77+AA78-AJ78,$C78-SUM($AN78:AR78))))","v":0},{"$f":"IF(T77<=0,0,IF($C78<=SUM($AN78:AS78),0,IF(AK78+$C78-SUM($AN78:AS78)>T77+AB78,T77+AB78-AK78,$C78-SUM($AN78:AS78))))","v":0}]
["",{"$error":"#N/A"},"",null,0,0,0,0,0,0,0,null,0,0,0,0,0,0,0,0,null,0,0,0,0,0,0,0,0,null,0,0,0,0,0,0,{"$f":"IF(T78>0,IF((T78+AB79)<#REF!,T78+AB79,#REF!),0)","v":0},0,null,0,{"$f":"IF(O78<=0,0,IF($C79<=SUM($AN79:AN79),0,IF(AF79+$C79-SUM($AN79:AN79)>O78+W79,O78+W79-AF79,$C79-SUM($AN79:AN79))))","v":0},{"$f":"IF(P78<=0,0,IF($C79<=SUM($AN79:AO79),0,IF(AG79+$C79-SUM($AN79:AO79)>P78+X79,P78+X79-AG79,$C79-SUM($AN79:AO79))))","v":0},{"$f":"IF(Q78<=0,0,IF($C79<=SUM($AN79:AP79),0,IF(AH79+$C79-SUM($AN79:AP79)>Q78+Y79,Q78+Y79-AH79,$C79-SUM($AN79:AP79))))","v":0},{"$f":"IF(R78<=0,0,IF($C79<=SUM($AN79:AQ79),0,IF(AI79+$C79-SUM($AN79:AQ79)>R78+Z79,R78+Z79-AI79,$C79-SUM($AN79:AQ79))))","v":0},{"$f":"IF(S78<=0,0,IF($C79<=SUM($AN79:AR79),0,IF(AJ79+$C79-SUM($AN79:AR79)>S78+AA79,S78+AA79-AJ79,$C79-SUM($AN79:AR79))))","v":0},{"$f":"IF(T78<=0,0,IF($C79<=SUM($AN79:AS79),0,IF(AK79+$C79-SUM($AN79:AS79)>T78+AB79,T78+AB79-AK79,$C79-SUM($AN79:AS79))))","v":0}]
["",{"$error":"#N/A"},"",null,0,0,0,0,0,0,0,null,0,0,0,0,0,0,0,0,null,0,0,0,0,0,0,0,0,null,0,0,0,0,0,0,{"$f":"IF(T79>0,IF((T79+AB80)<#REF!,T79+AB80,#REF!),0)","v":0},0,null,0,{"$f":"IF(O79<=0,0,IF($C80<=SUM($AN80:AN80),0,IF(AF80+$C80-SUM($AN80:AN80)>O79+W80,O79+W80-AF80,$C80-SUM($AN80:AN80))))","v":0},{"$f":"IF(P79<=0,0,IF($C80<=SUM($AN80:AO80),0,IF(AG80+$C80-SUM($AN80:AO80)>P79+X80,P79+X80-AG80,$C80-SUM($AN80:AO80))))","v":0},{"$f":"IF(Q79<=0,0,IF($C80<=SUM($AN80:AP80),0,IF(AH80+$C80-SUM($AN80:AP80)>Q79+Y80,Q79+Y80-AH80,$C80-SUM($AN80:AP80))))","v":0},{"$f":"IF(R79<=0,0,IF($C80<=SUM($AN80:AQ80),0,IF(AI80+$C80-SUM($AN80:AQ80)>R79+Z80,R79+Z80-AI80,$C80-SUM($AN80:AQ80))))","v":0},{"$f":"IF(S79<=0,0,IF($C80<=SUM($AN80:AR80),0,IF(AJ80+$C80-SUM($AN80:AR80)>S79+AA80,S79+AA80-AJ80,$C80-SUM($AN80:AR80))))","v":0},{"$f":"IF(T79<=0,0,IF($C80<=SUM($AN80:AS80),0,IF(AK80+$C80-SUM($AN80:AS80)>T79+AB80,T79+AB80-AK80,$C80-SUM($AN80:AS80))))","v":0}]
["",{"$error":"#N/A"},"",null,0,0,0,0,0,0,0,null,0,0,0,0,0,0,0,0,null,0,0,0,0,0,0,0,0,null,0,0,0,0,0,0,{"$f":"IF(T80>0,IF((T80+AB81)<#REF!,T80+AB81,#REF!),0)","v":0},0,null,0,{"$f":"IF(O80<=0,0,IF($C81<=SUM($AN81:AN81),0,IF(AF81+$C81-SUM($AN81:AN81)>O80+W81,O80+W81-AF81,$C81-SUM($AN81:AN81))))","v":0},{"$f":"IF(P80<=0,0,IF($C81<=SUM($AN81:AO81),0,IF(AG81+$C81-SUM($AN81:AO81)>P80+X81,P80+X81-AG81,$C81-SUM($AN81:AO81))))","v":0},{"$f":"IF(Q80<=0,0,IF($C81<=SUM($AN81:AP81),0,IF(AH81+$C81-SUM($AN81:AP81)>Q80+Y81,Q80+Y81-AH81,$C81-SUM($AN81:AP81))))","v":0},{"$f":"IF(R80<=0,0,IF($C81<=SUM($AN81:AQ81),0,IF(AI81+$C81-SUM($AN81:AQ81)>R80+Z81,R80+Z81-AI81,$C81-SUM($AN81:AQ81))))","v":0},{"$f":"IF(S80<=0,0,IF($C81<=SUM($AN81:AR81),0,IF(AJ81+$C81-SUM($AN81:AR81)>S80+AA81,S80+AA81-AJ81,$C81-SUM($AN81:AR81))))","v":0},{"$f":"IF(T80<=0,0,IF($C81<=SUM($AN81:AS81),0,IF(AK81+$C81-SUM($AN81:AS81)>T80+AB81,T80+AB81-AK81,$C81-SUM($AN81:AS81))))","v":0}]
["",{"$error":"#N/A"},"",null,0,0,0,0,0,0,0,null,0,0,0,0,0,0,0,0,null,0,0,0,0,0,0,0,0,null,0,0,0,0,0,0,{"$f":"IF(T81>0,IF((T81+AB82)<#REF!,T81+AB82,#REF!),0)","v":0},0,null,0,{"$f":"IF(O81<=0,0,IF($C82<=SUM($AN82:AN82),0,IF(AF82+$C82-SUM($AN82:AN82)>O81+W82,O81+W82-AF82,$C82-SUM($AN82:AN82))))","v":0},{"$f":"IF(P81<=0,0,IF($C82<=SUM($AN82:AO82),0,IF(AG82+$C82-SUM($AN82:AO82)>P81+X82,P81+X82-AG82,$C82-SUM($AN82:AO82))))","v":0},{"$f":"IF(Q81<=0,0,IF($C82<=SUM($AN82:AP82),0,IF(AH82+$C82-SUM($AN82:AP82)>Q81+Y82,Q81+Y82-AH82,$C82-SUM($AN82:AP82))))","v":0},{"$f":"IF(R81<=0,0,IF($C82<=SUM($AN82:AQ82),0,IF(AI82+$C82-SUM($AN82:AQ82)>R81+Z82,R81+Z82-AI82,$C82-SUM($AN82:AQ82))))","v":0},{"$f":"IF(S81<=0,0,IF($C82<=SUM($AN82:AR82),0,IF(AJ82+$C82-SUM($AN82:AR82)>S81+AA82,S81+AA82-AJ82,$C82-SUM($AN82:AR82))))","v":0},{"$f":"IF(T81<=0,0,IF($C82<=SUM($AN82:AS82),0,IF(AK82+$C82-SUM($AN82:AS82)>T81+AB82,T81+AB82-AK82,$C82-SUM($AN82:AS82))))","v":0}]
["",{"$error":"#N/A"},"",null,0,0,0,0,0,0,0,null,0,0,0,0,0,0,0,0,null,0,0,0,0,0,0,0,0,null,0,0,0,0,0,0,{"$f":"IF(T82>0,IF((T82+AB83)<#REF!,T82+AB83,#REF!),0)","v":0},0,null,0,{"$f":"IF(O82<=0,0,IF($C83<=SUM($AN83:AN83),0,IF(AF83+$C83-SUM($AN83:AN83)>O82+W83,O82+W83-AF83,$C83-SUM($AN83:AN83))))","v":0},{"$f":"IF(P82<=0,0,IF($C83<=SUM($AN83:AO83),0,IF(AG83+$C83-SUM($AN83:AO83)>P82+X83,P82+X83-AG83,$C83-SUM($AN83:AO83))))","v":0},{"$f":"IF(Q82<=0,0,IF($C83<=SUM($AN83:AP83),0,IF(AH83+$C83-SUM($AN83:AP83)>Q82+Y83,Q82+Y83-AH83,$C83-SUM($AN83:AP83))))","v":0},{"$f":"IF(R82<=0,0,IF($C83<=SUM($AN83:AQ83),0,IF(AI83+$C83-SUM($AN83:AQ83)>R82+Z83,R82+Z83-AI83,$C83-SUM($AN83:AQ83))))","v":0},{"$f":"IF(S82<=0,0,IF($C83<=SUM($AN83:AR83),0,IF(AJ83+$C83-SUM($AN83:AR83)>S82+AA83,S82+AA83-AJ83,$C83-SUM($AN83:AR83))))","v":0},{"$f":"IF(T82<=0,0,IF($C83<=SUM($AN83:AS83),0,IF(AK83+$C83-SUM($AN83:AS83)>T82+AB83,T82+AB83-AK83,$C83-SUM($AN83:AS83))))","v":0}]
["",{"$error":"#N/A"},"",null,0,0,0,0,0,0,0,null,{"$f":"SUM(N84:T84)","v":0},0,0,0,0,0,0,0,null,0,0,0,0,0,0,0,0,null,0,0,0,0,0,0,{"$f":"IF(T83>0,IF((T83+AB84)<#REF!,T83+AB84,#REF!),0)","v":0},0,null,0,{"$f":"IF(O83<=0,0,IF($C84<=SUM($AN84:AN84),0,IF(AF84+$C84-SUM($AN84:AN84)>O83+W84,O83+W84-AF84,$C84-SUM($AN84:AN84))))","v":0},{"$f":"IF(P83<=0,0,IF($C84<=SUM($AN84:AO84),0,IF(AG84+$C84-SUM($AN84:AO84)>P83+X84,P83+X84-AG84,$C84-SUM($AN84:AO84))))","v":0},{"$f":"IF(Q83<=0,0,IF($C84<=SUM($AN84:AP84),0,IF(AH84+$C84-SUM($AN84:AP84)>Q83+Y84,Q83+Y84-AH84,$C84-SUM($AN84:AP84))))","v":0},{"$f":"IF(R83<=0,0,IF($C84<=SUM($AN84:AQ84),0,IF(AI84+$C84-SUM($AN84:AQ84)>R83+Z84,R83+Z84-AI84,$C84-SUM($AN84:AQ84))))","v":0},{"$f":"IF(S83<=0,0,IF($C84<=SUM($AN84:AR84),0,IF(AJ84+$C84-SUM($AN84:AR84)>S83+AA84,S83+AA84-AJ84,$C84-SUM($AN84:AR84))))","v":0},{"$f":"IF(T83<=0,0,IF($C84<=SUM($AN84:AS84),0,IF(AK84+$C84-SUM($AN84:AS84)>T83+AB84,T83+AB84-AK84,$C84-SUM($AN84:AS84))))","v":0}]
[{"$f":"IF(SUM(N84:T84)<=0,\"\",A84+1)","v":""},{"$error":"#N/A"},"",null,{"$f":"AE85+AN85","v":0},{"$f":"AF85+AO85","v":0},{"$f":"AG85+AP85","v":0},{"$f":"AH85+AQ85","v":0},{"$f":"AI85+AR85","v":0},{"$f":"AJ85+AS85","v":0},{"$f":"AK85+AT85","v":0},null,0,{"$f":"IF(D$8=0,0,ROUND(N84-(E85-V85),2))","v":0},{"$f":"IF(E$8=0,0,ROUND(O84-(F85-W85),2))","v":0},{"$f":"IF(F$8=0,0,ROUND(P84-(G85-X85),2))","v":0},{"$f":"IF(G$8=0,0,ROUND(Q84-(H85-Y85),2))","v":0},{"$f":"IF(H$8=0,0,ROUND(R84-(I85-Z85),2))","v":0},{"$f":"IF(I$8=0,0,ROUND(S84-(J85-AA85),2))","v":0},{"$f":"IF(J$8=0,0,ROUND(T84-(K85-AB85),2))","v":0},null,{"$f":"ROUND(N84*E$9/12,2)","v":0},{"$f":"ROUND(O84*F$9/12,2)","v":0},{"$f":"ROUND(P84*G$9/12,2)","v":0},{"$f":"ROUND(Q84*H$9/12,2)","v":0},{"$f":"ROUND(R84*I$9/12,2)","v":0},{"$f":"ROUND(S84*J$9/12,2)","v":0},{"$f":"ROUND(T84*K$9/12,2)","v":0},0,null,0,0,0,0,0,0,{"$f":"IF(T84>0,IF((T84+AB85)<#REF!,T84+AB85,#REF!),0)","v":0},{"$f":"SUM(AE85:AK85)","v":0},null,{"$f":"IF(N84<=0,0,IF(AE85+$C85>N84+V85,N84+V85-AE85,$C85))","v":0},{"$f":"IF(O84<=0,0,IF($C85<=SUM($AN85:AN85),0,IF(AF85+$C85-SUM($AN85:AN85)>O84+W85,O84+W85-AF85,$C85-SUM($AN85:AN85))))","v":0},{"$f":"IF(P84<=0,0,IF($C85<=SUM($AN85:AO85),0,IF(AG85+$C85-SUM($AN85:AO85)>P84+X85,P84+X85-AG85,$C85-SUM($AN85:AO85))))","v":0},{"$f":"IF(Q84<=0,0,IF($C85<=SUM($AN85:AP85),0,IF(AH85+$C85-SUM($AN85:AP85)>Q84+Y85,Q84+Y85-AH85,$C85-SUM($AN85:AP85))))","v":0},{"$f":"IF(R84<=0,0,IF($C85<=SUM($AN85:AQ85),0,IF(AI85+$C85-SUM($AN85:AQ85)>R84+Z85,R84+Z85-AI85,$C85-SUM($AN85:AQ85))))","v":0},{"$f":"IF(S84<=0,0,IF($C85<=SUM($AN85:AR85),0,IF(AJ85+$C85-SUM($AN85:AR85)>S84+AA85,S84+AA85-AJ85,$C85-SUM($AN85:AR85))))","v":0},{"$f":"IF(T84<=0,0,IF($C85<=SUM($AN85:AS85),0,IF(AK85+$C85-SUM($AN85:AS85)>T84+AB85,T84+AB85-AK85,$C85-SUM($AN85:AS85))))","v":0}]
["",{"$f":"IF(A86=\"\",NA(),DATE(YEAR(B85),MONTH(B85)+1,1))","v":{"$error":"#N/A"}},"",null,0,0,0,0,0,0,0,null,0,0,0,0,0,0,0,0,null,0,0,0,0,0,0,0,{"$f":"SUM(V86:AB86)","v":0},null,{"$f":"IF(N85>0,IF((N85+V86)<E$10,N85+V86,E$10),0)","v":0},{"$f":"IF(O85>0,IF((O85+W86)<F$10,O85+W86,F$10),0)","v":0},{"$f":"IF(P85>0,IF((P85+X86)<G$10,P85+X86,G$10),0)","v":0},{"$f":"IF(Q85>0,IF((Q85+Y86)<H$10,Q85+Y86,H$10),0)","v":0},{"$f":"IF(R85>0,IF((R85+Z86)<I$10,R85+Z86,I$10),0)","v":0},{"$f":"IF(S85>0,IF((S85+AA86)<I$10,S85+AA86,I$10),0)","v":0},{"$f":"IF(T85>0,IF((T85+AB86)<#REF!,T85+AB86,#REF!),0)","v":0},0,null,0,{"$f":"IF(O85<=0,0,IF($C86<=SUM($AN86:AN86),0,IF(AF86+$C86-SUM($AN86:AN86)>O85+W86,O85+W86-AF86,$C86-SUM($AN86:AN86))))","v":0},{"$f":"IF(P85<=0,0,IF($C86<=SUM($AN86:AO86),0,IF(AG86+$C86-SUM($AN86:AO86)>P85+X86,P85+X86-AG86,$C86-SUM($AN86:AO86))))","v":0},{"$f":"IF(Q85<=0,0,IF($C86<=SUM($AN86:AP86),0,IF(AH86+$C86-SUM($AN86:AP86)>Q85+Y86,Q85+Y86-AH86,$C86-SUM($AN86:AP86))))","v":0},{"$f":"IF(R85<=0,0,IF($C86<=SUM($AN86:AQ86),0,IF(AI86+$C86-SUM($AN86:AQ86)>R85+Z86,R85+Z86-AI86,$C86-SUM($AN86:AQ86))))","v":0},{"$f":"IF(S85<=0,0,IF($C86<=SUM($AN86:AR86),0,IF(AJ86+$C86-SUM($AN86:AR86)>S85+AA86,S85+AA86-AJ86,$C86-SUM($AN86:AR86))))","v":0},{"$f":"IF(T85<=0,0,IF($C86<=SUM($AN86:AS86),0,IF(AK86+$C86-SUM($AN86:AS86)>T85+AB86,T85+AB86-AK86,$C86-SUM($AN86:AS86))))","v":0}]
["",{"$error":"#N/A"},"",null,0,0,0,0,0,0,0,null,0,0,0,0,0,0,0,0,null,0,0,0,0,0,0,0,0,null,0,0,0,0,0,0,{"$f":"IF(T86>0,IF((T86+AB87)<#REF!,T86+AB87,#REF!),0)","v":0},0,null,0,{"$f":"IF(O86<=0,0,IF($C87<=SUM($AN87:AN87),0,IF(AF87+$C87-SUM($AN87:AN87)>O86+W87,O86+W87-AF87,$C87-SUM($AN87:AN87))))","v":0},{"$f":"IF(P86<=0,0,IF($C87<=SUM($AN87:AO87),0,IF(AG87+$C87-SUM($AN87:AO87)>P86+X87,P86+X87-AG87,$C87-SUM($AN87:AO87))))","v":0},{"$f":"IF(Q86<=0,0,IF($C87<=SUM($AN87:AP87),0,IF(AH87+$C87-SUM($AN87:AP87)>Q86+Y87,Q86+Y87-AH87,$C87-SUM($AN87:AP87))))","v":0},{"$f":"IF(R86<=0,0,IF($C87<=SUM($AN87:AQ87),0,IF(AI87+$C87-SUM($AN87:AQ87)>R86+Z87,R86+Z87-AI87,$C87-SUM($AN87:AQ87))))","v":0},{"$f":"IF(S86<=0,0,IF($C87<=SUM($AN87:AR87),0,IF(AJ87+$C87-SUM($AN87:AR87)>S86+AA87,S86+AA87-AJ87,$C87-SUM($AN87:AR87))))","v":0},{"$f":"IF(T86<=0,0,IF($C87<=SUM($AN87:AS87),0,IF(AK87+$C87-SUM($AN87:AS87)>T86+AB87,T86+AB87-AK87,$C87-SUM($AN87:AS87))))","v":0}]
["",{"$error":"#N/A"},"",null,0,0,0,0,0,0,0,null,0,0,0,0,0,0,0,0,null,0,0,0,0,0,0,0,0,null,0,0,0,0,0,0,{"$f":"IF(T87>0,IF((T87+AB88)<#REF!,T87+AB88,#REF!),0)","v":0},0,null,0,{"$f":"IF(O87<=0,0,IF($C88<=SUM($AN88:AN88),0,IF(AF88+$C88-SUM($AN88:AN88)>O87+W88,O87+W88-AF88,$C88-SUM($AN88:AN88))))","v":0},{"$f":"IF(P87<=0,0,IF($C88<=SUM($AN88:AO88),0,IF(AG88+$C88-SUM($AN88:AO88)>P87+X88,P87+X88-AG88,$C88-SUM($AN88:AO88))))","v":0},{"$f":"IF(Q87<=0,0,IF($C88<=SUM($AN88:AP88),0,IF(AH88+$C88-SUM($AN88:AP88)>Q87+Y88,Q87+Y88-AH88,$C88-SUM($AN88:AP88))))","v":0},{"$f":"IF(R87<=0,0,IF($C88<=SUM($AN88:AQ88),0,IF(AI88+$C88-SUM($AN88:AQ88)>R87+Z88,R87+Z88-AI88,$C88-SUM($AN88:AQ88))))","v":0},{"$f":"IF(S87<=0,0,IF($C88<=SUM($AN88:AR88),0,IF(AJ88+$C88-SUM($AN88:AR88)>S87+AA88,S87+AA88-AJ88,$C88-SUM($AN88:AR88))))","v":0},{"$f":"IF(T87<=0,0,IF($C88<=SUM($AN88:AS88),0,IF(AK88+$C88-SUM($AN88:AS88)>T87+AB88,T87+AB88-AK88,$C88-SUM($AN88:AS88))))","v":0}]
["",{"$error":"#N/A"},"",null,0,0,0,0,0,0,0,null,0,0,0,0,0,0,0,0,null,0,0,0,0,0,0,0,0,null,0,0,0,0,0,0,{"$f":"IF(T88>0,IF((T88+AB89)<#REF!,T88+AB89,#REF!),0)","v":0},0,null,0,{"$f":"IF(O88<=0,0,IF($C89<=SUM($AN89:AN89),0,IF(AF89+$C89-SUM($AN89:AN89)>O88+W89,O88+W89-AF89,$C89-SUM($AN89:AN89))))","v":0},{"$f":"IF(P88<=0,0,IF($C89<=SUM($AN89:AO89),0,IF(AG89+$C89-SUM($AN89:AO89)>P88+X89,P88+X89-AG89,$C89-SUM($AN89:AO89))))","v":0},{"$f":"IF(Q88<=0,0,IF($C89<=SUM($AN89:AP89),0,IF(AH89+$C89-SUM($AN89:AP89)>Q88+Y89,Q88+Y89-AH89,$C89-SUM($AN89:AP89))))","v":0},{"$f":"IF(R88<=0,0,IF($C89<=SUM($AN89:AQ89),0,IF(AI89+$C89-SUM($AN89:AQ89)>R88+Z89,R88+Z89-AI89,$C89-SUM($AN89:AQ89))))","v":0},{"$f":"IF(S88<=0,0,IF($C89<=SUM($AN89:AR89),0,IF(AJ89+$C89-SUM($AN89:AR89)>S88+AA89,S88+AA89-AJ89,$C89-SUM($AN89:AR89))))","v":0},{"$f":"IF(T88<=0,0,IF($C89<=SUM($AN89:AS89),0,IF(AK89+$C89-SUM($AN89:AS89)>T88+AB89,T88+AB89-AK89,$C89-SUM($AN89:AS89))))","v":0}]
["",{"$error":"#N/A"},"",null,0,0,0,0,0,0,0,null,0,0,0,0,0,0,0,0,null,0,0,0,0,0,0,0,0,null,0,0,0,0,0,0,{"$f":"IF(T89>0,IF((T89+AB90)<#REF!,T89+AB90,#REF!),0)","v":0},0,null,0,{"$f":"IF(O89<=0,0,IF($C90<=SUM($AN90:AN90),0,IF(AF90+$C90-SUM($AN90:AN90)>O89+W90,O89+W90-AF90,$C90-SUM($AN90:AN90))))","v":0},{"$f":"IF(P89<=0,0,IF($C90<=SUM($AN90:AO90),0,IF(AG90+$C90-SUM($AN90:AO90)>P89+X90,P89+X90-AG90,$C90-SUM($AN90:AO90))))","v":0},{"$f":"IF(Q89<=0,0,IF($C90<=SUM($AN90:AP90),0,IF(AH90+$C90-SUM($AN90:AP90)>Q89+Y90,Q89+Y90-AH90,$C90-SUM($AN90:AP90))))","v":0},{"$f":"IF(R89<=0,0,IF($C90<=SUM($AN90:AQ90),0,IF(AI90+$C90-SUM($AN90:AQ90)>R89+Z90,R89+Z90-AI90,$C90-SUM($AN90:AQ90))))","v":0},{"$f":"IF(S89<=0,0,IF($C90<=SUM($AN90:AR90),0,IF(AJ90+$C90-SUM($AN90:AR90)>S89+AA90,S89+AA90-AJ90,$C90-SUM($AN90:AR90))))","v":0},{"$f":"IF(T89<=0,0,IF($C90<=SUM($AN90:AS90),0,IF(AK90+$C90-SUM($AN90:AS90)>T89+AB90,T89+AB90-AK90,$C90-SUM($AN90:AS90))))","v":0}]
["",{"$error":"#N/A"},"",null,0,0,0,0,0,0,0,null,0,0,0,0,0,0,0,0,null,0,0,0,0,0,0,0,0,null,0,0,0,0,0,0,{"$f":"IF(T90>0,IF((T90+AB91)<#REF!,T90+AB91,#REF!),0)","v":0},0,null,0,{"$f":"IF(O90<=0,0,IF($C91<=SUM($AN91:AN91),0,IF(AF91+$C91-SUM($AN91:AN91)>O90+W91,O90+W91-AF91,$C91-SUM($AN91:AN91))))","v":0},{"$f":"IF(P90<=0,0,IF($C91<=SUM($AN91:AO91),0,IF(AG91+$C91-SUM($AN91:AO91)>P90+X91,P90+X91-AG91,$C91-SUM($AN91:AO91))))","v":0},{"$f":"IF(Q90<=0,0,IF($C91<=SUM($AN91:AP91),0,IF(AH91+$C91-SUM($AN91:AP91)>Q90+Y91,Q90+Y91-AH91,$C91-SUM($AN91:AP91))))","v":0},{"$f":"IF(R90<=0,0,IF($C91<=SUM($AN91:AQ91),0,IF(AI91+$C91-SUM($AN91:AQ91)>R90+Z91,R90+Z91-AI91,$C91-SUM($AN91:AQ91))))","v":0},{"$f":"IF(S90<=0,0,IF($C91<=SUM($AN91:AR91),0,IF(AJ91+$C91-SUM($AN91:AR91)>S90+AA91,S90+AA91-AJ91,$C91-SUM($AN91:AR91))))","v":0},{"$f":"IF(T90<=0,0,IF($C91<=SUM($AN91:AS91),0,IF(AK91+$C91-SUM($AN91:AS91)>T90+AB91,T90+AB91-AK91,$C91-SUM($AN91:AS91))))","v":0}]
["",{"$error":"#N/A"},"",null,0,0,0,0,0,0,0,null,0,0,0,0,0,0,0,0,null,0,0,0,0,0,0,0,0,null,0,0,0,0,0,0,{"$f":"IF(T91>0,IF((T91+AB92)<#REF!,T91+AB92,#REF!),0)","v":0},0,null,0,{"$f":"IF(O91<=0,0,IF($C92<=SUM($AN92:AN92),0,IF(AF92+$C92-SUM($AN92:AN92)>O91+W92,O91+W92-AF92,$C92-SUM($AN92:AN92))))","v":0},{"$f":"IF(P91<=0,0,IF($C92<=SUM($AN92:AO92),0,IF(AG92+$C92-SUM($AN92:AO92)>P91+X92,P91+X92-AG92,$C92-SUM($AN92:AO92))))","v":0},{"$f":"IF(Q91<=0,0,IF($C92<=SUM($AN92:AP92),0,IF(AH92+$C92-SUM($AN92:AP92)>Q91+Y92,Q91+Y92-AH92,$C92-SUM($AN92:AP92))))","v":0},{"$f":"IF(R91<=0,0,IF($C92<=SUM($AN92:AQ92),0,IF(AI92+$C92-SUM($AN92:AQ92)>R91+Z92,R91+Z92-AI92,$C92-SUM($AN92:AQ92))))","v":0},{"$f":"IF(S91<=0,0,IF($C92<=SUM($AN92:AR92),0,IF(AJ92+$C92-SUM($AN92:AR92)>S91+AA92,S91+AA92-AJ92,$C92-SUM($AN92:AR92))))","v":0},{"$f":"IF(T91<=0,0,IF($C92<=SUM($AN92:AS92),0,IF(AK92+$C92-SUM($AN92:AS92)>T91+AB92,T91+AB92-AK92,$C92-SUM($AN92:AS92))))","v":0}]
["",{"$error":"#N/A"},"",null,0,0,0,0,0,0,0,null,0,0,0,0,0,0,0,0,null,0,0,0,0,0,0,0,0,null,0,0,0,0,0,0,{"$f":"IF(T92>0,IF((T92+AB93)<#REF!,T92+AB93,#REF!),0)","v":0},0,null,0,{"$f":"IF(O92<=0,0,IF($C93<=SUM($AN93:AN93),0,IF(AF93+$C93-SUM($AN93:AN93)>O92+W93,O92+W93-AF93,$C93-SUM($AN93:AN93))))","v":0},{"$f":"IF(P92<=0,0,IF($C93<=SUM($AN93:AO93),0,IF(AG93+$C93-SUM($AN93:AO93)>P92+X93,P92+X93-AG93,$C93-SUM($AN93:AO93))))","v":0},{"$f":"IF(Q92<=0,0,IF($C93<=SUM($AN93:AP93),0,IF(AH93+$C93-SUM($AN93:AP93)>Q92+Y93,Q92+Y93-AH93,$C93-SUM($AN93:AP93))))","v":0},{"$f":"IF(R92<=0,0,IF($C93<=SUM($AN93:AQ93),0,IF(AI93+$C93-SUM($AN93:AQ93)>R92+Z93,R92+Z93-AI93,$C93-SUM($AN93:AQ93))))","v":0},{"$f":"IF(S92<=0,0,IF($C93<=SUM($AN93:AR93),0,IF(AJ93+$C93-SUM($AN93:AR93)>S92+AA93,S92+AA93-AJ93,$C93-SUM($AN93:AR93))))","v":0},{"$f":"IF(T92<=0,0,IF($C93<=SUM($AN93:AS93),0,IF(AK93+$C93-SUM($AN93:AS93)>T92+AB93,T92+AB93-AK93,$C93-SUM($AN93:AS93))))","v":0}]
["",{"$error":"#N/A"},"",null,0,0,0,0,0,0,0,null,0,0,0,0,0,0,0,0,null,0,0,0,0,0,0,0,0,null,0,0,0,0,0,0,{"$f":"IF(T93>0,IF((T93+AB94)<#REF!,T93+AB94,#REF!),0)","v":0},0,null,0,{"$f":"IF(O93<=0,0,IF($C94<=SUM($AN94:AN94),0,IF(AF94+$C94-SUM($AN94:AN94)>O93+W94,O93+W94-AF94,$C94-SUM($AN94:AN94))))","v":0},{"$f":"IF(P93<=0,0,IF($C94<=SUM($AN94:AO94),0,IF(AG94+$C94-SUM($AN94:AO94)>P93+X94,P93+X94-AG94,$C94-SUM($AN94:AO94))))","v":0},{"$f":"IF(Q93<=0,0,IF($C94<=SUM($AN94:AP94),0,IF(AH94+$C94-SUM($AN94:AP94)>Q93+Y94,Q93+Y94-AH94,$C94-SUM($AN94:AP94))))","v":0},{"$f":"IF(R93<=0,0,IF($C94<=SUM($AN94:AQ94),0,IF(AI94+$C94-SUM($AN94:AQ94)>R93+Z94,R93+Z94-AI94,$C94-SUM($AN94:AQ94))))","v":0},{"$f":"IF(S93<=0,0,IF($C94<=SUM($AN94:AR94),0,IF(AJ94+$C94-SUM($AN94:AR94)>S93+AA94,S93+AA94-AJ94,$C94-SUM($AN94:AR94))))","v":0},{"$f":"IF(T93<=0,0,IF($C94<=SUM($AN94:AS94),0,IF(AK94+$C94-SUM($AN94:AS94)>T93+AB94,T93+AB94-AK94,$C94-SUM($AN94:AS94))))","v":0}]
["",{"$error":"#N/A"},"",null,0,0,0,0,0,0,0,null,0,0,0,0,0,0,0,0,null,0,0,0,0,0,0,0,0,null,0,0,0,0,0,0,{"$f":"IF(T94>0,IF((T94+AB95)<#REF!,T94+AB95,#REF!),0)","v":0},0,null,0,{"$f":"IF(O94<=0,0,IF($C95<=SUM($AN95:AN95),0,IF(AF95+$C95-SUM($AN95:AN95)>O94+W95,O94+W95-AF95,$C95-SUM($AN95:AN95))))","v":0},{"$f":"IF(P94<=0,0,IF($C95<=SUM($AN95:AO95),0,IF(AG95+$C95-SUM($AN95:AO95)>P94+X95,P94+X95-AG95,$C95-SUM($AN95:AO95))))","v":0},{"$f":"IF(Q94<=0,0,IF($C95<=SUM($AN95:AP95),0,IF(AH95+$C95-SUM($AN95:AP95)>Q94+Y95,Q94+Y95-AH95,$C95-SUM($AN95:AP95))))","v":0},{"$f":"IF(R94<=0,0,IF($C95<=SUM($AN95:AQ95),0,IF(AI95+$C95-SUM($AN95:AQ95)>R94+Z95,R94+Z95-AI95,$C95-SUM($AN95:AQ95))))","v":0},{"$f":"IF(S94<=0,0,IF($C95<=SUM($AN95:AR95),0,IF(AJ95+$C95-SUM($AN95:AR95)>S94+AA95,S94+AA95-AJ95,$C95-SUM($AN95:AR95))))","v":0},{"$f":"IF(T94<=0,0,IF($C95<=SUM($AN95:AS95),0,IF(AK95+$C95-SUM($AN95:AS95)>T94+AB95,T94+AB95-AK95,$C95-SUM($AN95:AS95))))","v":0}]
["",{"$f":"IF(A96=\"\",NA(),DATE(YEAR(B95),MONTH(B95)+1,1))","v":{"$error":"#N/A"}},"",null,{"$f":"AE96+AN96","v":0},{"$f":"AF96+AO96","v":0},{"$f":"AG96+AP96","v":0},{"$f":"AH96+AQ96","v":0},{"$f":"AI96+AR96","v":0},{"$f":"AJ96+AS96","v":0},{"$f":"AK96+AT96","v":0},null,{"$f":"SUM(N96:T96)","v":0},0,0,0,0,0,0,0,null,0,0,0,0,0,0,0,{"$f":"SUM(V96:AB96)","v":0},null,0,0,0,0,0,0,{"$f":"IF(T95>0,IF((T95+AB96)<#REF!,T95+AB96,#REF!),0)","v":0},{"$f":"SUM(AE96:AK96)","v":0},null,{"$f":"IF(N95<=0,0,IF(AE96+$C96>N95+V96,N95+V96-AE96,$C96))","v":0},{"$f":"IF(O95<=0,0,IF($C96<=SUM($AN96:AN96),0,IF(AF96+$C96-SUM($AN96:AN96)>O95+W96,O95+W96-AF96,$C96-SUM($AN96:AN96))))","v":0},{"$f":"IF(P95<=0,0,IF($C96<=SUM($AN96:AO96),0,IF(AG96+$C96-SUM($AN96:AO96)>P95+X96,P95+X96-AG96,$C96-SUM($AN96:AO96))))","v":0},{"$f":"IF(Q95<=0,0,IF($C96<=SUM($AN96:AP96),0,IF(AH96+$C96-SUM($AN96:AP96)>Q95+Y96,Q95+Y96-AH96,$C96-SUM($AN96:AP96))))","v":0},{"$f":"IF(R95<=0,0,IF($C96<=SUM($AN96:AQ96),0,IF(AI96+$C96-SUM($AN96:AQ96)>R95+Z96,R95+Z96-AI96,$C96-SUM($AN96:AQ96))))","v":0},{"$f":"IF(S95<=0,0,IF($C96<=SUM($AN96:AR96),0,IF(AJ96+$C96-SUM($AN96:AR96)>S95+AA96,S95+AA96-AJ96,$C96-SUM($AN96:AR96))))","v":0},{"$f":"IF(T95<=0,0,IF($C96<=SUM($AN96:AS96),0,IF(AK96+$C96-SUM($AN96:AS96)>T95+AB96,T95+AB96-AK96,$C96-SUM($AN96:AS96))))","v":0}]
["",{"$error":"#N/A"},"",null,0,0,0,0,0,0,0,null,0,0,0,0,0,0,0,0,null,0,0,0,0,0,0,0,0,null,0,0,0,0,0,0,{"$f":"IF(T96>0,IF((T96+AB97)<#REF!,T96+AB97,#REF!),0)","v":0},0,null,0,{"$f":"IF(O96<=0,0,IF($C97<=SUM($AN97:AN97),0,IF(AF97+$C97-SUM($AN97:AN97)>O96+W97,O96+W97-AF97,$C97-SUM($AN97:AN97))))","v":0},{"$f":"IF(P96<=0,0,IF($C97<=SUM($AN97:AO97),0,IF(AG97+$C97-SUM($AN97:AO97)>P96+X97,P96+X97-AG97,$C97-SUM($AN97:AO97))))","v":0},{"$f":"IF(Q96<=0,0,IF($C97<=SUM($AN97:AP97),0,IF(AH97+$C97-SUM($AN97:AP97)>Q96+Y97,Q96+Y97-AH97,$C97-SUM($AN97:AP97))))","v":0},{"$f":"IF(R96<=0,0,IF($C97<=SUM($AN97:AQ97),0,IF(AI97+$C97-SUM($AN97:AQ97)>R96+Z97,R96+Z97-AI97,$C97-SUM($AN97:AQ97))))","v":0},{"$f":"IF(S96<=0,0,IF($C97<=SUM($AN97:AR97),0,IF(AJ97+$C97-SUM($AN97:AR97)>S96+AA97,S96+AA97-AJ97,$C97-SUM($AN97:AR97))))","v":0},{"$f":"IF(T96<=0,0,IF($C97<=SUM($AN97:AS97),0,IF(AK97+$C97-SUM($AN97:AS97)>T96+AB97,T96+AB97-AK97,$C97-SUM($AN97:AS97))))","v":0}]
["",{"$error":"#N/A"},"",null,0,0,0,0,0,0,0,null,0,0,0,0,0,0,0,0,null,0,0,0,0,0,0,0,0,null,0,0,0,0,0,0,{"$f":"IF(T97>0,IF((T97+AB98)<#REF!,T97+AB98,#REF!),0)","v":0},0,null,0,{"$f":"IF(O97<=0,0,IF($C98<=SUM($AN98:AN98),0,IF(AF98+$C98-SUM($AN98:AN98)>O97+W98,O97+W98-AF98,$C98-SUM($AN98:AN98))))","v":0},{"$f":"IF(P97<=0,0,IF($C98<=SUM($AN98:AO98),0,IF(AG98+$C98-SUM($AN98:AO98)>P97+X98,P97+X98-AG98,$C98-SUM($AN98:AO98))))","v":0},{"$f":"IF(Q97<=0,0,IF($C98<=SUM($AN98:AP98),0,IF(AH98+$C98-SUM($AN98:AP98)>Q97+Y98,Q97+Y98-AH98,$C98-SUM($AN98:AP98))))","v":0},{"$f":"IF(R97<=0,0,IF($C98<=SUM($AN98:AQ98),0,IF(AI98+$C98-SUM($AN98:AQ98)>R97+Z98,R97+Z98-AI98,$C98-SUM($AN98:AQ98))))","v":0},{"$f":"IF(S97<=0,0,IF($C98<=SUM($AN98:AR98),0,IF(AJ98+$C98-SUM($AN98:AR98)>S97+AA98,S97+AA98-AJ98,$C98-SUM($AN98:AR98))))","v":0},{"$f":"IF(T97<=0,0,IF($C98<=SUM($AN98:AS98),0,IF(AK98+$C98-SUM($AN98:AS98)>T97+AB98,T97+AB98-AK98,$C98-SUM($AN98:AS98))))","v":0}]
["",{"$error":"#N/A"},"",null,0,0,0,0,0,0,0,null,0,0,0,0,0,0,0,0,null,0,0,0,0,0,0,0,0,null,0,0,0,0,0,0,{"$f":"IF(T98>0,IF((T98+AB99)<#REF!,T98+AB99,#REF!),0)","v":0},0,null,0,{"$f":"IF(O98<=0,0,IF($C99<=SUM($AN99:AN99),0,IF(AF99+$C99-SUM($AN99:AN99)>O98+W99,O98+W99-AF99,$C99-SUM($AN99:AN99))))","v":0},{"$f":"IF(P98<=0,0,IF($C99<=SUM($AN99:AO99),0,IF(AG99+$C99-SUM($AN99:AO99)>P98+X99,P98+X99-AG99,$C99-SUM($AN99:AO99))))","v":0},{"$f":"IF(Q98<=0,0,IF($C99<=SUM($AN99:AP99),0,IF(AH99+$C99-SUM($AN99:AP99)>Q98+Y99,Q98+Y99-AH99,$C99-SUM($AN99:AP99))))","v":0},{"$f":"IF(R98<=0,0,IF($C99<=SUM($AN99:AQ99),0,IF(AI99+$C99-SUM($AN99:AQ99)>R98+Z99,R98+Z99-AI99,$C99-SUM($AN99:AQ99))))","v":0},{"$f":"IF(S98<=0,0,IF($C99<=SUM($AN99:AR99),0,IF(AJ99+$C99-SUM($AN99:AR99)>S98+AA99,S98+AA99-AJ99,$C99-SUM($AN99:AR99))))","v":0},{"$f":"IF(T98<=0,0,IF($C99<=SUM($AN99:AS99),0,IF(AK99+$C99-SUM($AN99:AS99)>T98+AB99,T98+AB99-AK99,$C99-SUM($AN99:AS99))))","v":0}]
["",{"$error":"#N/A"},"",null,0,0,0,0,0,0,0,null,0,0,0,0,0,0,0,0,null,0,0,0,0,0,0,0,0,null,0,0,0,0,0,0,{"$f":"IF(T99>0,IF((T99+AB100)<#REF!,T99+AB100,#REF!),0)","v":0},0,null,0,{"$f":"IF(O99<=0,0,IF($C100<=SUM($AN100:AN100),0,IF(AF100+$C100-SUM($AN100:AN100)>O99+W100,O99+W100-AF100,$C100-SUM($AN100:AN100))))","v":0},{"$f":"IF(P99<=0,0,IF($C100<=SUM($AN100:AO100),0,IF(AG100+$C100-SUM($AN100:AO100)>P99+X100,P99+X100-AG100,$C100-SUM($AN100:AO100))))","v":0},{"$f":"IF(Q99<=0,0,IF($C100<=SUM($AN100:AP100),0,IF(AH100+$C100-SUM($AN100:AP100)>Q99+Y100,Q99+Y100-AH100,$C100-SUM($AN100:AP100))))","v":0},{"$f":"IF(R99<=0,0,IF($C100<=SUM($AN100:AQ100),0,IF(AI100+$C100-SUM($AN100:AQ100)>R99+Z100,R99+Z100-AI100,$C100-SUM($AN100:AQ100))))","v":0},{"$f":"IF(S99<=0,0,IF($C100<=SUM($AN100:AR100),0,IF(AJ100+$C100-SUM($AN100:AR100)>S99+AA100,S99+AA100-AJ100,$C100-SUM($AN100:AR100))))","v":0},{"$f":"IF(T99<=0,0,IF($C100<=SUM($AN100:AS100),0,IF(AK100+$C100-SUM($AN100:AS100)>T99+AB100,T99+AB100-AK100,$C100-SUM($AN100:AS100))))","v":0}]
["",{"$error":"#N/A"},"",null,0,0,0,0,0,0,0,null,0,0,0,0,0,0,0,0,null,0,0,0,0,0,0,0,0,null,0,0,0,0,0,0,{"$f":"IF(T100>0,IF((T100+AB101)<#REF!,T100+AB101,#REF!),0)","v":0},0,null,0,{"$f":"IF(O100<=0,0,IF($C101<=SUM($AN101:AN101),0,IF(AF101+$C101-SUM($AN101:AN101)>O100+W101,O100+W101-AF101,$C101-SUM($AN101:AN101))))","v":0},{"$f":"IF(P100<=0,0,IF($C101<=SUM($AN101:AO101),0,IF(AG101+$C101-SUM($AN101:AO101)>P100+X101,P100+X101-AG101,$C101-SUM($AN101:AO101))))","v":0},{"$f":"IF(Q100<=0,0,IF($C101<=SUM($AN101:AP101),0,IF(AH101+$C101-SUM($AN101:AP101)>Q100+Y101,Q100+Y101-AH101,$C101-SUM($AN101:AP101))))","v":0},{"$f":"IF(R100<=0,0,IF($C101<=SUM($AN101:AQ101),0,IF(AI101+$C101-SUM($AN101:AQ101)>R100+Z101,R100+Z101-AI101,$C101-SUM($AN101:AQ101))))","v":0},{"$f":"IF(S100<=0,0,IF($C101<=SUM($AN101:AR101),0,IF(AJ101+$C101-SUM($AN101:AR101)>S100+AA101,S100+AA101-AJ101,$C101-SUM($AN101:AR101))))","v":0},{"$f":"IF(T100<=0,0,IF($C101<=SUM($AN101:AS101),0,IF(AK101+$C101-SUM($AN101:AS101)>T100+AB101,T100+AB101-AK101,$C101-SUM($AN101:AS101))))","v":0}]
["",{"$error":"#N/A"},"",null,0,0,0,0,0,0,0,null,0,0,0,0,0,0,0,0,null,0,0,0,0,0,0,0,0,null,0,0,0,0,0,0,{"$f":"IF(T101>0,IF((T101+AB102)<#REF!,T101+AB102,#REF!),0)","v":0},0,null,0,{"$f":"IF(O101<=0,0,IF($C102<=SUM($AN102:AN102),0,IF(AF102+$C102-SUM($AN102:AN102)>O101+W102,O101+W102-AF102,$C102-SUM($AN102:AN102))))","v":0},{"$f":"IF(P101<=0,0,IF($C102<=SUM($AN102:AO102),0,IF(AG102+$C102-SUM($AN102:AO102)>P101+X102,P101+X102-AG102,$C102-SUM($AN102:AO102))))","v":0},{"$f":"IF(Q101<=0,0,IF($C102<=SUM($AN102:AP102),0,IF(AH102+$C102-SUM($AN102:AP102)>Q101+Y102,Q101+Y102-AH102,$C102-SUM($AN102:AP102))))","v":0},{"$f":"IF(R101<=0,0,IF($C102<=SUM($AN102:AQ102),0,IF(AI102+$C102-SUM($AN102:AQ102)>R101+Z102,R101+Z102-AI102,$C102-SUM($AN102:AQ102))))","v":0},{"$f":"IF(S101<=0,0,IF($C102<=SUM($AN102:AR102),0,IF(AJ102+$C102-SUM($AN102:AR102)>S101+AA102,S101+AA102-AJ102,$C102-SUM($AN102:AR102))))","v":0},{"$f":"IF(T101<=0,0,IF($C102<=SUM($AN102:AS102),0,IF(AK102+$C102-SUM($AN102:AS102)>T101+AB102,T101+AB102-AK102,$C102-SUM($AN102:AS102))))","v":0}]
["",{"$error":"#N/A"},"",null,0,0,0,0,0,0,0,null,0,0,0,0,0,0,0,0,null,0,0,0,0,0,0,0,0,null,0,0,0,0,0,0,{"$f":"IF(T102>0,IF((T102+AB103)<#REF!,T102+AB103,#REF!),0)","v":0},0,null,0,{"$f":"IF(O102<=0,0,IF($C103<=SUM($AN103:AN103),0,IF(AF103+$C103-SUM($AN103:AN103)>O102+W103,O102+W103-AF103,$C103-SUM($AN103:AN103))))","v":0},{"$f":"IF(P102<=0,0,IF($C103<=SUM($AN103:AO103),0,IF(AG103+$C103-SUM($AN103:AO103)>P102+X103,P102+X103-AG103,$C103-SUM($AN103:AO103))))","v":0},{"$f":"IF(Q102<=0,0,IF($C103<=SUM($AN103:AP103),0,IF(AH103+$C103-SUM($AN103:AP103)>Q102+Y103,Q102+Y103-AH103,$C103-SUM($AN103:AP103))))","v":0},{"$f":"IF(R102<=0,0,IF($C103<=SUM($AN103:AQ103),0,IF(AI103+$C103-SUM($AN103:AQ103)>R102+Z103,R102+Z103-AI103,$C103-SUM($AN103:AQ103))))","v":0},{"$f":"IF(S102<=0,0,IF($C103<=SUM($AN103:AR103),0,IF(AJ103+$C103-SUM($AN103:AR103)>S102+AA103,S102+AA103-AJ103,$C103-SUM($AN103:AR103))))","v":0},{"$f":"IF(T102<=0,0,IF($C103<=SUM($AN103:AS103),0,IF(AK103+$C103-SUM($AN103:AS103)>T102+AB103,T102+AB103-AK103,$C103-SUM($AN103:AS103))))","v":0}]
["",{"$error":"#N/A"},"",null,0,0,0,0,0,0,0,null,0,0,0,0,0,0,0,0,null,0,0,0,0,0,0,0,0,null,0,0,0,0,0,0,{"$f":"IF(T103>0,IF((T103+AB104)<#REF!,T103+AB104,#REF!),0)","v":0},0,null,0,{"$f":"IF(O103<=0,0,IF($C104<=SUM($AN104:AN104),0,IF(AF104+$C104-SUM($AN104:AN104)>O103+W104,O103+W104-AF104,$C104-SUM($AN104:AN104))))","v":0},{"$f":"IF(P103<=0,0,IF($C104<=SUM($AN104:AO104),0,IF(AG104+$C104-SUM($AN104:AO104)>P103+X104,P103+X104-AG104,$C104-SUM($AN104:AO104))))","v":0},{"$f":"IF(Q103<=0,0,IF($C104<=SUM($AN104:AP104),0,IF(AH104+$C104-SUM($AN104:AP104)>Q103+Y104,Q103+Y104-AH104,$C104-SUM($AN104:AP104))))","v":0},{"$f":"IF(R103<=0,0,IF($C104<=SUM($AN104:AQ104),0,IF(AI104+$C104-SUM($AN104:AQ104)>R103+Z104,R103+Z104-AI104,$C104-SUM($AN104:AQ104))))","v":0},{"$f":"IF(S103<=0,0,IF($C104<=SUM($AN104:AR104),0,IF(AJ104+$C104-SUM($AN104:AR104)>S103+AA104,S103+AA104-AJ104,$C104-SUM($AN104:AR104))))","v":0},{"$f":"IF(T103<=0,0,IF($C104<=SUM($AN104:AS104),0,IF(AK104+$C104-SUM($AN104:AS104)>T103+AB104,T103+AB104-AK104,$C104-SUM($AN104:AS104))))","v":0}]
["",{"$error":"#N/A"},"",null,0,0,0,0,0,0,0,null,0,0,0,0,0,0,0,0,null,0,0,0,0,0,0,0,0,null,0,0,0,0,0,0,{"$f":"IF(T104>0,IF((T104+AB105)<#REF!,T104+AB105,#REF!),0)","v":0},0,null,0,{"$f":"IF(O104<=0,0,IF($C105<=SUM($AN105:AN105),0,IF(AF105+$C105-SUM($AN105:AN105)>O104+W105,O104+W105-AF105,$C105-SUM($AN105:AN105))))","v":0},{"$f":"IF(P104<=0,0,IF($C105<=SUM($AN105:AO105),0,IF(AG105+$C105-SUM($AN105:AO105)>P104+X105,P104+X105-AG105,$C105-SUM($AN105:AO105))))","v":0},{"$f":"IF(Q104<=0,0,IF($C105<=SUM($AN105:AP105),0,IF(AH105+$C105-SUM($AN105:AP105)>Q104+Y105,Q104+Y105-AH105,$C105-SUM($AN105:AP105))))","v":0},{"$f":"IF(R104<=0,0,IF($C105<=SUM($AN105:AQ105),0,IF(AI105+$C105-SUM($AN105:AQ105)>R104+Z105,R104+Z105-AI105,$C105-SUM($AN105:AQ105))))","v":0},{"$f":"IF(S104<=0,0,IF($C105<=SUM($AN105:AR105),0,IF(AJ105+$C105-SUM($AN105:AR105)>S104+AA105,S104+AA105-AJ105,$C105-SUM($AN105:AR105))))","v":0},{"$f":"IF(T104<=0,0,IF($C105<=SUM($AN105:AS105),0,IF(AK105+$C105-SUM($AN105:AS105)>T104+AB105,T104+AB105-AK105,$C105-SUM($AN105:AS105))))","v":0}]
["",{"$error":"#N/A"},"",null,0,0,0,0,0,0,0,null,0,0,0,0,0,0,0,0,null,0,0,0,0,0,0,0,0,null,0,0,0,0,0,0,{"$f":"IF(T105>0,IF((T105+AB106)<#REF!,T105+AB106,#REF!),0)","v":0},0,null,0,{"$f":"IF(O105<=0,0,IF($C106<=SUM($AN106:AN106),0,IF(AF106+$C106-SUM($AN106:AN106)>O105+W106,O105+W106-AF106,$C106-SUM($AN106:AN106))))","v":0},{"$f":"IF(P105<=0,0,IF($C106<=SUM($AN106:AO106),0,IF(AG106+$C106-SUM($AN106:AO106)>P105+X106,P105+X106-AG106,$C106-SUM($AN106:AO106))))","v":0},{"$f":"IF(Q105<=0,0,IF($C106<=SUM($AN106:AP106),0,IF(AH106+$C106-SUM($AN106:AP106)>Q105+Y106,Q105+Y106-AH106,$C106-SUM($AN106:AP106))))","v":0},{"$f":"IF(R105<=0,0,IF($C106<=SUM($AN106:AQ106),0,IF(AI106+$C106-SUM($AN106:AQ106)>R105+Z106,R105+Z106-AI106,$C106-SUM($AN106:AQ106))))","v":0},{"$f":"IF(S105<=0,0,IF($C106<=SUM($AN106:AR106),0,IF(AJ106+$C106-SUM($AN106:AR106)>S105+AA106,S105+AA106-AJ106,$C106-SUM($AN106:AR106))))","v":0},{"$f":"IF(T105<=0,0,IF($C106<=SUM($AN106:AS106),0,IF(AK106+$C106-SUM($AN106:AS106)>T105+AB106,T105+AB106-AK106,$C106-SUM($AN106:AS106))))","v":0}]
["",{"$error":"#N/A"},"",null,0,0,0,0,0,0,0,null,0,0,0,0,0,0,0,0,null,0,0,0,0,0,0,0,0,null,0,0,0,0,0,0,{"$f":"IF(T106>0,IF((T106+AB107)<#REF!,T106+AB107,#REF!),0)","v":0},0,null,0,{"$f":"IF(O106<=0,0,IF($C107<=SUM($AN107:AN107),0,IF(AF107+$C107-SUM($AN107:AN107)>O106+W107,O106+W107-AF107,$C107-SUM($AN107:AN107))))","v":0},{"$f":"IF(P106<=0,0,IF($C107<=SUM($AN107:AO107),0,IF(AG107+$C107-SUM($AN107:AO107)>P106+X107,P106+X107-AG107,$C107-SUM($AN107:AO107))))","v":0},{"$f":"IF(Q106<=0,0,IF($C107<=SUM($AN107:AP107),0,IF(AH107+$C107-SUM($AN107:AP107)>Q106+Y107,Q106+Y107-AH107,$C107-SUM($AN107:AP107))))","v":0},{"$f":"IF(R106<=0,0,IF($C107<=SUM($AN107:AQ107),0,IF(AI107+$C107-SUM($AN107:AQ107)>R106+Z107,R106+Z107-AI107,$C107-SUM($AN107:AQ107))))","v":0},{"$f":"IF(S106<=0,0,IF($C107<=SUM($AN107:AR107),0,IF(AJ107+$C107-SUM($AN107:AR107)>S106+AA107,S106+AA107-AJ107,$C107-SUM($AN107:AR107))))","v":0},{"$f":"IF(T106<=0,0,IF($C107<=SUM($AN107:AS107),0,IF(AK107+$C107-SUM($AN107:AS107)>T106+AB107,T106+AB107-AK107,$C107-SUM($AN107:AS107))))","v":0}]
["",{"$error":"#N/A"},"",null,0,0,0,0,0,0,0,null,0,0,0,0,0,0,0,0,null,0,0,0,0,0,0,0,0,null,0,0,0,0,0,0,{"$f":"IF(T107>0,IF((T107+AB108)<#REF!,T107+AB108,#REF!),0)","v":0},0,null,0,{"$f":"IF(O107<=0,0,IF($C108<=SUM($AN108:AN108),0,IF(AF108+$C108-SUM($AN108:AN108)>O107+W108,O107+W108-AF108,$C108-SUM($AN108:AN108))))","v":0},{"$f":"IF(P107<=0,0,IF($C108<=SUM($AN108:AO108),0,IF(AG108+$C108-SUM($AN108:AO108)>P107+X108,P107+X108-AG108,$C108-SUM($AN108:AO108))))","v":0},{"$f":"IF(Q107<=0,0,IF($C108<=SUM($AN108:AP108),0,IF(AH108+$C108-SUM($AN108:AP108)>Q107+Y108,Q107+Y108-AH108,$C108-SUM($AN108:AP108))))","v":0},{"$f":"IF(R107<=0,0,IF($C108<=SUM($AN108:AQ108),0,IF(AI108+$C108-SUM($AN108:AQ108)>R107+Z108,R107+Z108-AI108,$C108-SUM($AN108:AQ108))))","v":0},{"$f":"IF(S107<=0,0,IF($C108<=SUM($AN108:AR108),0,IF(AJ108+$C108-SUM($AN108:AR108)>S107+AA108,S107+AA108-AJ108,$C108-SUM($AN108:AR108))))","v":0},{"$f":"IF(T107<=0,0,IF($C108<=SUM($AN108:AS108),0,IF(AK108+$C108-SUM($AN108:AS108)>T107+AB108,T107+AB108-AK108,$C108-SUM($AN108:AS108))))","v":0}]
["",{"$error":"#N/A"},"",null,0,0,0,0,0,0,0,null,0,0,0,0,0,0,0,0,null,0,0,0,0,0,0,0,0,null,0,0,0,0,0,0,{"$f":"IF(T108>0,IF((T108+AB109)<#REF!,T108+AB109,#REF!),0)","v":0},0,null,0,{"$f":"IF(O108<=0,0,IF($C109<=SUM($AN109:AN109),0,IF(AF109+$C109-SUM($AN109:AN109)>O108+W109,O108+W109-AF109,$C109-SUM($AN109:AN109))))","v":0},{"$f":"IF(P108<=0,0,IF($C109<=SUM($AN109:AO109),0,IF(AG109+$C109-SUM($AN109:AO109)>P108+X109,P108+X109-AG109,$C109-SUM($AN109:AO109))))","v":0},{"$f":"IF(Q108<=0,0,IF($C109<=SUM($AN109:AP109),0,IF(AH109+$C109-SUM($AN109:AP109)>Q108+Y109,Q108+Y109-AH109,$C109-SUM($AN109:AP109))))","v":0},{"$f":"IF(R108<=0,0,IF($C109<=SUM($AN109:AQ109),0,IF(AI109+$C109-SUM($AN109:AQ109)>R108+Z109,R108+Z109-AI109,$C109-SUM($AN109:AQ109))))","v":0},{"$f":"IF(S108<=0,0,IF($C109<=SUM($AN109:AR109),0,IF(AJ109+$C109-SUM($AN109:AR109)>S108+AA109,S108+AA109-AJ109,$C109-SUM($AN109:AR109))))","v":0},{"$f":"IF(T108<=0,0,IF($C109<=SUM($AN109:AS109),0,IF(AK109+$C109-SUM($AN109:AS109)>T108+AB109,T108+AB109-AK109,$C109-SUM($AN109:AS109))))","v":0}]
["",{"$error":"#N/A"},"",null,0,0,0,0,0,0,0,null,0,0,0,0,0,0,0,0,null,0,0,0,0,0,0,0,0,null,0,0,0,0,0,0,{"$f":"IF(T109>0,IF((T109+AB110)<#REF!,T109+AB110,#REF!),0)","v":0},0,null,0,{"$f":"IF(O109<=0,0,IF($C110<=SUM($AN110:AN110),0,IF(AF110+$C110-SUM($AN110:AN110)>O109+W110,O109+W110-AF110,$C110-SUM($AN110:AN110))))","v":0},{"$f":"IF(P109<=0,0,IF($C110<=SUM($AN110:AO110),0,IF(AG110+$C110-SUM($AN110:AO110)>P109+X110,P109+X110-AG110,$C110-SUM($AN110:AO110))))","v":0},{"$f":"IF(Q109<=0,0,IF($C110<=SUM($AN110:AP110),0,IF(AH110+$C110-SUM($AN110:AP110)>Q109+Y110,Q109+Y110-AH110,$C110-SUM($AN110:AP110))))","v":0},{"$f":"IF(R109<=0,0,IF($C110<=SUM($AN110:AQ110),0,IF(AI110+$C110-SUM($AN110:AQ110)>R109+Z110,R109+Z110-AI110,$C110-SUM($AN110:AQ110))))","v":0},{"$f":"IF(S109<=0,0,IF($C110<=SUM($AN110:AR110),0,IF(AJ110+$C110-SUM($AN110:AR110)>S109+AA110,S109+AA110-AJ110,$C110-SUM($AN110:AR110))))","v":0},{"$f":"IF(T109<=0,0,IF($C110<=SUM($AN110:AS110),0,IF(AK110+$C110-SUM($AN110:AS110)>T109+AB110,T109+AB110-AK110,$C110-SUM($AN110:AS110))))","v":0}]
["",{"$error":"#N/A"},"",null,0,0,0,0,0,0,0,null,0,0,0,0,0,0,0,0,null,0,0,0,0,0,0,0,0,null,0,0,0,0,0,0,{"$f":"IF(T110>0,IF((T110+AB111)<#REF!,T110+AB111,#REF!),0)","v":0},0,null,0,{"$f":"IF(O110<=0,0,IF($C111<=SUM($AN111:AN111),0,IF(AF111+$C111-SUM($AN111:AN111)>O110+W111,O110+W111-AF111,$C111-SUM($AN111:AN111))))","v":0},{"$f":"IF(P110<=0,0,IF($C111<=SUM($AN111:AO111),0,IF(AG111+$C111-SUM($AN111:AO111)>P110+X111,P110+X111-AG111,$C111-SUM($AN111:AO111))))","v":0},{"$f":"IF(Q110<=0,0,IF($C111<=SUM($AN111:AP111),0,IF(AH111+$C111-SUM($AN111:AP111)>Q110+Y111,Q110+Y111-AH111,$C111-SUM($AN111:AP111))))","v":0},{"$f":"IF(R110<=0,0,IF($C111<=SUM($AN111:AQ111),0,IF(AI111+$C111-SUM($AN111:AQ111)>R110+Z111,R110+Z111-AI111,$C111-SUM($AN111:AQ111))))","v":0},{"$f":"IF(S110<=0,0,IF($C111<=SUM($AN111:AR111),0,IF(AJ111+$C111-SUM($AN111:AR111)>S110+AA111,S110+AA111-AJ111,$C111-SUM($AN111:AR111))))","v":0},{"$f":"IF(T110<=0,0,IF($C111<=SUM($AN111:AS111),0,IF(AK111+$C111-SUM($AN111:AS111)>T110+AB111,T110+AB111-AK111,$C111-SUM($AN111:AS111))))","v":0}]
["",{"$error":"#N/A"},"",null,0,0,0,0,0,0,0,null,0,0,0,0,0,0,0,0,null,0,0,0,0,0,0,0,0,null,0,0,0,0,0,0,{"$f":"IF(T111>0,IF((T111+AB112)<#REF!,T111+AB112,#REF!),0)","v":0},0,null,0,{"$f":"IF(O111<=0,0,IF($C112<=SUM($AN112:AN112),0,IF(AF112+$C112-SUM($AN112:AN112)>O111+W112,O111+W112-AF112,$C112-SUM($AN112:AN112))))","v":0},{"$f":"IF(P111<=0,0,IF($C112<=SUM($AN112:AO112),0,IF(AG112+$C112-SUM($AN112:AO112)>P111+X112,P111+X112-AG112,$C112-SUM($AN112:AO112))))","v":0},{"$f":"IF(Q111<=0,0,IF($C112<=SUM($AN112:AP112),0,IF(AH112+$C112-SUM($AN112:AP112)>Q111+Y112,Q111+Y112-AH112,$C112-SUM($AN112:AP112))))","v":0},{"$f":"IF(R111<=0,0,IF($C112<=SUM($AN112:AQ112),0,IF(AI112+$C112-SUM($AN112:AQ112)>R111+Z112,R111+Z112-AI112,$C112-SUM($AN112:AQ112))))","v":0},{"$f":"IF(S111<=0,0,IF($C112<=SUM($AN112:AR112),0,IF(AJ112+$C112-SUM($AN112:AR112)>S111+AA112,S111+AA112-AJ112,$C112-SUM($AN112:AR112))))","v":0},{"$f":"IF(T111<=0,0,IF($C112<=SUM($AN112:AS112),0,IF(AK112+$C112-SUM($AN112:AS112)>T111+AB112,T111+AB112-AK112,$C112-SUM($AN112:AS112))))","v":0}]
["",{"$error":"#N/A"},"",null,0,0,0,0,0,0,0,null,0,0,0,0,0,0,0,0,null,0,0,0,0,0,0,0,0,null,0,0,0,0,0,0,{"$f":"IF(T112>0,IF((T112+AB113)<#REF!,T112+AB113,#REF!),0)","v":0},0,null,0,{"$f":"IF(O112<=0,0,IF($C113<=SUM($AN113:AN113),0,IF(AF113+$C113-SUM($AN113:AN113)>O112+W113,O112+W113-AF113,$C113-SUM($AN113:AN113))))","v":0},{"$f":"IF(P112<=0,0,IF($C113<=SUM($AN113:AO113),0,IF(AG113+$C113-SUM($AN113:AO113)>P112+X113,P112+X113-AG113,$C113-SUM($AN113:AO113))))","v":0},{"$f":"IF(Q112<=0,0,IF($C113<=SUM($AN113:AP113),0,IF(AH113+$C113-SUM($AN113:AP113)>Q112+Y113,Q112+Y113-AH113,$C113-SUM($AN113:AP113))))","v":0},{"$f":"IF(R112<=0,0,IF($C113<=SUM($AN113:AQ113),0,IF(AI113+$C113-SUM($AN113:AQ113)>R112+Z113,R112+Z113-AI113,$C113-SUM($AN113:AQ113))))","v":0},{"$f":"IF(S112<=0,0,IF($C113<=SUM($AN113:AR113),0,IF(AJ113+$C113-SUM($AN113:AR113)>S112+AA113,S112+AA113-AJ113,$C113-SUM($AN113:AR113))))","v":0},{"$f":"IF(T112<=0,0,IF($C113<=SUM($AN113:AS113),0,IF(AK113+$C113-SUM($AN113:AS113)>T112+AB113,T112+AB113-AK113,$C113-SUM($AN113:AS113))))","v":0}]
["",{"$error":"#N/A"},"",null,0,0,0,0,0,0,0,null,0,0,0,0,0,0,0,0,null,0,0,0,0,0,0,0,0,null,0,0,0,0,0,0,{"$f":"IF(T113>0,IF((T113+AB114)<#REF!,T113+AB114,#REF!),0)","v":0},0,null,0,{"$f":"IF(O113<=0,0,IF($C114<=SUM($AN114:AN114),0,IF(AF114+$C114-SUM($AN114:AN114)>O113+W114,O113+W114-AF114,$C114-SUM($AN114:AN114))))","v":0},{"$f":"IF(P113<=0,0,IF($C114<=SUM($AN114:AO114),0,IF(AG114+$C114-SUM($AN114:AO114)>P113+X114,P113+X114-AG114,$C114-SUM($AN114:AO114))))","v":0},{"$f":"IF(Q113<=0,0,IF($C114<=SUM($AN114:AP114),0,IF(AH114+$C114-SUM($AN114:AP114)>Q113+Y114,Q113+Y114-AH114,$C114-SUM($AN114:AP114))))","v":0},{"$f":"IF(R113<=0,0,IF($C114<=SUM($AN114:AQ114),0,IF(AI114+$C114-SUM($AN114:AQ114)>R113+Z114,R113+Z114-AI114,$C114-SUM($AN114:AQ114))))","v":0},{"$f":"IF(S113<=0,0,IF($C114<=SUM($AN114:AR114),0,IF(AJ114+$C114-SUM($AN114:AR114)>S113+AA114,S113+AA114-AJ114,$C114-SUM($AN114:AR114))))","v":0},{"$f":"IF(T113<=0,0,IF($C114<=SUM($AN114:AS114),0,IF(AK114+$C114-SUM($AN114:AS114)>T113+AB114,T113+AB114-AK114,$C114-SUM($AN114:AS114))))","v":0}]
["",{"$error":"#N/A"},"",null,0,0,0,0,0,0,0,null,0,0,0,0,0,0,0,0,null,0,0,0,0,0,0,0,0,null,0,0,0,0,0,0,{"$f":"IF(T114>0,IF((T114+AB115)<#REF!,T114+AB115,#REF!),0)","v":0},0,null,0,{"$f":"IF(O114<=0,0,IF($C115<=SUM($AN115:AN115),0,IF(AF115+$C115-SUM($AN115:AN115)>O114+W115,O114+W115-AF115,$C115-SUM($AN115:AN115))))","v":0},{"$f":"IF(P114<=0,0,IF($C115<=SUM($AN115:AO115),0,IF(AG115+$C115-SUM($AN115:AO115)>P114+X115,P114+X115-AG115,$C115-SUM($AN115:AO115))))","v":0},{"$f":"IF(Q114<=0,0,IF($C115<=SUM($AN115:AP115),0,IF(AH115+$C115-SUM($AN115:AP115)>Q114+Y115,Q114+Y115-AH115,$C115-SUM($AN115:AP115))))","v":0},{"$f":"IF(R114<=0,0,IF($C115<=SUM($AN115:AQ115),0,IF(AI115+$C115-SUM($AN115:AQ115)>R114+Z115,R114+Z115-AI115,$C115-SUM($AN115:AQ115))))","v":0},{"$f":"IF(S114<=0,0,IF($C115<=SUM($AN115:AR115),0,IF(AJ115+$C115-SUM($AN115:AR115)>S114+AA115,S114+AA115-AJ115,$C115-SUM($AN115:AR115))))","v":0},{"$f":"IF(T114<=0,0,IF($C115<=SUM($AN115:AS115),0,IF(AK115+$C115-SUM($AN115:AS115)>T114+AB115,T114+AB115-AK115,$C115-SUM($AN115:AS115))))","v":0}]
["",{"$error":"#N/A"},"",null,0,0,0,0,0,0,0,null,0,0,0,0,0,0,0,0,null,0,0,0,0,0,0,0,0,null,0,0,0,0,0,0,{"$f":"IF(T115>0,IF((T115+AB116)<#REF!,T115+AB116,#REF!),0)","v":0},0,null,0,{"$f":"IF(O115<=0,0,IF($C116<=SUM($AN116:AN116),0,IF(AF116+$C116-SUM($AN116:AN116)>O115+W116,O115+W116-AF116,$C116-SUM($AN116:AN116))))","v":0},{"$f":"IF(P115<=0,0,IF($C116<=SUM($AN116:AO116),0,IF(AG116+$C116-SUM($AN116:AO116)>P115+X116,P115+X116-AG116,$C116-SUM($AN116:AO116))))","v":0},{"$f":"IF(Q115<=0,0,IF($C116<=SUM($AN116:AP116),0,IF(AH116+$C116-SUM($AN116:AP116)>Q115+Y116,Q115+Y116-AH116,$C116-SUM($AN116:AP116))))","v":0},{"$f":"IF(R115<=0,0,IF($C116<=SUM($AN116:AQ116),0,IF(AI116+$C116-SUM($AN116:AQ116)>R115+Z116,R115+Z116-AI116,$C116-SUM($AN116:AQ116))))","v":0},{"$f":"IF(S115<=0,0,IF($C116<=SUM($AN116:AR116),0,IF(AJ116+$C116-SUM($AN116:AR116)>S115+AA116,S115+AA116-AJ116,$C116-SUM($AN116:AR116))))","v":0},{"$f":"IF(T115<=0,0,IF($C116<=SUM($AN116:AS116),0,IF(AK116+$C116-SUM($AN116:AS116)>T115+AB116,T115+AB116-AK116,$C116-SUM($AN116:AS116))))","v":0}]
[{"$f":"IF(SUM(N116:T116)<=0,\"\",A116+1)","v":""},{"$error":"#N/A"},"",null,0,0,0,0,0,0,0,null,0,{"$f":"IF(D$8=0,0,ROUND(N116-(E117-V117),2))","v":0},{"$f":"IF(E$8=0,0,ROUND(O116-(F117-W117),2))","v":0},{"$f":"IF(F$8=0,0,ROUND(P116-(G117-X117),2))","v":0},{"$f":"IF(G$8=0,0,ROUND(Q116-(H117-Y117),2))","v":0},{"$f":"IF(H$8=0,0,ROUND(R116-(I117-Z117),2))","v":0},{"$f":"IF(I$8=0,0,ROUND(S116-(J117-AA117),2))","v":0},{"$f":"IF(J$8=0,0,ROUND(T116-(K117-AB117),2))","v":0},null,{"$f":"ROUND(N116*E$9/12,2)","v":0},{"$f":"ROUND(O116*F$9/12,2)","v":0},{"$f":"ROUND(P116*G$9/12,2)","v":0},{"$f":"ROUND(Q116*H$9/12,2)","v":0},{"$f":"ROUND(R116*I$9/12,2)","v":0},{"$f":"ROUND(S116*J$9/12,2)","v":0},{"$f":"ROUND(T116*K$9/12,2)","v":0},0,null,0,0,0,0,0,0,{"$f":"IF(T116>0,IF((T116+AB117)<#REF!,T116+AB117,#REF!),0)","v":0},0,null,0,{"$f":"IF(O116<=0,0,IF($C117<=SUM($AN117:AN117),0,IF(AF117+$C117-SUM($AN117:AN117)>O116+W117,O116+W117-AF117,$C117-SUM($AN117:AN117))))","v":0},{"$f":"IF(P116<=0,0,IF($C117<=SUM($AN117:AO117),0,IF(AG117+$C117-SUM($AN117:AO117)>P116+X117,P116+X117-AG117,$C117-SUM($AN117:AO117))))","v":0},{"$f":"IF(Q116<=0,0,IF($C117<=SUM($AN117:AP117),0,IF(AH117+$C117-SUM($AN117:AP117)>Q116+Y117,Q116+Y117-AH117,$C117-SUM($AN117:AP117))))","v":0},{"$f":"IF(R116<=0,0,IF($C117<=SUM($AN117:AQ117),0,IF(AI117+$C117-SUM($AN117:AQ117)>R116+Z117,R116+Z117-AI117,$C117-SUM($AN117:AQ117))))","v":0},{"$f":"IF(S116<=0,0,IF($C117<=SUM($AN117:AR117),0,IF(AJ117+$C117-SUM($AN117:AR117)>S116+AA117,S116+AA117-AJ117,$C117-SUM($AN117:AR117))))","v":0},{"$f":"IF(T116<=0,0,IF($C117<=SUM($AN117:AS117),0,IF(AK117+$C117-SUM($AN117:AS117)>T116+AB117,T116+AB117-AK117,$C117-SUM($AN117:AS117))))","v":0}]
["",{"$error":"#N/A"},"",null,0,0,0,0,0,0,0,null,0,0,0,0,0,0,0,0,null,0,0,0,0,0,0,0,0,null,{"$f":"IF(N117>0,IF((N117+V118)<E$10,N117+V118,E$10),0)","v":0},{"$f":"IF(O117>0,IF((O117+W118)<F$10,O117+W118,F$10),0)","v":0},{"$f":"IF(P117>0,IF((P117+X118)<G$10,P117+X118,G$10),0)","v":0},{"$f":"IF(Q117>0,IF((Q117+Y118)<H$10,Q117+Y118,H$10),0)","v":0},{"$f":"IF(R117>0,IF((R117+Z118)<I$10,R117+Z118,I$10),0)","v":0},{"$f":"IF(S117>0,IF((S117+AA118)<I$10,S117+AA118,I$10),0)","v":0},{"$f":"IF(T117>0,IF((T117+AB118)<#REF!,T117+AB118,#REF!),0)","v":0},0,null,0,{"$f":"IF(O117<=0,0,IF($C118<=SUM($AN118:AN118),0,IF(AF118+$C118-SUM($AN118:AN118)>O117+W118,O117+W118-AF118,$C118-SUM($AN118:AN118))))","v":0},{"$f":"IF(P117<=0,0,IF($C118<=SUM($AN118:AO118),0,IF(AG118+$C118-SUM($AN118:AO118)>P117+X118,P117+X118-AG118,$C118-SUM($AN118:AO118))))","v":0},{"$f":"IF(Q117<=0,0,IF($C118<=SUM($AN118:AP118),0,IF(AH118+$C118-SUM($AN118:AP118)>Q117+Y118,Q117+Y118-AH118,$C118-SUM($AN118:AP118))))","v":0},{"$f":"IF(R117<=0,0,IF($C118<=SUM($AN118:AQ118),0,IF(AI118+$C118-SUM($AN118:AQ118)>R117+Z118,R117+Z118-AI118,$C118-SUM($AN118:AQ118))))","v":0},{"$f":"IF(S117<=0,0,IF($C118<=SUM($AN118:AR118),0,IF(AJ118+$C118-SUM($AN118:AR118)>S117+AA118,S117+AA118-AJ118,$C118-SUM($AN118:AR118))))","v":0},{"$f":"IF(T117<=0,0,IF($C118<=SUM($AN118:AS118),0,IF(AK118+$C118-SUM($AN118:AS118)>T117+AB118,T117+AB118-AK118,$C118-SUM($AN118:AS118))))","v":0}]
["",{"$error":"#N/A"},"",null,0,0,0,0,0,0,0,null,0,0,0,0,0,0,0,0,null,0,0,0,0,0,0,0,0,null,0,0,0,0,0,0,{"$f":"IF(T118>0,IF((T118+AB119)<#REF!,T118+AB119,#REF!),0)","v":0},0,null,0,{"$f":"IF(O118<=0,0,IF($C119<=SUM($AN119:AN119),0,IF(AF119+$C119-SUM($AN119:AN119)>O118+W119,O118+W119-AF119,$C119-SUM($AN119:AN119))))","v":0},{"$f":"IF(P118<=0,0,IF($C119<=SUM($AN119:AO119),0,IF(AG119+$C119-SUM($AN119:AO119)>P118+X119,P118+X119-AG119,$C119-SUM($AN119:AO119))))","v":0},{"$f":"IF(Q118<=0,0,IF($C119<=SUM($AN119:AP119),0,IF(AH119+$C119-SUM($AN119:AP119)>Q118+Y119,Q118+Y119-AH119,$C119-SUM($AN119:AP119))))","v":0},{"$f":"IF(R118<=0,0,IF($C119<=SUM($AN119:AQ119),0,IF(AI119+$C119-SUM($AN119:AQ119)>R118+Z119,R118+Z119-AI119,$C119-SUM($AN119:AQ119))))","v":0},{"$f":"IF(S118<=0,0,IF($C119<=SUM($AN119:AR119),0,IF(AJ119+$C119-SUM($AN119:AR119)>S118+AA119,S118+AA119-AJ119,$C119-SUM($AN119:AR119))))","v":0},{"$f":"IF(T118<=0,0,IF($C119<=SUM($AN119:AS119),0,IF(AK119+$C119-SUM($AN119:AS119)>T118+AB119,T118+AB119-AK119,$C119-SUM($AN119:AS119))))","v":0}]
["",{"$error":"#N/A"},"",null,0,0,0,0,0,0,0,null,0,0,0,0,0,0,0,0,null,0,0,0,0,0,0,0,0,null,0,0,0,0,0,0,{"$f":"IF(T119>0,IF((T119+AB120)<#REF!,T119+AB120,#REF!),0)","v":0},0,null,0,{"$f":"IF(O119<=0,0,IF($C120<=SUM($AN120:AN120),0,IF(AF120+$C120-SUM($AN120:AN120)>O119+W120,O119+W120-AF120,$C120-SUM($AN120:AN120))))","v":0},{"$f":"IF(P119<=0,0,IF($C120<=SUM($AN120:AO120),0,IF(AG120+$C120-SUM($AN120:AO120)>P119+X120,P119+X120-AG120,$C120-SUM($AN120:AO120))))","v":0},{"$f":"IF(Q119<=0,0,IF($C120<=SUM($AN120:AP120),0,IF(AH120+$C120-SUM($AN120:AP120)>Q119+Y120,Q119+Y120-AH120,$C120-SUM($AN120:AP120))))","v":0},{"$f":"IF(R119<=0,0,IF($C120<=SUM($AN120:AQ120),0,IF(AI120+$C120-SUM($AN120:AQ120)>R119+Z120,R119+Z120-AI120,$C120-SUM($AN120:AQ120))))","v":0},{"$f":"IF(S119<=0,0,IF($C120<=SUM($AN120:AR120),0,IF(AJ120+$C120-SUM($AN120:AR120)>S119+AA120,S119+AA120-AJ120,$C120-SUM($AN120:AR120))))","v":0},{"$f":"IF(T119<=0,0,IF($C120<=SUM($AN120:AS120),0,IF(AK120+$C120-SUM($AN120:AS120)>T119+AB120,T119+AB120-AK120,$C120-SUM($AN120:AS120))))","v":0}]
["",{"$error":"#N/A"},"",null,0,0,0,0,0,0,0,null,0,0,0,0,0,0,0,0,null,0,0,0,0,0,0,0,0,null,0,0,0,0,0,0,{"$f":"IF(T120>0,IF((T120+AB121)<#REF!,T120+AB121,#REF!),0)","v":0},0,null,0,{"$f":"IF(O120<=0,0,IF($C121<=SUM($AN121:AN121),0,IF(AF121+$C121-SUM($AN121:AN121)>O120+W121,O120+W121-AF121,$C121-SUM($AN121:AN121))))","v":0},{"$f":"IF(P120<=0,0,IF($C121<=SUM($AN121:AO121),0,IF(AG121+$C121-SUM($AN121:AO121)>P120+X121,P120+X121-AG121,$C121-SUM($AN121:AO121))))","v":0},{"$f":"IF(Q120<=0,0,IF($C121<=SUM($AN121:AP121),0,IF(AH121+$C121-SUM($AN121:AP121)>Q120+Y121,Q120+Y121-AH121,$C121-SUM($AN121:AP121))))","v":0},{"$f":"IF(R120<=0,0,IF($C121<=SUM($AN121:AQ121),0,IF(AI121+$C121-SUM($AN121:AQ121)>R120+Z121,R120+Z121-AI121,$C121-SUM($AN121:AQ121))))","v":0},{"$f":"IF(S120<=0,0,IF($C121<=SUM($AN121:AR121),0,IF(AJ121+$C121-SUM($AN121:AR121)>S120+AA121,S120+AA121-AJ121,$C121-SUM($AN121:AR121))))","v":0},{"$f":"IF(T120<=0,0,IF($C121<=SUM($AN121:AS121),0,IF(AK121+$C121-SUM($AN121:AS121)>T120+AB121,T120+AB121-AK121,$C121-SUM($AN121:AS121))))","v":0}]
["",{"$error":"#N/A"},"",null,0,0,0,0,0,0,0,null,0,0,0,0,0,0,0,0,null,0,0,0,0,0,0,0,0,null,0,0,0,0,0,0,{"$f":"IF(T121>0,IF((T121+AB122)<#REF!,T121+AB122,#REF!),0)","v":0},0,null,0,{"$f":"IF(O121<=0,0,IF($C122<=SUM($AN122:AN122),0,IF(AF122+$C122-SUM($AN122:AN122)>O121+W122,O121+W122-AF122,$C122-SUM($AN122:AN122))))","v":0},{"$f":"IF(P121<=0,0,IF($C122<=SUM($AN122:AO122),0,IF(AG122+$C122-SUM($AN122:AO122)>P121+X122,P121+X122-AG122,$C122-SUM($AN122:AO122))))","v":0},{"$f":"IF(Q121<=0,0,IF($C122<=SUM($AN122:AP122),0,IF(AH122+$C122-SUM($AN122:AP122)>Q121+Y122,Q121+Y122-AH122,$C122-SUM($AN122:AP122))))","v":0},{"$f":"IF(R121<=0,0,IF($C122<=SUM($AN122:AQ122),0,IF(AI122+$C122-SUM($AN122:AQ122)>R121+Z122,R121+Z122-AI122,$C122-SUM($AN122:AQ122))))","v":0},{"$f":"IF(S121<=0,0,IF($C122<=SUM($AN122:AR122),0,IF(AJ122+$C122-SUM($AN122:AR122)>S121+AA122,S121+AA122-AJ122,$C122-SUM($AN122:AR122))))","v":0},{"$f":"IF(T121<=0,0,IF($C122<=SUM($AN122:AS122),0,IF(AK122+$C122-SUM($AN122:AS122)>T121+AB122,T121+AB122-AK122,$C122-SUM($AN122:AS122))))","v":0}]
["",{"$error":"#N/A"},"",null,0,0,0,0,0,0,0,null,0,0,0,0,0,0,0,0,null,0,0,0,0,0,0,0,0,null,0,0,0,0,0,0,{"$f":"IF(T122>0,IF((T122+AB123)<#REF!,T122+AB123,#REF!),0)","v":0},0,null,0,{"$f":"IF(O122<=0,0,IF($C123<=SUM($AN123:AN123),0,IF(AF123+$C123-SUM($AN123:AN123)>O122+W123,O122+W123-AF123,$C123-SUM($AN123:AN123))))","v":0},{"$f":"IF(P122<=0,0,IF($C123<=SUM($AN123:AO123),0,IF(AG123+$C123-SUM($AN123:AO123)>P122+X123,P122+X123-AG123,$C123-SUM($AN123:AO123))))","v":0},{"$f":"IF(Q122<=0,0,IF($C123<=SUM($AN123:AP123),0,IF(AH123+$C123-SUM($AN123:AP123)>Q122+Y123,Q122+Y123-AH123,$C123-SUM($AN123:AP123))))","v":0},{"$f":"IF(R122<=0,0,IF($C123<=SUM($AN123:AQ123),0,IF(AI123+$C123-SUM($AN123:AQ123)>R122+Z123,R122+Z123-AI123,$C123-SUM($AN123:AQ123))))","v":0},{"$f":"IF(S122<=0,0,IF($C123<=SUM($AN123:AR123),0,IF(AJ123+$C123-SUM($AN123:AR123)>S122+AA123,S122+AA123-AJ123,$C123-SUM($AN123:AR123))))","v":0},{"$f":"IF(T122<=0,0,IF($C123<=SUM($AN123:AS123),0,IF(AK123+$C123-SUM($AN123:AS123)>T122+AB123,T122+AB123-AK123,$C123-SUM($AN123:AS123))))","v":0}]
["",{"$error":"#N/A"},"",null,0,0,0,0,0,0,0,null,0,0,0,0,0,0,0,0,null,0,0,0,0,0,0,0,0,null,0,0,0,0,0,0,{"$f":"IF(T123>0,IF((T123+AB124)<#REF!,T123+AB124,#REF!),0)","v":0},0,null,0,{"$f":"IF(O123<=0,0,IF($C124<=SUM($AN124:AN124),0,IF(AF124+$C124-SUM($AN124:AN124)>O123+W124,O123+W124-AF124,$C124-SUM($AN124:AN124))))","v":0},{"$f":"IF(P123<=0,0,IF($C124<=SUM($AN124:AO124),0,IF(AG124+$C124-SUM($AN124:AO124)>P123+X124,P123+X124-AG124,$C124-SUM($AN124:AO124))))","v":0},{"$f":"IF(Q123<=0,0,IF($C124<=SUM($AN124:AP124),0,IF(AH124+$C124-SUM($AN124:AP124)>Q123+Y124,Q123+Y124-AH124,$C124-SUM($AN124:AP124))))","v":0},{"$f":"IF(R123<=0,0,IF($C124<=SUM($AN124:AQ124),0,IF(AI124+$C124-SUM($AN124:AQ124)>R123+Z124,R123+Z124-AI124,$C124-SUM($AN124:AQ124))))","v":0},{"$f":"IF(S123<=0,0,IF($C124<=SUM($AN124:AR124),0,IF(AJ124+$C124-SUM($AN124:AR124)>S123+AA124,S123+AA124-AJ124,$C124-SUM($AN124:AR124))))","v":0},{"$f":"IF(T123<=0,0,IF($C124<=SUM($AN124:AS124),0,IF(AK124+$C124-SUM($AN124:AS124)>T123+AB124,T123+AB124-AK124,$C124-SUM($AN124:AS124))))","v":0}]
["",{"$error":"#N/A"},"",null,0,0,0,0,0,0,0,null,0,0,0,0,0,0,0,0,null,0,0,0,0,0,0,0,0,null,0,0,0,0,0,0,{"$f":"IF(T124>0,IF((T124+AB125)<#REF!,T124+AB125,#REF!),0)","v":0},0,null,0,{"$f":"IF(O124<=0,0,IF($C125<=SUM($AN125:AN125),0,IF(AF125+$C125-SUM($AN125:AN125)>O124+W125,O124+W125-AF125,$C125-SUM($AN125:AN125))))","v":0},{"$f":"IF(P124<=0,0,IF($C125<=SUM($AN125:AO125),0,IF(AG125+$C125-SUM($AN125:AO125)>P124+X125,P124+X125-AG125,$C125-SUM($AN125:AO125))))","v":0},{"$f":"IF(Q124<=0,0,IF($C125<=SUM($AN125:AP125),0,IF(AH125+$C125-SUM($AN125:AP125)>Q124+Y125,Q124+Y125-AH125,$C125-SUM($AN125:AP125))))","v":0},{"$f":"IF(R124<=0,0,IF($C125<=SUM($AN125:AQ125),0,IF(AI125+$C125-SUM($AN125:AQ125)>R124+Z125,R124+Z125-AI125,$C125-SUM($AN125:AQ125))))","v":0},{"$f":"IF(S124<=0,0,IF($C125<=SUM($AN125:AR125),0,IF(AJ125+$C125-SUM($AN125:AR125)>S124+AA125,S124+AA125-AJ125,$C125-SUM($AN125:AR125))))","v":0},{"$f":"IF(T124<=0,0,IF($C125<=SUM($AN125:AS125),0,IF(AK125+$C125-SUM($AN125:AS125)>T124+AB125,T124+AB125-AK125,$C125-SUM($AN125:AS125))))","v":0}]
["",{"$error":"#N/A"},"",null,0,0,0,0,0,0,0,null,0,0,0,0,0,0,0,0,null,0,0,0,0,0,0,0,0,null,0,0,0,0,0,0,{"$f":"IF(T125>0,IF((T125+AB126)<#REF!,T125+AB126,#REF!),0)","v":0},0,null,0,{"$f":"IF(O125<=0,0,IF($C126<=SUM($AN126:AN126),0,IF(AF126+$C126-SUM($AN126:AN126)>O125+W126,O125+W126-AF126,$C126-SUM($AN126:AN126))))","v":0},{"$f":"IF(P125<=0,0,IF($C126<=SUM($AN126:AO126),0,IF(AG126+$C126-SUM($AN126:AO126)>P125+X126,P125+X126-AG126,$C126-SUM($AN126:AO126))))","v":0},{"$f":"IF(Q125<=0,0,IF($C126<=SUM($AN126:AP126),0,IF(AH126+$C126-SUM($AN126:AP126)>Q125+Y126,Q125+Y126-AH126,$C126-SUM($AN126:AP126))))","v":0},{"$f":"IF(R125<=0,0,IF($C126<=SUM($AN126:AQ126),0,IF(AI126+$C126-SUM($AN126:AQ126)>R125+Z126,R125+Z126-AI126,$C126-SUM($AN126:AQ126))))","v":0},{"$f":"IF(S125<=0,0,IF($C126<=SUM($AN126:AR126),0,IF(AJ126+$C126-SUM($AN126:AR126)>S125+AA126,S125+AA126-AJ126,$C126-SUM($AN126:AR126))))","v":0},{"$f":"IF(T125<=0,0,IF($C126<=SUM($AN126:AS126),0,IF(AK126+$C126-SUM($AN126:AS126)>T125+AB126,T125+AB126-AK126,$C126-SUM($AN126:AS126))))","v":0}]
["",{"$error":"#N/A"},"",null,0,0,0,0,0,0,0,null,0,0,0,0,0,0,0,0,null,0,0,0,0,0,0,0,0,null,0,0,0,0,0,0,{"$f":"IF(T126>0,IF((T126+AB127)<#REF!,T126+AB127,#REF!),0)","v":0},0,null,0,{"$f":"IF(O126<=0,0,IF($C127<=SUM($AN127:AN127),0,IF(AF127+$C127-SUM($AN127:AN127)>O126+W127,O126+W127-AF127,$C127-SUM($AN127:AN127))))","v":0},{"$f":"IF(P126<=0,0,IF($C127<=SUM($AN127:AO127),0,IF(AG127+$C127-SUM($AN127:AO127)>P126+X127,P126+X127-AG127,$C127-SUM($AN127:AO127))))","v":0},{"$f":"IF(Q126<=0,0,IF($C127<=SUM($AN127:AP127),0,IF(AH127+$C127-SUM($AN127:AP127)>Q126+Y127,Q126+Y127-AH127,$C127-SUM($AN127:AP127))))","v":0},{"$f":"IF(R126<=0,0,IF($C127<=SUM($AN127:AQ127),0,IF(AI127+$C127-SUM($AN127:AQ127)>R126+Z127,R126+Z127-AI127,$C127-SUM($AN127:AQ127))))","v":0},{"$f":"IF(S126<=0,0,IF($C127<=SUM($AN127:AR127),0,IF(AJ127+$C127-SUM($AN127:AR127)>S126+AA127,S126+AA127-AJ127,$C127-SUM($AN127:AR127))))","v":0},{"$f":"IF(T126<=0,0,IF($C127<=SUM($AN127:AS127),0,IF(AK127+$C127-SUM($AN127:AS127)>T126+AB127,T126+AB127-AK127,$C127-SUM($AN127:AS127))))","v":0}]
["",{"$error":"#N/A"},"",null,0,0,0,0,0,0,0,null,0,0,0,0,0,0,0,0,null,0,0,0,0,0,0,0,0,null,0,0,0,0,0,0,{"$f":"IF(T127>0,IF((T127+AB128)<#REF!,T127+AB128,#REF!),0)","v":0},0,null,0,{"$f":"IF(O127<=0,0,IF($C128<=SUM($AN128:AN128),0,IF(AF128+$C128-SUM($AN128:AN128)>O127+W128,O127+W128-AF128,$C128-SUM($AN128:AN128))))","v":0},{"$f":"IF(P127<=0,0,IF($C128<=SUM($AN128:AO128),0,IF(AG128+$C128-SUM($AN128:AO128)>P127+X128,P127+X128-AG128,$C128-SUM($AN128:AO128))))","v":0},{"$f":"IF(Q127<=0,0,IF($C128<=SUM($AN128:AP128),0,IF(AH128+$C128-SUM($AN128:AP128)>Q127+Y128,Q127+Y128-AH128,$C128-SUM($AN128:AP128))))","v":0},{"$f":"IF(R127<=0,0,IF($C128<=SUM($AN128:AQ128),0,IF(AI128+$C128-SUM($AN128:AQ128)>R127+Z128,R127+Z128-AI128,$C128-SUM($AN128:AQ128))))","v":0},{"$f":"IF(S127<=0,0,IF($C128<=SUM($AN128:AR128),0,IF(AJ128+$C128-SUM($AN128:AR128)>S127+AA128,S127+AA128-AJ128,$C128-SUM($AN128:AR128))))","v":0},{"$f":"IF(T127<=0,0,IF($C128<=SUM($AN128:AS128),0,IF(AK128+$C128-SUM($AN128:AS128)>T127+AB128,T127+AB128-AK128,$C128-SUM($AN128:AS128))))","v":0}]
["",{"$error":"#N/A"},"",null,0,0,0,0,0,0,0,null,0,0,0,0,0,0,0,0,null,0,0,0,0,0,0,0,0,null,0,0,0,0,0,0,{"$f":"IF(T128>0,IF((T128+AB129)<#REF!,T128+AB129,#REF!),0)","v":0},0,null,0,{"$f":"IF(O128<=0,0,IF($C129<=SUM($AN129:AN129),0,IF(AF129+$C129-SUM($AN129:AN129)>O128+W129,O128+W129-AF129,$C129-SUM($AN129:AN129))))","v":0},{"$f":"IF(P128<=0,0,IF($C129<=SUM($AN129:AO129),0,IF(AG129+$C129-SUM($AN129:AO129)>P128+X129,P128+X129-AG129,$C129-SUM($AN129:AO129))))","v":0},{"$f":"IF(Q128<=0,0,IF($C129<=SUM($AN129:AP129),0,IF(AH129+$C129-SUM($AN129:AP129)>Q128+Y129,Q128+Y129-AH129,$C129-SUM($AN129:AP129))))","v":0},{"$f":"IF(R128<=0,0,IF($C129<=SUM($AN129:AQ129),0,IF(AI129+$C129-SUM($AN129:AQ129)>R128+Z129,R128+Z129-AI129,$C129-SUM($AN129:AQ129))))","v":0},{"$f":"IF(S128<=0,0,IF($C129<=SUM($AN129:AR129),0,IF(AJ129+$C129-SUM($AN129:AR129)>S128+AA129,S128+AA129-AJ129,$C129-SUM($AN129:AR129))))","v":0},{"$f":"IF(T128<=0,0,IF($C129<=SUM($AN129:AS129),0,IF(AK129+$C129-SUM($AN129:AS129)>T128+AB129,T128+AB129-AK129,$C129-SUM($AN129:AS129))))","v":0}]
["",{"$error":"#N/A"},"",null,0,0,0,0,0,0,0,null,0,0,0,0,0,0,0,0,null,0,0,0,0,0,0,0,0,null,0,0,0,0,0,0,{"$f":"IF(T129>0,IF((T129+AB130)<#REF!,T129+AB130,#REF!),0)","v":0},0,null,0,{"$f":"IF(O129<=0,0,IF($C130<=SUM($AN130:AN130),0,IF(AF130+$C130-SUM($AN130:AN130)>O129+W130,O129+W130-AF130,$C130-SUM($AN130:AN130))))","v":0},{"$f":"IF(P129<=0,0,IF($C130<=SUM($AN130:AO130),0,IF(AG130+$C130-SUM($AN130:AO130)>P129+X130,P129+X130-AG130,$C130-SUM($AN130:AO130))))","v":0},{"$f":"IF(Q129<=0,0,IF($C130<=SUM($AN130:AP130),0,IF(AH130+$C130-SUM($AN130:AP130)>Q129+Y130,Q129+Y130-AH130,$C130-SUM($AN130:AP130))))","v":0},{"$f":"IF(R129<=0,0,IF($C130<=SUM($AN130:AQ130),0,IF(AI130+$C130-SUM($AN130:AQ130)>R129+Z130,R129+Z130-AI130,$C130-SUM($AN130:AQ130))))","v":0},{"$f":"IF(S129<=0,0,IF($C130<=SUM($AN130:AR130),0,IF(AJ130+$C130-SUM($AN130:AR130)>S129+AA130,S129+AA130-AJ130,$C130-SUM($AN130:AR130))))","v":0},{"$f":"IF(T129<=0,0,IF($C130<=SUM($AN130:AS130),0,IF(AK130+$C130-SUM($AN130:AS130)>T129+AB130,T129+AB130-AK130,$C130-SUM($AN130:AS130))))","v":0}]
["",{"$error":"#N/A"},"",null,0,0,0,0,0,0,0,null,0,0,0,0,0,0,0,0,null,0,0,0,0,0,0,0,0,null,0,0,0,0,0,0,{"$f":"IF(T130>0,IF((T130+AB131)<#REF!,T130+AB131,#REF!),0)","v":0},0,null,0,{"$f":"IF(O130<=0,0,IF($C131<=SUM($AN131:AN131),0,IF(AF131+$C131-SUM($AN131:AN131)>O130+W131,O130+W131-AF131,$C131-SUM($AN131:AN131))))","v":0},{"$f":"IF(P130<=0,0,IF($C131<=SUM($AN131:AO131),0,IF(AG131+$C131-SUM($AN131:AO131)>P130+X131,P130+X131-AG131,$C131-SUM($AN131:AO131))))","v":0},{"$f":"IF(Q130<=0,0,IF($C131<=SUM($AN131:AP131),0,IF(AH131+$C131-SUM($AN131:AP131)>Q130+Y131,Q130+Y131-AH131,$C131-SUM($AN131:AP131))))","v":0},{"$f":"IF(R130<=0,0,IF($C131<=SUM($AN131:AQ131),0,IF(AI131+$C131-SUM($AN131:AQ131)>R130+Z131,R130+Z131-AI131,$C131-SUM($AN131:AQ131))))","v":0},{"$f":"IF(S130<=0,0,IF($C131<=SUM($AN131:AR131),0,IF(AJ131+$C131-SUM($AN131:AR131)>S130+AA131,S130+AA131-AJ131,$C131-SUM($AN131:AR131))))","v":0},{"$f":"IF(T130<=0,0,IF($C131<=SUM($AN131:AS131),0,IF(AK131+$C131-SUM($AN131:AS131)>T130+AB131,T130+AB131-AK131,$C131-SUM($AN131:AS131))))","v":0}]
["",{"$error":"#N/A"},"",null,0,0,0,0,0,0,0,null,0,0,0,0,0,0,0,0,null,0,0,0,0,0,0,0,0,null,0,0,0,0,0,0,{"$f":"IF(T131>0,IF((T131+AB132)<#REF!,T131+AB132,#REF!),0)","v":0},0,null,0,{"$f":"IF(O131<=0,0,IF($C132<=SUM($AN132:AN132),0,IF(AF132+$C132-SUM($AN132:AN132)>O131+W132,O131+W132-AF132,$C132-SUM($AN132:AN132))))","v":0},{"$f":"IF(P131<=0,0,IF($C132<=SUM($AN132:AO132),0,IF(AG132+$C132-SUM($AN132:AO132)>P131+X132,P131+X132-AG132,$C132-SUM($AN132:AO132))))","v":0},{"$f":"IF(Q131<=0,0,IF($C132<=SUM($AN132:AP132),0,IF(AH132+$C132-SUM($AN132:AP132)>Q131+Y132,Q131+Y132-AH132,$C132-SUM($AN132:AP132))))","v":0},{"$f":"IF(R131<=0,0,IF($C132<=SUM($AN132:AQ132),0,IF(AI132+$C132-SUM($AN132:AQ132)>R131+Z132,R131+Z132-AI132,$C132-SUM($AN132:AQ132))))","v":0},{"$f":"IF(S131<=0,0,IF($C132<=SUM($AN132:AR132),0,IF(AJ132+$C132-SUM($AN132:AR132)>S131+AA132,S131+AA132-AJ132,$C132-SUM($AN132:AR132))))","v":0},{"$f":"IF(T131<=0,0,IF($C132<=SUM($AN132:AS132),0,IF(AK132+$C132-SUM($AN132:AS132)>T131+AB132,T131+AB132-AK132,$C132-SUM($AN132:AS132))))","v":0}]
["",{"$error":"#N/A"},"",null,0,0,0,0,0,0,0,null,0,0,0,0,0,0,0,0,null,0,0,0,0,0,0,0,0,null,0,0,0,0,0,0,{"$f":"IF(T132>0,IF((T132+AB133)<#REF!,T132+AB133,#REF!),0)","v":0},0,null,0,{"$f":"IF(O132<=0,0,IF($C133<=SUM($AN133:AN133),0,IF(AF133+$C133-SUM($AN133:AN133)>O132+W133,O132+W133-AF133,$C133-SUM($AN133:AN133))))","v":0},{"$f":"IF(P132<=0,0,IF($C133<=SUM($AN133:AO133),0,IF(AG133+$C133-SUM($AN133:AO133)>P132+X133,P132+X133-AG133,$C133-SUM($AN133:AO133))))","v":0},{"$f":"IF(Q132<=0,0,IF($C133<=SUM($AN133:AP133),0,IF(AH133+$C133-SUM($AN133:AP133)>Q132+Y133,Q132+Y133-AH133,$C133-SUM($AN133:AP133))))","v":0},{"$f":"IF(R132<=0,0,IF($C133<=SUM($AN133:AQ133),0,IF(AI133+$C133-SUM($AN133:AQ133)>R132+Z133,R132+Z133-AI133,$C133-SUM($AN133:AQ133))))","v":0},{"$f":"IF(S132<=0,0,IF($C133<=SUM($AN133:AR133),0,IF(AJ133+$C133-SUM($AN133:AR133)>S132+AA133,S132+AA133-AJ133,$C133-SUM($AN133:AR133))))","v":0},{"$f":"IF(T132<=0,0,IF($C133<=SUM($AN133:AS133),0,IF(AK133+$C133-SUM($AN133:AS133)>T132+AB133,T132+AB133-AK133,$C133-SUM($AN133:AS133))))","v":0}]
["",{"$error":"#N/A"},"",null,0,0,0,0,0,0,0,null,0,0,0,0,0,0,0,0,null,0,0,0,0,0,0,0,0,null,0,0,0,0,0,0,{"$f":"IF(T133>0,IF((T133+AB134)<#REF!,T133+AB134,#REF!),0)","v":0},0,null,0,{"$f":"IF(O133<=0,0,IF($C134<=SUM($AN134:AN134),0,IF(AF134+$C134-SUM($AN134:AN134)>O133+W134,O133+W134-AF134,$C134-SUM($AN134:AN134))))","v":0},{"$f":"IF(P133<=0,0,IF($C134<=SUM($AN134:AO134),0,IF(AG134+$C134-SUM($AN134:AO134)>P133+X134,P133+X134-AG134,$C134-SUM($AN134:AO134))))","v":0},{"$f":"IF(Q133<=0,0,IF($C134<=SUM($AN134:AP134),0,IF(AH134+$C134-SUM($AN134:AP134)>Q133+Y134,Q133+Y134-AH134,$C134-SUM($AN134:AP134))))","v":0},{"$f":"IF(R133<=0,0,IF($C134<=SUM($AN134:AQ134),0,IF(AI134+$C134-SUM($AN134:AQ134)>R133+Z134,R133+Z134-AI134,$C134-SUM($AN134:AQ134))))","v":0},{"$f":"IF(S133<=0,0,IF($C134<=SUM($AN134:AR134),0,IF(AJ134+$C134-SUM($AN134:AR134)>S133+AA134,S133+AA134-AJ134,$C134-SUM($AN134:AR134))))","v":0},{"$f":"IF(T133<=0,0,IF($C134<=SUM($AN134:AS134),0,IF(AK134+$C134-SUM($AN134:AS134)>T133+AB134,T133+AB134-AK134,$C134-SUM($AN134:AS134))))","v":0}]
["",{"$error":"#N/A"},"",null,0,0,0,0,0,0,0,null,0,0,0,0,0,0,0,0,null,0,0,0,0,0,0,0,0,null,0,0,0,0,0,0,{"$f":"IF(T134>0,IF((T134+AB135)<#REF!,T134+AB135,#REF!),0)","v":0},0,null,0,{"$f":"IF(O134<=0,0,IF($C135<=SUM($AN135:AN135),0,IF(AF135+$C135-SUM($AN135:AN135)>O134+W135,O134+W135-AF135,$C135-SUM($AN135:AN135))))","v":0},{"$f":"IF(P134<=0,0,IF($C135<=SUM($AN135:AO135),0,IF(AG135+$C135-SUM($AN135:AO135)>P134+X135,P134+X135-AG135,$C135-SUM($AN135:AO135))))","v":0},{"$f":"IF(Q134<=0,0,IF($C135<=SUM($AN135:AP135),0,IF(AH135+$C135-SUM($AN135:AP135)>Q134+Y135,Q134+Y135-AH135,$C135-SUM($AN135:AP135))))","v":0},{"$f":"IF(R134<=0,0,IF($C135<=SUM($AN135:AQ135),0,IF(AI135+$C135-SUM($AN135:AQ135)>R134+Z135,R134+Z135-AI135,$C135-SUM($AN135:AQ135))))","v":0},{"$f":"IF(S134<=0,0,IF($C135<=SUM($AN135:AR135),0,IF(AJ135+$C135-SUM($AN135:AR135)>S134+AA135,S134+AA135-AJ135,$C135-SUM($AN135:AR135))))","v":0},{"$f":"IF(T134<=0,0,IF($C135<=SUM($AN135:AS135),0,IF(AK135+$C135-SUM($AN135:AS135)>T134+AB135,T134+AB135-AK135,$C135-SUM($AN135:AS135))))","v":0}]
["",{"$error":"#N/A"},"",null,0,0,0,0,0,0,0,null,0,0,0,0,0,0,0,0,null,0,0,0,0,0,0,0,0,null,0,0,0,0,0,0,{"$f":"IF(T135>0,IF((T135+AB136)<#REF!,T135+AB136,#REF!),0)","v":0},0,null,0,{"$f":"IF(O135<=0,0,IF($C136<=SUM($AN136:AN136),0,IF(AF136+$C136-SUM($AN136:AN136)>O135+W136,O135+W136-AF136,$C136-SUM($AN136:AN136))))","v":0},{"$f":"IF(P135<=0,0,IF($C136<=SUM($AN136:AO136),0,IF(AG136+$C136-SUM($AN136:AO136)>P135+X136,P135+X136-AG136,$C136-SUM($AN136:AO136))))","v":0},{"$f":"IF(Q135<=0,0,IF($C136<=SUM($AN136:AP136),0,IF(AH136+$C136-SUM($AN136:AP136)>Q135+Y136,Q135+Y136-AH136,$C136-SUM($AN136:AP136))))","v":0},{"$f":"IF(R135<=0,0,IF($C136<=SUM($AN136:AQ136),0,IF(AI136+$C136-SUM($AN136:AQ136)>R135+Z136,R135+Z136-AI136,$C136-SUM($AN136:AQ136))))","v":0},{"$f":"IF(S135<=0,0,IF($C136<=SUM($AN136:AR136),0,IF(AJ136+$C136-SUM($AN136:AR136)>S135+AA136,S135+AA136-AJ136,$C136-SUM($AN136:AR136))))","v":0},{"$f":"IF(T135<=0,0,IF($C136<=SUM($AN136:AS136),0,IF(AK136+$C136-SUM($AN136:AS136)>T135+AB136,T135+AB136-AK136,$C136-SUM($AN136:AS136))))","v":0}]
["",{"$error":"#N/A"},"",null,0,0,0,0,0,0,0,null,0,0,0,0,0,0,0,0,null,0,0,0,0,0,0,0,0,null,0,0,0,0,0,0,{"$f":"IF(T136>0,IF((T136+AB137)<#REF!,T136+AB137,#REF!),0)","v":0},0,null,0,{"$f":"IF(O136<=0,0,IF($C137<=SUM($AN137:AN137),0,IF(AF137+$C137-SUM($AN137:AN137)>O136+W137,O136+W137-AF137,$C137-SUM($AN137:AN137))))","v":0},{"$f":"IF(P136<=0,0,IF($C137<=SUM($AN137:AO137),0,IF(AG137+$C137-SUM($AN137:AO137)>P136+X137,P136+X137-AG137,$C137-SUM($AN137:AO137))))","v":0},{"$f":"IF(Q136<=0,0,IF($C137<=SUM($AN137:AP137),0,IF(AH137+$C137-SUM($AN137:AP137)>Q136+Y137,Q136+Y137-AH137,$C137-SUM($AN137:AP137))))","v":0},{"$f":"IF(R136<=0,0,IF($C137<=SUM($AN137:AQ137),0,IF(AI137+$C137-SUM($AN137:AQ137)>R136+Z137,R136+Z137-AI137,$C137-SUM($AN137:AQ137))))","v":0},{"$f":"IF(S136<=0,0,IF($C137<=SUM($AN137:AR137),0,IF(AJ137+$C137-SUM($AN137:AR137)>S136+AA137,S136+AA137-AJ137,$C137-SUM($AN137:AR137))))","v":0},{"$f":"IF(T136<=0,0,IF($C137<=SUM($AN137:AS137),0,IF(AK137+$C137-SUM($AN137:AS137)>T136+AB137,T136+AB137-AK137,$C137-SUM($AN137:AS137))))","v":0}]
["",{"$error":"#N/A"},"",null,0,0,0,0,0,0,0,null,0,0,0,0,0,0,0,0,null,0,0,0,0,0,0,0,0,null,0,0,0,0,0,0,{"$f":"IF(T137>0,IF((T137+AB138)<#REF!,T137+AB138,#REF!),0)","v":0},0,null,0,{"$f":"IF(O137<=0,0,IF($C138<=SUM($AN138:AN138),0,IF(AF138+$C138-SUM($AN138:AN138)>O137+W138,O137+W138-AF138,$C138-SUM($AN138:AN138))))","v":0},{"$f":"IF(P137<=0,0,IF($C138<=SUM($AN138:AO138),0,IF(AG138+$C138-SUM($AN138:AO138)>P137+X138,P137+X138-AG138,$C138-SUM($AN138:AO138))))","v":0},{"$f":"IF(Q137<=0,0,IF($C138<=SUM($AN138:AP138),0,IF(AH138+$C138-SUM($AN138:AP138)>Q137+Y138,Q137+Y138-AH138,$C138-SUM($AN138:AP138))))","v":0},{"$f":"IF(R137<=0,0,IF($C138<=SUM($AN138:AQ138),0,IF(AI138+$C138-SUM($AN138:AQ138)>R137+Z138,R137+Z138-AI138,$C138-SUM($AN138:AQ138))))","v":0},{"$f":"IF(S137<=0,0,IF($C138<=SUM($AN138:AR138),0,IF(AJ138+$C138-SUM($AN138:AR138)>S137+AA138,S137+AA138-AJ138,$C138-SUM($AN138:AR138))))","v":0},{"$f":"IF(T137<=0,0,IF($C138<=SUM($AN138:AS138),0,IF(AK138+$C138-SUM($AN138:AS138)>T137+AB138,T137+AB138-AK138,$C138-SUM($AN138:AS138))))","v":0}]
["",{"$error":"#N/A"},"",null,0,0,0,0,0,0,0,null,0,0,0,0,0,0,0,0,null,0,0,0,0,0,0,0,0,null,0,0,0,0,0,0,{"$f":"IF(T138>0,IF((T138+AB139)<#REF!,T138+AB139,#REF!),0)","v":0},0,null,0,{"$f":"IF(O138<=0,0,IF($C139<=SUM($AN139:AN139),0,IF(AF139+$C139-SUM($AN139:AN139)>O138+W139,O138+W139-AF139,$C139-SUM($AN139:AN139))))","v":0},{"$f":"IF(P138<=0,0,IF($C139<=SUM($AN139:AO139),0,IF(AG139+$C139-SUM($AN139:AO139)>P138+X139,P138+X139-AG139,$C139-SUM($AN139:AO139))))","v":0},{"$f":"IF(Q138<=0,0,IF($C139<=SUM($AN139:AP139),0,IF(AH139+$C139-SUM($AN139:AP139)>Q138+Y139,Q138+Y139-AH139,$C139-SUM($AN139:AP139))))","v":0},{"$f":"IF(R138<=0,0,IF($C139<=SUM($AN139:AQ139),0,IF(AI139+$C139-SUM($AN139:AQ139)>R138+Z139,R138+Z139-AI139,$C139-SUM($AN139:AQ139))))","v":0},{"$f":"IF(S138<=0,0,IF($C139<=SUM($AN139:AR139),0,IF(AJ139+$C139-SUM($AN139:AR139)>S138+AA139,S138+AA139-AJ139,$C139-SUM($AN139:AR139))))","v":0},{"$f":"IF(T138<=0,0,IF($C139<=SUM($AN139:AS139),0,IF(AK139+$C139-SUM($AN139:AS139)>T138+AB139,T138+AB139-AK139,$C139-SUM($AN139:AS139))))","v":0}]
["",{"$error":"#N/A"},"",null,0,0,0,0,0,0,0,null,0,0,0,0,0,0,0,0,null,0,0,0,0,0,0,0,0,null,0,0,0,0,0,0,{"$f":"IF(T139>0,IF((T139+AB140)<#REF!,T139+AB140,#REF!),0)","v":0},0,null,0,{"$f":"IF(O139<=0,0,IF($C140<=SUM($AN140:AN140),0,IF(AF140+$C140-SUM($AN140:AN140)>O139+W140,O139+W140-AF140,$C140-SUM($AN140:AN140))))","v":0},{"$f":"IF(P139<=0,0,IF($C140<=SUM($AN140:AO140),0,IF(AG140+$C140-SUM($AN140:AO140)>P139+X140,P139+X140-AG140,$C140-SUM($AN140:AO140))))","v":0},{"$f":"IF(Q139<=0,0,IF($C140<=SUM($AN140:AP140),0,IF(AH140+$C140-SUM($AN140:AP140)>Q139+Y140,Q139+Y140-AH140,$C140-SUM($AN140:AP140))))","v":0},{"$f":"IF(R139<=0,0,IF($C140<=SUM($AN140:AQ140),0,IF(AI140+$C140-SUM($AN140:AQ140)>R139+Z140,R139+Z140-AI140,$C140-SUM($AN140:AQ140))))","v":0},{"$f":"IF(S139<=0,0,IF($C140<=SUM($AN140:AR140),0,IF(AJ140+$C140-SUM($AN140:AR140)>S139+AA140,S139+AA140-AJ140,$C140-SUM($AN140:AR140))))","v":0},{"$f":"IF(T139<=0,0,IF($C140<=SUM($AN140:AS140),0,IF(AK140+$C140-SUM($AN140:AS140)>T139+AB140,T139+AB140-AK140,$C140-SUM($AN140:AS140))))","v":0}]
["",{"$error":"#N/A"},"",null,0,0,0,0,0,0,0,null,0,0,0,0,0,0,0,0,null,0,0,0,0,0,0,0,0,null,0,0,0,0,0,0,{"$f":"IF(T140>0,IF((T140+AB141)<#REF!,T140+AB141,#REF!),0)","v":0},0,null,0,{"$f":"IF(O140<=0,0,IF($C141<=SUM($AN141:AN141),0,IF(AF141+$C141-SUM($AN141:AN141)>O140+W141,O140+W141-AF141,$C141-SUM($AN141:AN141))))","v":0},{"$f":"IF(P140<=0,0,IF($C141<=SUM($AN141:AO141),0,IF(AG141+$C141-SUM($AN141:AO141)>P140+X141,P140+X141-AG141,$C141-SUM($AN141:AO141))))","v":0},{"$f":"IF(Q140<=0,0,IF($C141<=SUM($AN141:AP141),0,IF(AH141+$C141-SUM($AN141:AP141)>Q140+Y141,Q140+Y141-AH141,$C141-SUM($AN141:AP141))))","v":0},{"$f":"IF(R140<=0,0,IF($C141<=SUM($AN141:AQ141),0,IF(AI141+$C141-SUM($AN141:AQ141)>R140+Z141,R140+Z141-AI141,$C141-SUM($AN141:AQ141))))","v":0},{"$f":"IF(S140<=0,0,IF($C141<=SUM($AN141:AR141),0,IF(AJ141+$C141-SUM($AN141:AR141)>S140+AA141,S140+AA141-AJ141,$C141-SUM($AN141:AR141))))","v":0},{"$f":"IF(T140<=0,0,IF($C141<=SUM($AN141:AS141),0,IF(AK141+$C141-SUM($AN141:AS141)>T140+AB141,T140+AB141-AK141,$C141-SUM($AN141:AS141))))","v":0}]
["",{"$error":"#N/A"},"",null,0,0,0,0,0,0,0,null,0,0,0,0,0,0,0,0,null,0,0,0,0,0,0,0,0,null,0,0,0,0,0,0,{"$f":"IF(T141>0,IF((T141+AB142)<#REF!,T141+AB142,#REF!),0)","v":0},0,null,0,{"$f":"IF(O141<=0,0,IF($C142<=SUM($AN142:AN142),0,IF(AF142+$C142-SUM($AN142:AN142)>O141+W142,O141+W142-AF142,$C142-SUM($AN142:AN142))))","v":0},{"$f":"IF(P141<=0,0,IF($C142<=SUM($AN142:AO142),0,IF(AG142+$C142-SUM($AN142:AO142)>P141+X142,P141+X142-AG142,$C142-SUM($AN142:AO142))))","v":0},{"$f":"IF(Q141<=0,0,IF($C142<=SUM($AN142:AP142),0,IF(AH142+$C142-SUM($AN142:AP142)>Q141+Y142,Q141+Y142-AH142,$C142-SUM($AN142:AP142))))","v":0},{"$f":"IF(R141<=0,0,IF($C142<=SUM($AN142:AQ142),0,IF(AI142+$C142-SUM($AN142:AQ142)>R141+Z142,R141+Z142-AI142,$C142-SUM($AN142:AQ142))))","v":0},{"$f":"IF(S141<=0,0,IF($C142<=SUM($AN142:AR142),0,IF(AJ142+$C142-SUM($AN142:AR142)>S141+AA142,S141+AA142-AJ142,$C142-SUM($AN142:AR142))))","v":0},{"$f":"IF(T141<=0,0,IF($C142<=SUM($AN142:AS142),0,IF(AK142+$C142-SUM($AN142:AS142)>T141+AB142,T141+AB142-AK142,$C142-SUM($AN142:AS142))))","v":0}]
["",{"$error":"#N/A"},"",null,0,0,0,0,0,0,0,null,0,0,0,0,0,0,0,0,null,0,0,0,0,0,0,0,0,null,0,0,0,0,0,0,{"$f":"IF(T142>0,IF((T142+AB143)<#REF!,T142+AB143,#REF!),0)","v":0},0,null,0,{"$f":"IF(O142<=0,0,IF($C143<=SUM($AN143:AN143),0,IF(AF143+$C143-SUM($AN143:AN143)>O142+W143,O142+W143-AF143,$C143-SUM($AN143:AN143))))","v":0},{"$f":"IF(P142<=0,0,IF($C143<=SUM($AN143:AO143),0,IF(AG143+$C143-SUM($AN143:AO143)>P142+X143,P142+X143-AG143,$C143-SUM($AN143:AO143))))","v":0},{"$f":"IF(Q142<=0,0,IF($C143<=SUM($AN143:AP143),0,IF(AH143+$C143-SUM($AN143:AP143)>Q142+Y143,Q142+Y143-AH143,$C143-SUM($AN143:AP143))))","v":0},{"$f":"IF(R142<=0,0,IF($C143<=SUM($AN143:AQ143),0,IF(AI143+$C143-SUM($AN143:AQ143)>R142+Z143,R142+Z143-AI143,$C143-SUM($AN143:AQ143))))","v":0},{"$f":"IF(S142<=0,0,IF($C143<=SUM($AN143:AR143),0,IF(AJ143+$C143-SUM($AN143:AR143)>S142+AA143,S142+AA143-AJ143,$C143-SUM($AN143:AR143))))","v":0},{"$f":"IF(T142<=0,0,IF($C143<=SUM($AN143:AS143),0,IF(AK143+$C143-SUM($AN143:AS143)>T142+AB143,T142+AB143-AK143,$C143-SUM($AN143:AS143))))","v":0}]
["",{"$error":"#N/A"},"",null,0,0,0,0,0,0,0,null,0,0,0,0,0,0,0,0,null,0,0,0,0,0,0,0,0,null,0,0,0,0,0,0,{"$f":"IF(T143>0,IF((T143+AB144)<#REF!,T143+AB144,#REF!),0)","v":0},0,null,0,{"$f":"IF(O143<=0,0,IF($C144<=SUM($AN144:AN144),0,IF(AF144+$C144-SUM($AN144:AN144)>O143+W144,O143+W144-AF144,$C144-SUM($AN144:AN144))))","v":0},{"$f":"IF(P143<=0,0,IF($C144<=SUM($AN144:AO144),0,IF(AG144+$C144-SUM($AN144:AO144)>P143+X144,P143+X144-AG144,$C144-SUM($AN144:AO144))))","v":0},{"$f":"IF(Q143<=0,0,IF($C144<=SUM($AN144:AP144),0,IF(AH144+$C144-SUM($AN144:AP144)>Q143+Y144,Q143+Y144-AH144,$C144-SUM($AN144:AP144))))","v":0},{"$f":"IF(R143<=0,0,IF($C144<=SUM($AN144:AQ144),0,IF(AI144+$C144-SUM($AN144:AQ144)>R143+Z144,R143+Z144-AI144,$C144-SUM($AN144:AQ144))))","v":0},{"$f":"IF(S143<=0,0,IF($C144<=SUM($AN144:AR144),0,IF(AJ144+$C144-SUM($AN144:AR144)>S143+AA144,S143+AA144-AJ144,$C144-SUM($AN144:AR144))))","v":0},{"$f":"IF(T143<=0,0,IF($C144<=SUM($AN144:AS144),0,IF(AK144+$C144-SUM($AN144:AS144)>T143+AB144,T143+AB144-AK144,$C144-SUM($AN144:AS144))))","v":0}]
["",{"$error":"#N/A"},"",null,0,0,0,0,0,0,0,null,0,0,0,0,0,0,0,0,null,0,0,0,0,0,0,0,0,null,0,0,0,0,0,0,{"$f":"IF(T144>0,IF((T144+AB145)<#REF!,T144+AB145,#REF!),0)","v":0},0,null,0,{"$f":"IF(O144<=0,0,IF($C145<=SUM($AN145:AN145),0,IF(AF145+$C145-SUM($AN145:AN145)>O144+W145,O144+W145-AF145,$C145-SUM($AN145:AN145))))","v":0},{"$f":"IF(P144<=0,0,IF($C145<=SUM($AN145:AO145),0,IF(AG145+$C145-SUM($AN145:AO145)>P144+X145,P144+X145-AG145,$C145-SUM($AN145:AO145))))","v":0},{"$f":"IF(Q144<=0,0,IF($C145<=SUM($AN145:AP145),0,IF(AH145+$C145-SUM($AN145:AP145)>Q144+Y145,Q144+Y145-AH145,$C145-SUM($AN145:AP145))))","v":0},{"$f":"IF(R144<=0,0,IF($C145<=SUM($AN145:AQ145),0,IF(AI145+$C145-SUM($AN145:AQ145)>R144+Z145,R144+Z145-AI145,$C145-SUM($AN145:AQ145))))","v":0},{"$f":"IF(S144<=0,0,IF($C145<=SUM($AN145:AR145),0,IF(AJ145+$C145-SUM($AN145:AR145)>S144+AA145,S144+AA145-AJ145,$C145-SUM($AN145:AR145))))","v":0},{"$f":"IF(T144<=0,0,IF($C145<=SUM($AN145:AS145),0,IF(AK145+$C145-SUM($AN145:AS145)>T144+AB145,T144+AB145-AK145,$C145-SUM($AN145:AS145))))","v":0}]
["",{"$error":"#N/A"},"",null,0,0,0,0,0,0,0,null,0,0,0,0,0,0,0,0,null,0,0,0,0,0,0,0,0,null,0,0,0,0,0,0,{"$f":"IF(T145>0,IF((T145+AB146)<#REF!,T145+AB146,#REF!),0)","v":0},0,null,0,{"$f":"IF(O145<=0,0,IF($C146<=SUM($AN146:AN146),0,IF(AF146+$C146-SUM($AN146:AN146)>O145+W146,O145+W146-AF146,$C146-SUM($AN146:AN146))))","v":0},{"$f":"IF(P145<=0,0,IF($C146<=SUM($AN146:AO146),0,IF(AG146+$C146-SUM($AN146:AO146)>P145+X146,P145+X146-AG146,$C146-SUM($AN146:AO146))))","v":0},{"$f":"IF(Q145<=0,0,IF($C146<=SUM($AN146:AP146),0,IF(AH146+$C146-SUM($AN146:AP146)>Q145+Y146,Q145+Y146-AH146,$C146-SUM($AN146:AP146))))","v":0},{"$f":"IF(R145<=0,0,IF($C146<=SUM($AN146:AQ146),0,IF(AI146+$C146-SUM($AN146:AQ146)>R145+Z146,R145+Z146-AI146,$C146-SUM($AN146:AQ146))))","v":0},{"$f":"IF(S145<=0,0,IF($C146<=SUM($AN146:AR146),0,IF(AJ146+$C146-SUM($AN146:AR146)>S145+AA146,S145+AA146-AJ146,$C146-SUM($AN146:AR146))))","v":0},{"$f":"IF(T145<=0,0,IF($C146<=SUM($AN146:AS146),0,IF(AK146+$C146-SUM($AN146:AS146)>T145+AB146,T145+AB146-AK146,$C146-SUM($AN146:AS146))))","v":0}]
["",{"$error":"#N/A"},"",null,0,0,0,0,0,0,0,null,0,0,0,0,0,0,0,0,null,0,0,0,0,0,0,0,0,null,0,0,0,0,0,0,{"$f":"IF(T146>0,IF((T146+AB147)<#REF!,T146+AB147,#REF!),0)","v":0},0,null,0,{"$f":"IF(O146<=0,0,IF($C147<=SUM($AN147:AN147),0,IF(AF147+$C147-SUM($AN147:AN147)>O146+W147,O146+W147-AF147,$C147-SUM($AN147:AN147))))","v":0},{"$f":"IF(P146<=0,0,IF($C147<=SUM($AN147:AO147),0,IF(AG147+$C147-SUM($AN147:AO147)>P146+X147,P146+X147-AG147,$C147-SUM($AN147:AO147))))","v":0},{"$f":"IF(Q146<=0,0,IF($C147<=SUM($AN147:AP147),0,IF(AH147+$C147-SUM($AN147:AP147)>Q146+Y147,Q146+Y147-AH147,$C147-SUM($AN147:AP147))))","v":0},{"$f":"IF(R146<=0,0,IF($C147<=SUM($AN147:AQ147),0,IF(AI147+$C147-SUM($AN147:AQ147)>R146+Z147,R146+Z147-AI147,$C147-SUM($AN147:AQ147))))","v":0},{"$f":"IF(S146<=0,0,IF($C147<=SUM($AN147:AR147),0,IF(AJ147+$C147-SUM($AN147:AR147)>S146+AA147,S146+AA147-AJ147,$C147-SUM($AN147:AR147))))","v":0},{"$f":"IF(T146<=0,0,IF($C147<=SUM($AN147:AS147),0,IF(AK147+$C147-SUM($AN147:AS147)>T146+AB147,T146+AB147-AK147,$C147-SUM($AN147:AS147))))","v":0}]
["",{"$error":"#N/A"},"",null,0,0,0,0,0,0,0,null,0,0,0,0,0,0,0,0,null,0,0,0,0,0,0,0,0,null,0,0,0,0,0,0,{"$f":"IF(T147>0,IF((T147+AB148)<#REF!,T147+AB148,#REF!),0)","v":0},0,null,0,{"$f":"IF(O147<=0,0,IF($C148<=SUM($AN148:AN148),0,IF(AF148+$C148-SUM($AN148:AN148)>O147+W148,O147+W148-AF148,$C148-SUM($AN148:AN148))))","v":0},{"$f":"IF(P147<=0,0,IF($C148<=SUM($AN148:AO148),0,IF(AG148+$C148-SUM($AN148:AO148)>P147+X148,P147+X148-AG148,$C148-SUM($AN148:AO148))))","v":0},{"$f":"IF(Q147<=0,0,IF($C148<=SUM($AN148:AP148),0,IF(AH148+$C148-SUM($AN148:AP148)>Q147+Y148,Q147+Y148-AH148,$C148-SUM($AN148:AP148))))","v":0},{"$f":"IF(R147<=0,0,IF($C148<=SUM($AN148:AQ148),0,IF(AI148+$C148-SUM($AN148:AQ148)>R147+Z148,R147+Z148-AI148,$C148-SUM($AN148:AQ148))))","v":0},{"$f":"IF(S147<=0,0,IF($C148<=SUM($AN148:AR148),0,IF(AJ148+$C148-SUM($AN148:AR148)>S147+AA148,S147+AA148-AJ148,$C148-SUM($AN148:AR148))))","v":0},{"$f":"IF(T147<=0,0,IF($C148<=SUM($AN148:AS148),0,IF(AK148+$C148-SUM($AN148:AS148)>T147+AB148,T147+AB148-AK148,$C148-SUM($AN148:AS148))))","v":0}]
[{"$f":"IF(SUM(N148:T148)<=0,\"\",A148+1)","v":""},{"$error":"#N/A"},"",null,0,0,0,0,0,0,0,null,0,{"$f":"IF(D$8=0,0,ROUND(N148-(E149-V149),2))","v":0},{"$f":"IF(E$8=0,0,ROUND(O148-(F149-W149),2))","v":0},{"$f":"IF(F$8=0,0,ROUND(P148-(G149-X149),2))","v":0},{"$f":"IF(G$8=0,0,ROUND(Q148-(H149-Y149),2))","v":0},{"$f":"IF(H$8=0,0,ROUND(R148-(I149-Z149),2))","v":0},{"$f":"IF(I$8=0,0,ROUND(S148-(J149-AA149),2))","v":0},{"$f":"IF(J$8=0,0,ROUND(T148-(K149-AB149),2))","v":0},null,{"$f":"ROUND(N148*E$9/12,2)","v":0},{"$f":"ROUND(O148*F$9/12,2)","v":0},{"$f":"ROUND(P148*G$9/12,2)","v":0},{"$f":"ROUND(Q148*H$9/12,2)","v":0},{"$f":"ROUND(R148*I$9/12,2)","v":0},{"$f":"ROUND(S148*J$9/12,2)","v":0},{"$f":"ROUND(T148*K$9/12,2)","v":0},0,null,0,0,0,0,0,0,{"$f":"IF(T148>0,IF((T148+AB149)<#REF!,T148+AB149,#REF!),0)","v":0},0,null,0,{"$f":"IF(O148<=0,0,IF($C149<=SUM($AN149:AN149),0,IF(AF149+$C149-SUM($AN149:AN149)>O148+W149,O148+W149-AF149,$C149-SUM($AN149:AN149))))","v":0},{"$f":"IF(P148<=0,0,IF($C149<=SUM($AN149:AO149),0,IF(AG149+$C149-SUM($AN149:AO149)>P148+X149,P148+X149-AG149,$C149-SUM($AN149:AO149))))","v":0},{"$f":"IF(Q148<=0,0,IF($C149<=SUM($AN149:AP149),0,IF(AH149+$C149-SUM($AN149:AP149)>Q148+Y149,Q148+Y149-AH149,$C149-SUM($AN149:AP149))))","v":0},{"$f":"IF(R148<=0,0,IF($C149<=SUM($AN149:AQ149),0,IF(AI149+$C149-SUM($AN149:AQ149)>R148+Z149,R148+Z149-AI149,$C149-SUM($AN149:AQ149))))","v":0},{"$f":"IF(S148<=0,0,IF($C149<=SUM($AN149:AR149),0,IF(AJ149+$C149-SUM($AN149:AR149)>S148+AA149,S148+AA149-AJ149,$C149-SUM($AN149:AR149))))","v":0},{"$f":"IF(T148<=0,0,IF($C149<=SUM($AN149:AS149),0,IF(AK149+$C149-SUM($AN149:AS149)>T148+AB149,T148+AB149-AK149,$C149-SUM($AN149:AS149))))","v":0}]
["",{"$error":"#N/A"},"",null,0,0,0,0,0,0,0,null,0,0,0,0,0,0,0,0,null,0,0,0,0,0,0,0,0,null,{"$f":"IF(N149>0,IF((N149+V150)<E$10,N149+V150,E$10),0)","v":0},{"$f":"IF(O149>0,IF((O149+W150)<F$10,O149+W150,F$10),0)","v":0},{"$f":"IF(P149>0,IF((P149+X150)<G$10,P149+X150,G$10),0)","v":0},{"$f":"IF(Q149>0,IF((Q149+Y150)<H$10,Q149+Y150,H$10),0)","v":0},{"$f":"IF(R149>0,IF((R149+Z150)<I$10,R149+Z150,I$10),0)","v":0},{"$f":"IF(S149>0,IF((S149+AA150)<I$10,S149+AA150,I$10),0)","v":0},{"$f":"IF(T149>0,IF((T149+AB150)<#REF!,T149+AB150,#REF!),0)","v":0},0,null,0,{"$f":"IF(O149<=0,0,IF($C150<=SUM($AN150:AN150),0,IF(AF150+$C150-SUM($AN150:AN150)>O149+W150,O149+W150-AF150,$C150-SUM($AN150:AN150))))","v":0},{"$f":"IF(P149<=0,0,IF($C150<=SUM($AN150:AO150),0,IF(AG150+$C150-SUM($AN150:AO150)>P149+X150,P149+X150-AG150,$C150-SUM($AN150:AO150))))","v":0},{"$f":"IF(Q149<=0,0,IF($C150<=SUM($AN150:AP150),0,IF(AH150+$C150-SUM($AN150:AP150)>Q149+Y150,Q149+Y150-AH150,$C150-SUM($AN150:AP150))))","v":0},{"$f":"IF(R149<=0,0,IF($C150<=SUM($AN150:AQ150),0,IF(AI150+$C150-SUM($AN150:AQ150)>R149+Z150,R149+Z150-AI150,$C150-SUM($AN150:AQ150))))","v":0},{"$f":"IF(S149<=0,0,IF($C150<=SUM($AN150:AR150),0,IF(AJ150+$C150-SUM($AN150:AR150)>S149+AA150,S149+AA150-AJ150,$C150-SUM($AN150:AR150))))","v":0},{"$f":"IF(T149<=0,0,IF($C150<=SUM($AN150:AS150),0,IF(AK150+$C150-SUM($AN150:AS150)>T149+AB150,T149+AB150-AK150,$C150-SUM($AN150:AS150))))","v":0}]
["",{"$error":"#N/A"},"",null,0,0,0,0,0,0,0,null,0,0,0,0,0,0,0,0,null,0,0,0,0,0,0,0,0,null,0,0,0,0,0,0,{"$f":"IF(T150>0,IF((T150+AB151)<#REF!,T150+AB151,#REF!),0)","v":0},0,null,0,{"$f":"IF(O150<=0,0,IF($C151<=SUM($AN151:AN151),0,IF(AF151+$C151-SUM($AN151:AN151)>O150+W151,O150+W151-AF151,$C151-SUM($AN151:AN151))))","v":0},{"$f":"IF(P150<=0,0,IF($C151<=SUM($AN151:AO151),0,IF(AG151+$C151-SUM($AN151:AO151)>P150+X151,P150+X151-AG151,$C151-SUM($AN151:AO151))))","v":0},{"$f":"IF(Q150<=0,0,IF($C151<=SUM($AN151:AP151),0,IF(AH151+$C151-SUM($AN151:AP151)>Q150+Y151,Q150+Y151-AH151,$C151-SUM($AN151:AP151))))","v":0},{"$f":"IF(R150<=0,0,IF($C151<=SUM($AN151:AQ151),0,IF(AI151+$C151-SUM($AN151:AQ151)>R150+Z151,R150+Z151-AI151,$C151-SUM($AN151:AQ151))))","v":0},{"$f":"IF(S150<=0,0,IF($C151<=SUM($AN151:AR151),0,IF(AJ151+$C151-SUM($AN151:AR151)>S150+AA151,S150+AA151-AJ151,$C151-SUM($AN151:AR151))))","v":0},{"$f":"IF(T150<=0,0,IF($C151<=SUM($AN151:AS151),0,IF(AK151+$C151-SUM($AN151:AS151)>T150+AB151,T150+AB151-AK151,$C151-SUM($AN151:AS151))))","v":0}]
["",{"$error":"#N/A"},"",null,0,0,0,0,0,0,0,null,0,0,0,0,0,0,0,0,null,0,0,0,0,0,0,0,0,null,0,0,0,0,0,0,{"$f":"IF(T151>0,IF((T151+AB152)<#REF!,T151+AB152,#REF!),0)","v":0},0,null,0,{"$f":"IF(O151<=0,0,IF($C152<=SUM($AN152:AN152),0,IF(AF152+$C152-SUM($AN152:AN152)>O151+W152,O151+W152-AF152,$C152-SUM($AN152:AN152))))","v":0},{"$f":"IF(P151<=0,0,IF($C152<=SUM($AN152:AO152),0,IF(AG152+$C152-SUM($AN152:AO152)>P151+X152,P151+X152-AG152,$C152-SUM($AN152:AO152))))","v":0},{"$f":"IF(Q151<=0,0,IF($C152<=SUM($AN152:AP152),0,IF(AH152+$C152-SUM($AN152:AP152)>Q151+Y152,Q151+Y152-AH152,$C152-SUM($AN152:AP152))))","v":0},{"$f":"IF(R151<=0,0,IF($C152<=SUM($AN152:AQ152),0,IF(AI152+$C152-SUM($AN152:AQ152)>R151+Z152,R151+Z152-AI152,$C152-SUM($AN152:AQ152))))","v":0},{"$f":"IF(S151<=0,0,IF($C152<=SUM($AN152:AR152),0,IF(AJ152+$C152-SUM($AN152:AR152)>S151+AA152,S151+AA152-AJ152,$C152-SUM($AN152:AR152))))","v":0},{"$f":"IF(T151<=0,0,IF($C152<=SUM($AN152:AS152),0,IF(AK152+$C152-SUM($AN152:AS152)>T151+AB152,T151+AB152-AK152,$C152-SUM($AN152:AS152))))","v":0}]
["",{"$error":"#N/A"},"",null,0,0,0,0,0,0,0,null,0,0,0,0,0,0,0,0,null,0,0,0,0,0,0,0,0,null,0,0,0,0,0,0,{"$f":"IF(T152>0,IF((T152+AB153)<#REF!,T152+AB153,#REF!),0)","v":0},0,null,0,{"$f":"IF(O152<=0,0,IF($C153<=SUM($AN153:AN153),0,IF(AF153+$C153-SUM($AN153:AN153)>O152+W153,O152+W153-AF153,$C153-SUM($AN153:AN153))))","v":0},{"$f":"IF(P152<=0,0,IF($C153<=SUM($AN153:AO153),0,IF(AG153+$C153-SUM($AN153:AO153)>P152+X153,P152+X153-AG153,$C153-SUM($AN153:AO153))))","v":0},{"$f":"IF(Q152<=0,0,IF($C153<=SUM($AN153:AP153),0,IF(AH153+$C153-SUM($AN153:AP153)>Q152+Y153,Q152+Y153-AH153,$C153-SUM($AN153:AP153))))","v":0},{"$f":"IF(R152<=0,0,IF($C153<=SUM($AN153:AQ153),0,IF(AI153+$C153-SUM($AN153:AQ153)>R152+Z153,R152+Z153-AI153,$C153-SUM($AN153:AQ153))))","v":0},{"$f":"IF(S152<=0,0,IF($C153<=SUM($AN153:AR153),0,IF(AJ153+$C153-SUM($AN153:AR153)>S152+AA153,S152+AA153-AJ153,$C153-SUM($AN153:AR153))))","v":0},{"$f":"IF(T152<=0,0,IF($C153<=SUM($AN153:AS153),0,IF(AK153+$C153-SUM($AN153:AS153)>T152+AB153,T152+AB153-AK153,$C153-SUM($AN153:AS153))))","v":0}]
["",{"$error":"#N/A"},"",null,0,0,0,0,0,0,0,null,0,0,0,0,0,0,0,0,null,0,0,0,0,0,0,0,0,null,0,0,0,0,0,0,{"$f":"IF(T153>0,IF((T153+AB154)<#REF!,T153+AB154,#REF!),0)","v":0},0,null,0,{"$f":"IF(O153<=0,0,IF($C154<=SUM($AN154:AN154),0,IF(AF154+$C154-SUM($AN154:AN154)>O153+W154,O153+W154-AF154,$C154-SUM($AN154:AN154))))","v":0},{"$f":"IF(P153<=0,0,IF($C154<=SUM($AN154:AO154),0,IF(AG154+$C154-SUM($AN154:AO154)>P153+X154,P153+X154-AG154,$C154-SUM($AN154:AO154))))","v":0},{"$f":"IF(Q153<=0,0,IF($C154<=SUM($AN154:AP154),0,IF(AH154+$C154-SUM($AN154:AP154)>Q153+Y154,Q153+Y154-AH154,$C154-SUM($AN154:AP154))))","v":0},{"$f":"IF(R153<=0,0,IF($C154<=SUM($AN154:AQ154),0,IF(AI154+$C154-SUM($AN154:AQ154)>R153+Z154,R153+Z154-AI154,$C154-SUM($AN154:AQ154))))","v":0},{"$f":"IF(S153<=0,0,IF($C154<=SUM($AN154:AR154),0,IF(AJ154+$C154-SUM($AN154:AR154)>S153+AA154,S153+AA154-AJ154,$C154-SUM($AN154:AR154))))","v":0},{"$f":"IF(T153<=0,0,IF($C154<=SUM($AN154:AS154),0,IF(AK154+$C154-SUM($AN154:AS154)>T153+AB154,T153+AB154-AK154,$C154-SUM($AN154:AS154))))","v":0}]
["",{"$error":"#N/A"},"",null,0,0,0,0,0,0,0,null,0,0,0,0,0,0,0,0,null,0,0,0,0,0,0,0,0,null,0,0,0,0,0,0,{"$f":"IF(T154>0,IF((T154+AB155)<#REF!,T154+AB155,#REF!),0)","v":0},0,null,0,{"$f":"IF(O154<=0,0,IF($C155<=SUM($AN155:AN155),0,IF(AF155+$C155-SUM($AN155:AN155)>O154+W155,O154+W155-AF155,$C155-SUM($AN155:AN155))))","v":0},{"$f":"IF(P154<=0,0,IF($C155<=SUM($AN155:AO155),0,IF(AG155+$C155-SUM($AN155:AO155)>P154+X155,P154+X155-AG155,$C155-SUM($AN155:AO155))))","v":0},{"$f":"IF(Q154<=0,0,IF($C155<=SUM($AN155:AP155),0,IF(AH155+$C155-SUM($AN155:AP155)>Q154+Y155,Q154+Y155-AH155,$C155-SUM($AN155:AP155))))","v":0},{"$f":"IF(R154<=0,0,IF($C155<=SUM($AN155:AQ155),0,IF(AI155+$C155-SUM($AN155:AQ155)>R154+Z155,R154+Z155-AI155,$C155-SUM($AN155:AQ155))))","v":0},{"$f":"IF(S154<=0,0,IF($C155<=SUM($AN155:AR155),0,IF(AJ155+$C155-SUM($AN155:AR155)>S154+AA155,S154+AA155-AJ155,$C155-SUM($AN155:AR155))))","v":0},{"$f":"IF(T154<=0,0,IF($C155<=SUM($AN155:AS155),0,IF(AK155+$C155-SUM($AN155:AS155)>T154+AB155,T154+AB155-AK155,$C155-SUM($AN155:AS155))))","v":0}]
["",{"$error":"#N/A"},"",null,0,0,0,0,0,0,0,null,0,0,0,0,0,0,0,0,null,0,0,0,0,0,0,0,0,null,0,0,0,0,0,0,{"$f":"IF(T155>0,IF((T155+AB156)<#REF!,T155+AB156,#REF!),0)","v":0},0,null,0,{"$f":"IF(O155<=0,0,IF($C156<=SUM($AN156:AN156),0,IF(AF156+$C156-SUM($AN156:AN156)>O155+W156,O155+W156-AF156,$C156-SUM($AN156:AN156))))","v":0},{"$f":"IF(P155<=0,0,IF($C156<=SUM($AN156:AO156),0,IF(AG156+$C156-SUM($AN156:AO156)>P155+X156,P155+X156-AG156,$C156-SUM($AN156:AO156))))","v":0},{"$f":"IF(Q155<=0,0,IF($C156<=SUM($AN156:AP156),0,IF(AH156+$C156-SUM($AN156:AP156)>Q155+Y156,Q155+Y156-AH156,$C156-SUM($AN156:AP156))))","v":0},{"$f":"IF(R155<=0,0,IF($C156<=SUM($AN156:AQ156),0,IF(AI156+$C156-SUM($AN156:AQ156)>R155+Z156,R155+Z156-AI156,$C156-SUM($AN156:AQ156))))","v":0},{"$f":"IF(S155<=0,0,IF($C156<=SUM($AN156:AR156),0,IF(AJ156+$C156-SUM($AN156:AR156)>S155+AA156,S155+AA156-AJ156,$C156-SUM($AN156:AR156))))","v":0},{"$f":"IF(T155<=0,0,IF($C156<=SUM($AN156:AS156),0,IF(AK156+$C156-SUM($AN156:AS156)>T155+AB156,T155+AB156-AK156,$C156-SUM($AN156:AS156))))","v":0}]
["",{"$error":"#N/A"},"",null,0,0,0,0,0,0,0,null,0,0,0,0,0,0,0,0,null,0,0,0,0,0,0,0,0,null,0,0,0,0,0,0,{"$f":"IF(T156>0,IF((T156+AB157)<#REF!,T156+AB157,#REF!),0)","v":0},0,null,0,{"$f":"IF(O156<=0,0,IF($C157<=SUM($AN157:AN157),0,IF(AF157+$C157-SUM($AN157:AN157)>O156+W157,O156+W157-AF157,$C157-SUM($AN157:AN157))))","v":0},{"$f":"IF(P156<=0,0,IF($C157<=SUM($AN157:AO157),0,IF(AG157+$C157-SUM($AN157:AO157)>P156+X157,P156+X157-AG157,$C157-SUM($AN157:AO157))))","v":0},{"$f":"IF(Q156<=0,0,IF($C157<=SUM($AN157:AP157),0,IF(AH157+$C157-SUM($AN157:AP157)>Q156+Y157,Q156+Y157-AH157,$C157-SUM($AN157:AP157))))","v":0},{"$f":"IF(R156<=0,0,IF($C157<=SUM($AN157:AQ157),0,IF(AI157+$C157-SUM($AN157:AQ157)>R156+Z157,R156+Z157-AI157,$C157-SUM($AN157:AQ157))))","v":0},{"$f":"IF(S156<=0,0,IF($C157<=SUM($AN157:AR157),0,IF(AJ157+$C157-SUM($AN157:AR157)>S156+AA157,S156+AA157-AJ157,$C157-SUM($AN157:AR157))))","v":0},{"$f":"IF(T156<=0,0,IF($C157<=SUM($AN157:AS157),0,IF(AK157+$C157-SUM($AN157:AS157)>T156+AB157,T156+AB157-AK157,$C157-SUM($AN157:AS157))))","v":0}]
["",{"$error":"#N/A"},"",null,0,0,0,0,0,0,0,null,0,0,0,0,0,0,0,0,null,0,0,0,0,0,0,0,0,null,0,0,0,0,0,0,{"$f":"IF(T157>0,IF((T157+AB158)<#REF!,T157+AB158,#REF!),0)","v":0},0,null,0,{"$f":"IF(O157<=0,0,IF($C158<=SUM($AN158:AN158),0,IF(AF158+$C158-SUM($AN158:AN158)>O157+W158,O157+W158-AF158,$C158-SUM($AN158:AN158))))","v":0},{"$f":"IF(P157<=0,0,IF($C158<=SUM($AN158:AO158),0,IF(AG158+$C158-SUM($AN158:AO158)>P157+X158,P157+X158-AG158,$C158-SUM($AN158:AO158))))","v":0},{"$f":"IF(Q157<=0,0,IF($C158<=SUM($AN158:AP158),0,IF(AH158+$C158-SUM($AN158:AP158)>Q157+Y158,Q157+Y158-AH158,$C158-SUM($AN158:AP158))))","v":0},{"$f":"IF(R157<=0,0,IF($C158<=SUM($AN158:AQ158),0,IF(AI158+$C158-SUM($AN158:AQ158)>R157+Z158,R157+Z158-AI158,$C158-SUM($AN158:AQ158))))","v":0},{"$f":"IF(S157<=0,0,IF($C158<=SUM($AN158:AR158),0,IF(AJ158+$C158-SUM($AN158:AR158)>S157+AA158,S157+AA158-AJ158,$C158-SUM($AN158:AR158))))","v":0},{"$f":"IF(T157<=0,0,IF($C158<=SUM($AN158:AS158),0,IF(AK158+$C158-SUM($AN158:AS158)>T157+AB158,T157+AB158-AK158,$C158-SUM($AN158:AS158))))","v":0}]
["",{"$error":"#N/A"},"",null,0,0,0,0,0,0,0,null,0,0,0,0,0,0,0,0,null,0,0,0,0,0,0,0,0,null,0,0,0,0,0,0,{"$f":"IF(T158>0,IF((T158+AB159)<#REF!,T158+AB159,#REF!),0)","v":0},0,null,0,{"$f":"IF(O158<=0,0,IF($C159<=SUM($AN159:AN159),0,IF(AF159+$C159-SUM($AN159:AN159)>O158+W159,O158+W159-AF159,$C159-SUM($AN159:AN159))))","v":0},{"$f":"IF(P158<=0,0,IF($C159<=SUM($AN159:AO159),0,IF(AG159+$C159-SUM($AN159:AO159)>P158+X159,P158+X159-AG159,$C159-SUM($AN159:AO159))))","v":0},{"$f":"IF(Q158<=0,0,IF($C159<=SUM($AN159:AP159),0,IF(AH159+$C159-SUM($AN159:AP159)>Q158+Y159,Q158+Y159-AH159,$C159-SUM($AN159:AP159))))","v":0},{"$f":"IF(R158<=0,0,IF($C159<=SUM($AN159:AQ159),0,IF(AI159+$C159-SUM($AN159:AQ159)>R158+Z159,R158+Z159-AI159,$C159-SUM($AN159:AQ159))))","v":0},{"$f":"IF(S158<=0,0,IF($C159<=SUM($AN159:AR159),0,IF(AJ159+$C159-SUM($AN159:AR159)>S158+AA159,S158+AA159-AJ159,$C159-SUM($AN159:AR159))))","v":0},{"$f":"IF(T158<=0,0,IF($C159<=SUM($AN159:AS159),0,IF(AK159+$C159-SUM($AN159:AS159)>T158+AB159,T158+AB159-AK159,$C159-SUM($AN159:AS159))))","v":0}]
["",{"$f":"IF(A160=\"\",NA(),DATE(YEAR(B159),MONTH(B159)+1,1))","v":{"$error":"#N/A"}},"",null,{"$f":"AE160+AN160","v":0},{"$f":"AF160+AO160","v":0},{"$f":"AG160+AP160","v":0},{"$f":"AH160+AQ160","v":0},{"$f":"AI160+AR160","v":0},{"$f":"AJ160+AS160","v":0},{"$f":"AK160+AT160","v":0},null,{"$f":"SUM(N160:T160)","v":0},0,0,0,0,0,0,0,null,0,0,0,0,0,0,0,{"$f":"SUM(V160:AB160)","v":0},null,0,0,0,0,0,0,{"$f":"IF(T159>0,IF((T159+AB160)<#REF!,T159+AB160,#REF!),0)","v":0},{"$f":"SUM(AE160:AK160)","v":0},null,{"$f":"IF(N159<=0,0,IF(AE160+$C160>N159+V160,N159+V160-AE160,$C160))","v":0},{"$f":"IF(O159<=0,0,IF($C160<=SUM($AN160:AN160),0,IF(AF160+$C160-SUM($AN160:AN160)>O159+W160,O159+W160-AF160,$C160-SUM($AN160:AN160))))","v":0},{"$f":"IF(P159<=0,0,IF($C160<=SUM($AN160:AO160),0,IF(AG160+$C160-SUM($AN160:AO160)>P159+X160,P159+X160-AG160,$C160-SUM($AN160:AO160))))","v":0},{"$f":"IF(Q159<=0,0,IF($C160<=SUM($AN160:AP160),0,IF(AH160+$C160-SUM($AN160:AP160)>Q159+Y160,Q159+Y160-AH160,$C160-SUM($AN160:AP160))))","v":0},{"$f":"IF(R159<=0,0,IF($C160<=SUM($AN160:AQ160),0,IF(AI160+$C160-SUM($AN160:AQ160)>R159+Z160,R159+Z160-AI160,$C160-SUM($AN160:AQ160))))","v":0},{"$f":"IF(S159<=0,0,IF($C160<=SUM($AN160:AR160),0,IF(AJ160+$C160-SUM($AN160:AR160)>S159+AA160,S159+AA160-AJ160,$C160-SUM($AN160:AR160))))","v":0},{"$f":"IF(T159<=0,0,IF($C160<=SUM($AN160:AS160),0,IF(AK160+$C160-SUM($AN160:AS160)>T159+AB160,T159+AB160-AK160,$C160-SUM($AN160:AS160))))","v":0}]
["",{"$error":"#N/A"},"",null,0,0,0,0,0,0,0,null,0,0,0,0,0,0,0,0,null,0,0,0,0,0,0,0,0,null,0,0,0,0,0,0,{"$f":"IF(T160>0,IF((T160+AB161)<#REF!,T160+AB161,#REF!),0)","v":0},0,null,0,{"$f":"IF(O160<=0,0,IF($C161<=SUM($AN161:AN161),0,IF(AF161+$C161-SUM($AN161:AN161)>O160+W161,O160+W161-AF161,$C161-SUM($AN161:AN161))))","v":0},{"$f":"IF(P160<=0,0,IF($C161<=SUM($AN161:AO161),0,IF(AG161+$C161-SUM($AN161:AO161)>P160+X161,P160+X161-AG161,$C161-SUM($AN161:AO161))))","v":0},{"$f":"IF(Q160<=0,0,IF($C161<=SUM($AN161:AP161),0,IF(AH161+$C161-SUM($AN161:AP161)>Q160+Y161,Q160+Y161-AH161,$C161-SUM($AN161:AP161))))","v":0},{"$f":"IF(R160<=0,0,IF($C161<=SUM($AN161:AQ161),0,IF(AI161+$C161-SUM($AN161:AQ161)>R160+Z161,R160+Z161-AI161,$C161-SUM($AN161:AQ161))))","v":0},{"$f":"IF(S160<=0,0,IF($C161<=SUM($AN161:AR161),0,IF(AJ161+$C161-SUM($AN161:AR161)>S160+AA161,S160+AA161-AJ161,$C161-SUM($AN161:AR161))))","v":0},{"$f":"IF(T160<=0,0,IF($C161<=SUM($AN161:AS161),0,IF(AK161+$C161-SUM($AN161:AS161)>T160+AB161,T160+AB161-AK161,$C161-SUM($AN161:AS161))))","v":0}]
["",{"$error":"#N/A"},"",null,0,0,0,0,0,0,0,null,0,0,0,0,0,0,0,0,null,0,0,0,0,0,0,0,0,null,0,0,0,0,0,0,{"$f":"IF(T161>0,IF((T161+AB162)<#REF!,T161+AB162,#REF!),0)","v":0},0,null,0,{"$f":"IF(O161<=0,0,IF($C162<=SUM($AN162:AN162),0,IF(AF162+$C162-SUM($AN162:AN162)>O161+W162,O161+W162-AF162,$C162-SUM($AN162:AN162))))","v":0},{"$f":"IF(P161<=0,0,IF($C162<=SUM($AN162:AO162),0,IF(AG162+$C162-SUM($AN162:AO162)>P161+X162,P161+X162-AG162,$C162-SUM($AN162:AO162))))","v":0},{"$f":"IF(Q161<=0,0,IF($C162<=SUM($AN162:AP162),0,IF(AH162+$C162-SUM($AN162:AP162)>Q161+Y162,Q161+Y162-AH162,$C162-SUM($AN162:AP162))))","v":0},{"$f":"IF(R161<=0,0,IF($C162<=SUM($AN162:AQ162),0,IF(AI162+$C162-SUM($AN162:AQ162)>R161+Z162,R161+Z162-AI162,$C162-SUM($AN162:AQ162))))","v":0},{"$f":"IF(S161<=0,0,IF($C162<=SUM($AN162:AR162),0,IF(AJ162+$C162-SUM($AN162:AR162)>S161+AA162,S161+AA162-AJ162,$C162-SUM($AN162:AR162))))","v":0},{"$f":"IF(T161<=0,0,IF($C162<=SUM($AN162:AS162),0,IF(AK162+$C162-SUM($AN162:AS162)>T161+AB162,T161+AB162-AK162,$C162-SUM($AN162:AS162))))","v":0}]
["",{"$error":"#N/A"},"",null,0,0,0,0,0,0,0,null,0,0,0,0,0,0,0,0,null,0,0,0,0,0,0,0,0,null,0,0,0,0,0,0,{"$f":"IF(T162>0,IF((T162+AB163)<#REF!,T162+AB163,#REF!),0)","v":0},0,null,0,{"$f":"IF(O162<=0,0,IF($C163<=SUM($AN163:AN163),0,IF(AF163+$C163-SUM($AN163:AN163)>O162+W163,O162+W163-AF163,$C163-SUM($AN163:AN163))))","v":0},{"$f":"IF(P162<=0,0,IF($C163<=SUM($AN163:AO163),0,IF(AG163+$C163-SUM($AN163:AO163)>P162+X163,P162+X163-AG163,$C163-SUM($AN163:AO163))))","v":0},{"$f":"IF(Q162<=0,0,IF($C163<=SUM($AN163:AP163),0,IF(AH163+$C163-SUM($AN163:AP163)>Q162+Y163,Q162+Y163-AH163,$C163-SUM($AN163:AP163))))","v":0},{"$f":"IF(R162<=0,0,IF($C163<=SUM($AN163:AQ163),0,IF(AI163+$C163-SUM($AN163:AQ163)>R162+Z163,R162+Z163-AI163,$C163-SUM($AN163:AQ163))))","v":0},{"$f":"IF(S162<=0,0,IF($C163<=SUM($AN163:AR163),0,IF(AJ163+$C163-SUM($AN163:AR163)>S162+AA163,S162+AA163-AJ163,$C163-SUM($AN163:AR163))))","v":0},{"$f":"IF(T162<=0,0,IF($C163<=SUM($AN163:AS163),0,IF(AK163+$C163-SUM($AN163:AS163)>T162+AB163,T162+AB163-AK163,$C163-SUM($AN163:AS163))))","v":0}]
["",{"$error":"#N/A"},"",null,0,0,0,0,0,0,0,null,0,0,0,0,0,0,0,0,null,0,0,0,0,0,0,0,0,null,0,0,0,0,0,0,{"$f":"IF(T163>0,IF((T163+AB164)<#REF!,T163+AB164,#REF!),0)","v":0},0,null,0,{"$f":"IF(O163<=0,0,IF($C164<=SUM($AN164:AN164),0,IF(AF164+$C164-SUM($AN164:AN164)>O163+W164,O163+W164-AF164,$C164-SUM($AN164:AN164))))","v":0},{"$f":"IF(P163<=0,0,IF($C164<=SUM($AN164:AO164),0,IF(AG164+$C164-SUM($AN164:AO164)>P163+X164,P163+X164-AG164,$C164-SUM($AN164:AO164))))","v":0},{"$f":"IF(Q163<=0,0,IF($C164<=SUM($AN164:AP164),0,IF(AH164+$C164-SUM($AN164:AP164)>Q163+Y164,Q163+Y164-AH164,$C164-SUM($AN164:AP164))))","v":0},{"$f":"IF(R163<=0,0,IF($C164<=SUM($AN164:AQ164),0,IF(AI164+$C164-SUM($AN164:AQ164)>R163+Z164,R163+Z164-AI164,$C164-SUM($AN164:AQ164))))","v":0},{"$f":"IF(S163<=0,0,IF($C164<=SUM($AN164:AR164),0,IF(AJ164+$C164-SUM($AN164:AR164)>S163+AA164,S163+AA164-AJ164,$C164-SUM($AN164:AR164))))","v":0},{"$f":"IF(T163<=0,0,IF($C164<=SUM($AN164:AS164),0,IF(AK164+$C164-SUM($AN164:AS164)>T163+AB164,T163+AB164-AK164,$C164-SUM($AN164:AS164))))","v":0}]
["",{"$error":"#N/A"},"",null,0,0,0,0,0,0,0,null,0,0,0,0,0,0,0,0,null,0,0,0,0,0,0,0,0,null,0,0,0,0,0,0,{"$f":"IF(T164>0,IF((T164+AB165)<#REF!,T164+AB165,#REF!),0)","v":0},0,null,0,{"$f":"IF(O164<=0,0,IF($C165<=SUM($AN165:AN165),0,IF(AF165+$C165-SUM($AN165:AN165)>O164+W165,O164+W165-AF165,$C165-SUM($AN165:AN165))))","v":0},{"$f":"IF(P164<=0,0,IF($C165<=SUM($AN165:AO165),0,IF(AG165+$C165-SUM($AN165:AO165)>P164+X165,P164+X165-AG165,$C165-SUM($AN165:AO165))))","v":0},{"$f":"IF(Q164<=0,0,IF($C165<=SUM($AN165:AP165),0,IF(AH165+$C165-SUM($AN165:AP165)>Q164+Y165,Q164+Y165-AH165,$C165-SUM($AN165:AP165))))","v":0},{"$f":"IF(R164<=0,0,IF($C165<=SUM($AN165:AQ165),0,IF(AI165+$C165-SUM($AN165:AQ165)>R164+Z165,R164+Z165-AI165,$C165-SUM($AN165:AQ165))))","v":0},{"$f":"IF(S164<=0,0,IF($C165<=SUM($AN165:AR165),0,IF(AJ165+$C165-SUM($AN165:AR165)>S164+AA165,S164+AA165-AJ165,$C165-SUM($AN165:AR165))))","v":0},{"$f":"IF(T164<=0,0,IF($C165<=SUM($AN165:AS165),0,IF(AK165+$C165-SUM($AN165:AS165)>T164+AB165,T164+AB165-AK165,$C165-SUM($AN165:AS165))))","v":0}]
["",{"$error":"#N/A"},"",null,0,0,0,0,0,0,0,null,0,0,0,0,0,0,0,0,null,0,0,0,0,0,0,0,0,null,0,0,0,0,0,0,{"$f":"IF(T165>0,IF((T165+AB166)<#REF!,T165+AB166,#REF!),0)","v":0},0,null,0,{"$f":"IF(O165<=0,0,IF($C166<=SUM($AN166:AN166),0,IF(AF166+$C166-SUM($AN166:AN166)>O165+W166,O165+W166-AF166,$C166-SUM($AN166:AN166))))","v":0},{"$f":"IF(P165<=0,0,IF($C166<=SUM($AN166:AO166),0,IF(AG166+$C166-SUM($AN166:AO166)>P165+X166,P165+X166-AG166,$C166-SUM($AN166:AO166))))","v":0},{"$f":"IF(Q165<=0,0,IF($C166<=SUM($AN166:AP166),0,IF(AH166+$C166-SUM($AN166:AP166)>Q165+Y166,Q165+Y166-AH166,$C166-SUM($AN166:AP166))))","v":0},{"$f":"IF(R165<=0,0,IF($C166<=SUM($AN166:AQ166),0,IF(AI166+$C166-SUM($AN166:AQ166)>R165+Z166,R165+Z166-AI166,$C166-SUM($AN166:AQ166))))","v":0},{"$f":"IF(S165<=0,0,IF($C166<=SUM($AN166:AR166),0,IF(AJ166+$C166-SUM($AN166:AR166)>S165+AA166,S165+AA166-AJ166,$C166-SUM($AN166:AR166))))","v":0},{"$f":"IF(T165<=0,0,IF($C166<=SUM($AN166:AS166),0,IF(AK166+$C166-SUM($AN166:AS166)>T165+AB166,T165+AB166-AK166,$C166-SUM($AN166:AS166))))","v":0}]
["",{"$error":"#N/A"},"",null,0,0,0,0,0,0,0,null,0,0,0,0,0,0,0,0,null,0,0,0,0,0,0,0,0,null,0,0,0,0,0,0,{"$f":"IF(T166>0,IF((T166+AB167)<#REF!,T166+AB167,#REF!),0)","v":0},0,null,0,{"$f":"IF(O166<=0,0,IF($C167<=SUM($AN167:AN167),0,IF(AF167+$C167-SUM($AN167:AN167)>O166+W167,O166+W167-AF167,$C167-SUM($AN167:AN167))))","v":0},{"$f":"IF(P166<=0,0,IF($C167<=SUM($AN167:AO167),0,IF(AG167+$C167-SUM($AN167:AO167)>P166+X167,P166+X167-AG167,$C167-SUM($AN167:AO167))))","v":0},{"$f":"IF(Q166<=0,0,IF($C167<=SUM($AN167:AP167),0,IF(AH167+$C167-SUM($AN167:AP167)>Q166+Y167,Q166+Y167-AH167,$C167-SUM($AN167:AP167))))","v":0},{"$f":"IF(R166<=0,0,IF($C167<=SUM($AN167:AQ167),0,IF(AI167+$C167-SUM($AN167:AQ167)>R166+Z167,R166+Z167-AI167,$C167-SUM($AN167:AQ167))))","v":0},{"$f":"IF(S166<=0,0,IF($C167<=SUM($AN167:AR167),0,IF(AJ167+$C167-SUM($AN167:AR167)>S166+AA167,S166+AA167-AJ167,$C167-SUM($AN167:AR167))))","v":0},{"$f":"IF(T166<=0,0,IF($C167<=SUM($AN167:AS167),0,IF(AK167+$C167-SUM($AN167:AS167)>T166+AB167,T166+AB167-AK167,$C167-SUM($AN167:AS167))))","v":0}]
["",{"$error":"#N/A"},"",null,0,0,0,0,0,0,0,null,0,0,0,0,0,0,0,0,null,0,0,0,0,0,0,0,0,null,0,0,0,0,0,0,{"$f":"IF(T167>0,IF((T167+AB168)<#REF!,T167+AB168,#REF!),0)","v":0},0,null,0,{"$f":"IF(O167<=0,0,IF($C168<=SUM($AN168:AN168),0,IF(AF168+$C168-SUM($AN168:AN168)>O167+W168,O167+W168-AF168,$C168-SUM($AN168:AN168))))","v":0},{"$f":"IF(P167<=0,0,IF($C168<=SUM($AN168:AO168),0,IF(AG168+$C168-SUM($AN168:AO168)>P167+X168,P167+X168-AG168,$C168-SUM($AN168:AO168))))","v":0},{"$f":"IF(Q167<=0,0,IF($C168<=SUM($AN168:AP168),0,IF(AH168+$C168-SUM($AN168:AP168)>Q167+Y168,Q167+Y168-AH168,$C168-SUM($AN168:AP168))))","v":0},{"$f":"IF(R167<=0,0,IF($C168<=SUM($AN168:AQ168),0,IF(AI168+$C168-SUM($AN168:AQ168)>R167+Z168,R167+Z168-AI168,$C168-SUM($AN168:AQ168))))","v":0},{"$f":"IF(S167<=0,0,IF($C168<=SUM($AN168:AR168),0,IF(AJ168+$C168-SUM($AN168:AR168)>S167+AA168,S167+AA168-AJ168,$C168-SUM($AN168:AR168))))","v":0},{"$f":"IF(T167<=0,0,IF($C168<=SUM($AN168:AS168),0,IF(AK168+$C168-SUM($AN168:AS168)>T167+AB168,T167+AB168-AK168,$C168-SUM($AN168:AS168))))","v":0}]
["",{"$error":"#N/A"},"",null,0,0,0,0,0,0,0,null,0,0,0,0,0,0,0,0,null,0,0,0,0,0,0,0,0,null,0,0,0,0,0,0,{"$f":"IF(T168>0,IF((T168+AB169)<#REF!,T168+AB169,#REF!),0)","v":0},0,null,0,{"$f":"IF(O168<=0,0,IF($C169<=SUM($AN169:AN169),0,IF(AF169+$C169-SUM($AN169:AN169)>O168+W169,O168+W169-AF169,$C169-SUM($AN169:AN169))))","v":0},{"$f":"IF(P168<=0,0,IF($C169<=SUM($AN169:AO169),0,IF(AG169+$C169-SUM($AN169:AO169)>P168+X169,P168+X169-AG169,$C169-SUM($AN169:AO169))))","v":0},{"$f":"IF(Q168<=0,0,IF($C169<=SUM($AN169:AP169),0,IF(AH169+$C169-SUM($AN169:AP169)>Q168+Y169,Q168+Y169-AH169,$C169-SUM($AN169:AP169))))","v":0},{"$f":"IF(R168<=0,0,IF($C169<=SUM($AN169:AQ169),0,IF(AI169+$C169-SUM($AN169:AQ169)>R168+Z169,R168+Z169-AI169,$C169-SUM($AN169:AQ169))))","v":0},{"$f":"IF(S168<=0,0,IF($C169<=SUM($AN169:AR169),0,IF(AJ169+$C169-SUM($AN169:AR169)>S168+AA169,S168+AA169-AJ169,$C169-SUM($AN169:AR169))))","v":0},{"$f":"IF(T168<=0,0,IF($C169<=SUM($AN169:AS169),0,IF(AK169+$C169-SUM($AN169:AS169)>T168+AB169,T168+AB169-AK169,$C169-SUM($AN169:AS169))))","v":0}]
["",{"$error":"#N/A"},"",null,0,0,0,0,0,0,0,null,0,0,0,0,0,0,0,0,null,0,0,0,0,0,0,0,0,null,0,0,0,0,0,0,{"$f":"IF(T169>0,IF((T169+AB170)<#REF!,T169+AB170,#REF!),0)","v":0},0,null,0,{"$f":"IF(O169<=0,0,IF($C170<=SUM($AN170:AN170),0,IF(AF170+$C170-SUM($AN170:AN170)>O169+W170,O169+W170-AF170,$C170-SUM($AN170:AN170))))","v":0},{"$f":"IF(P169<=0,0,IF($C170<=SUM($AN170:AO170),0,IF(AG170+$C170-SUM($AN170:AO170)>P169+X170,P169+X170-AG170,$C170-SUM($AN170:AO170))))","v":0},{"$f":"IF(Q169<=0,0,IF($C170<=SUM($AN170:AP170),0,IF(AH170+$C170-SUM($AN170:AP170)>Q169+Y170,Q169+Y170-AH170,$C170-SUM($AN170:AP170))))","v":0},{"$f":"IF(R169<=0,0,IF($C170<=SUM($AN170:AQ170),0,IF(AI170+$C170-SUM($AN170:AQ170)>R169+Z170,R169+Z170-AI170,$C170-SUM($AN170:AQ170))))","v":0},{"$f":"IF(S169<=0,0,IF($C170<=SUM($AN170:AR170),0,IF(AJ170+$C170-SUM($AN170:AR170)>S169+AA170,S169+AA170-AJ170,$C170-SUM($AN170:AR170))))","v":0},{"$f":"IF(T169<=0,0,IF($C170<=SUM($AN170:AS170),0,IF(AK170+$C170-SUM($AN170:AS170)>T169+AB170,T169+AB170-AK170,$C170-SUM($AN170:AS170))))","v":0}]
["",{"$error":"#N/A"},"",null,0,0,0,0,0,0,0,null,0,0,0,0,0,0,0,0,null,0,0,0,0,0,0,0,0,null,0,0,0,0,0,0,{"$f":"IF(T170>0,IF((T170+AB171)<#REF!,T170+AB171,#REF!),0)","v":0},0,null,0,{"$f":"IF(O170<=0,0,IF($C171<=SUM($AN171:AN171),0,IF(AF171+$C171-SUM($AN171:AN171)>O170+W171,O170+W171-AF171,$C171-SUM($AN171:AN171))))","v":0},{"$f":"IF(P170<=0,0,IF($C171<=SUM($AN171:AO171),0,IF(AG171+$C171-SUM($AN171:AO171)>P170+X171,P170+X171-AG171,$C171-SUM($AN171:AO171))))","v":0},{"$f":"IF(Q170<=0,0,IF($C171<=SUM($AN171:AP171),0,IF(AH171+$C171-SUM($AN171:AP171)>Q170+Y171,Q170+Y171-AH171,$C171-SUM($AN171:AP171))))","v":0},{"$f":"IF(R170<=0,0,IF($C171<=SUM($AN171:AQ171),0,IF(AI171+$C171-SUM($AN171:AQ171)>R170+Z171,R170+Z171-AI171,$C171-SUM($AN171:AQ171))))","v":0},{"$f":"IF(S170<=0,0,IF($C171<=SUM($AN171:AR171),0,IF(AJ171+$C171-SUM($AN171:AR171)>S170+AA171,S170+AA171-AJ171,$C171-SUM($AN171:AR171))))","v":0},{"$f":"IF(T170<=0,0,IF($C171<=SUM($AN171:AS171),0,IF(AK171+$C171-SUM($AN171:AS171)>T170+AB171,T170+AB171-AK171,$C171-SUM($AN171:AS171))))","v":0}]
["",{"$error":"#N/A"},"",null,0,0,0,0,0,0,0,null,0,0,0,0,0,0,0,0,null,0,0,0,0,0,0,0,0,null,0,0,0,0,0,0,{"$f":"IF(T171>0,IF((T171+AB172)<#REF!,T171+AB172,#REF!),0)","v":0},0,null,0,{"$f":"IF(O171<=0,0,IF($C172<=SUM($AN172:AN172),0,IF(AF172+$C172-SUM($AN172:AN172)>O171+W172,O171+W172-AF172,$C172-SUM($AN172:AN172))))","v":0},{"$f":"IF(P171<=0,0,IF($C172<=SUM($AN172:AO172),0,IF(AG172+$C172-SUM($AN172:AO172)>P171+X172,P171+X172-AG172,$C172-SUM($AN172:AO172))))","v":0},{"$f":"IF(Q171<=0,0,IF($C172<=SUM($AN172:AP172),0,IF(AH172+$C172-SUM($AN172:AP172)>Q171+Y172,Q171+Y172-AH172,$C172-SUM($AN172:AP172))))","v":0},{"$f":"IF(R171<=0,0,IF($C172<=SUM($AN172:AQ172),0,IF(AI172+$C172-SUM($AN172:AQ172)>R171+Z172,R171+Z172-AI172,$C172-SUM($AN172:AQ172))))","v":0},{"$f":"IF(S171<=0,0,IF($C172<=SUM($AN172:AR172),0,IF(AJ172+$C172-SUM($AN172:AR172)>S171+AA172,S171+AA172-AJ172,$C172-SUM($AN172:AR172))))","v":0},{"$f":"IF(T171<=0,0,IF($C172<=SUM($AN172:AS172),0,IF(AK172+$C172-SUM($AN172:AS172)>T171+AB172,T171+AB172-AK172,$C172-SUM($AN172:AS172))))","v":0}]
["",{"$error":"#N/A"},"",null,0,0,0,0,0,0,0,null,0,0,0,0,0,0,0,0,null,0,0,0,0,0,0,0,0,null,0,0,0,0,0,0,{"$f":"IF(T172>0,IF((T172+AB173)<#REF!,T172+AB173,#REF!),0)","v":0},0,null,0,{"$f":"IF(O172<=0,0,IF($C173<=SUM($AN173:AN173),0,IF(AF173+$C173-SUM($AN173:AN173)>O172+W173,O172+W173-AF173,$C173-SUM($AN173:AN173))))","v":0},{"$f":"IF(P172<=0,0,IF($C173<=SUM($AN173:AO173),0,IF(AG173+$C173-SUM($AN173:AO173)>P172+X173,P172+X173-AG173,$C173-SUM($AN173:AO173))))","v":0},{"$f":"IF(Q172<=0,0,IF($C173<=SUM($AN173:AP173),0,IF(AH173+$C173-SUM($AN173:AP173)>Q172+Y173,Q172+Y173-AH173,$C173-SUM($AN173:AP173))))","v":0},{"$f":"IF(R172<=0,0,IF($C173<=SUM($AN173:AQ173),0,IF(AI173+$C173-SUM($AN173:AQ173)>R172+Z173,R172+Z173-AI173,$C173-SUM($AN173:AQ173))))","v":0},{"$f":"IF(S172<=0,0,IF($C173<=SUM($AN173:AR173),0,IF(AJ173+$C173-SUM($AN173:AR173)>S172+AA173,S172+AA173-AJ173,$C173-SUM($AN173:AR173))))","v":0},{"$f":"IF(T172<=0,0,IF($C173<=SUM($AN173:AS173),0,IF(AK173+$C173-SUM($AN173:AS173)>T172+AB173,T172+AB173-AK173,$C173-SUM($AN173:AS173))))","v":0}]
["",{"$error":"#N/A"},"",null,0,0,0,0,0,0,0,null,0,0,0,0,0,0,0,0,null,0,0,0,0,0,0,0,0,null,0,0,0,0,0,0,{"$f":"IF(T173>0,IF((T173+AB174)<#REF!,T173+AB174,#REF!),0)","v":0},0,null,0,{"$f":"IF(O173<=0,0,IF($C174<=SUM($AN174:AN174),0,IF(AF174+$C174-SUM($AN174:AN174)>O173+W174,O173+W174-AF174,$C174-SUM($AN174:AN174))))","v":0},{"$f":"IF(P173<=0,0,IF($C174<=SUM($AN174:AO174),0,IF(AG174+$C174-SUM($AN174:AO174)>P173+X174,P173+X174-AG174,$C174-SUM($AN174:AO174))))","v":0},{"$f":"IF(Q173<=0,0,IF($C174<=SUM($AN174:AP174),0,IF(AH174+$C174-SUM($AN174:AP174)>Q173+Y174,Q173+Y174-AH174,$C174-SUM($AN174:AP174))))","v":0},{"$f":"IF(R173<=0,0,IF($C174<=SUM($AN174:AQ174),0,IF(AI174+$C174-SUM($AN174:AQ174)>R173+Z174,R173+Z174-AI174,$C174-SUM($AN174:AQ174))))","v":0},{"$f":"IF(S173<=0,0,IF($C174<=SUM($AN174:AR174),0,IF(AJ174+$C174-SUM($AN174:AR174)>S173+AA174,S173+AA174-AJ174,$C174-SUM($AN174:AR174))))","v":0},{"$f":"IF(T173<=0,0,IF($C174<=SUM($AN174:AS174),0,IF(AK174+$C174-SUM($AN174:AS174)>T173+AB174,T173+AB174-AK174,$C174-SUM($AN174:AS174))))","v":0}]
["",{"$error":"#N/A"},"",null,0,0,0,0,0,0,0,null,0,0,0,0,0,0,0,0,null,0,0,0,0,0,0,0,0,null,0,0,0,0,0,0,{"$f":"IF(T174>0,IF((T174+AB175)<#REF!,T174+AB175,#REF!),0)","v":0},0,null,0,{"$f":"IF(O174<=0,0,IF($C175<=SUM($AN175:AN175),0,IF(AF175+$C175-SUM($AN175:AN175)>O174+W175,O174+W175-AF175,$C175-SUM($AN175:AN175))))","v":0},{"$f":"IF(P174<=0,0,IF($C175<=SUM($AN175:AO175),0,IF(AG175+$C175-SUM($AN175:AO175)>P174+X175,P174+X175-AG175,$C175-SUM($AN175:AO175))))","v":0},{"$f":"IF(Q174<=0,0,IF($C175<=SUM($AN175:AP175),0,IF(AH175+$C175-SUM($AN175:AP175)>Q174+Y175,Q174+Y175-AH175,$C175-SUM($AN175:AP175))))","v":0},{"$f":"IF(R174<=0,0,IF($C175<=SUM($AN175:AQ175),0,IF(AI175+$C175-SUM($AN175:AQ175)>R174+Z175,R174+Z175-AI175,$C175-SUM($AN175:AQ175))))","v":0},{"$f":"IF(S174<=0,0,IF($C175<=SUM($AN175:AR175),0,IF(AJ175+$C175-SUM($AN175:AR175)>S174+AA175,S174+AA175-AJ175,$C175-SUM($AN175:AR175))))","v":0},{"$f":"IF(T174<=0,0,IF($C175<=SUM($AN175:AS175),0,IF(AK175+$C175-SUM($AN175:AS175)>T174+AB175,T174+AB175-AK175,$C175-SUM($AN175:AS175))))","v":0}]
["",{"$error":"#N/A"},"",null,0,0,0,0,0,0,0,null,0,0,0,0,0,0,0,0,null,0,0,0,0,0,0,0,0,null,0,0,0,0,0,0,{"$f":"IF(T175>0,IF((T175+AB176)<#REF!,T175+AB176,#REF!),0)","v":0},0,null,0,{"$f":"IF(O175<=0,0,IF($C176<=SUM($AN176:AN176),0,IF(AF176+$C176-SUM($AN176:AN176)>O175+W176,O175+W176-AF176,$C176-SUM($AN176:AN176))))","v":0},{"$f":"IF(P175<=0,0,IF($C176<=SUM($AN176:AO176),0,IF(AG176+$C176-SUM($AN176:AO176)>P175+X176,P175+X176-AG176,$C176-SUM($AN176:AO176))))","v":0},{"$f":"IF(Q175<=0,0,IF($C176<=SUM($AN176:AP176),0,IF(AH176+$C176-SUM($AN176:AP176)>Q175+Y176,Q175+Y176-AH176,$C176-SUM($AN176:AP176))))","v":0},{"$f":"IF(R175<=0,0,IF($C176<=SUM($AN176:AQ176),0,IF(AI176+$C176-SUM($AN176:AQ176)>R175+Z176,R175+Z176-AI176,$C176-SUM($AN176:AQ176))))","v":0},{"$f":"IF(S175<=0,0,IF($C176<=SUM($AN176:AR176),0,IF(AJ176+$C176-SUM($AN176:AR176)>S175+AA176,S175+AA176-AJ176,$C176-SUM($AN176:AR176))))","v":0},{"$f":"IF(T175<=0,0,IF($C176<=SUM($AN176:AS176),0,IF(AK176+$C176-SUM($AN176:AS176)>T175+AB176,T175+AB176-AK176,$C176-SUM($AN176:AS176))))","v":0}]
["",{"$error":"#N/A"},"",null,0,0,0,0,0,0,0,null,0,0,0,0,0,0,0,0,null,0,0,0,0,0,0,0,0,null,0,0,0,0,0,0,{"$f":"IF(T176>0,IF((T176+AB177)<#REF!,T176+AB177,#REF!),0)","v":0},0,null,0,{"$f":"IF(O176<=0,0,IF($C177<=SUM($AN177:AN177),0,IF(AF177+$C177-SUM($AN177:AN177)>O176+W177,O176+W177-AF177,$C177-SUM($AN177:AN177))))","v":0},{"$f":"IF(P176<=0,0,IF($C177<=SUM($AN177:AO177),0,IF(AG177+$C177-SUM($AN177:AO177)>P176+X177,P176+X177-AG177,$C177-SUM($AN177:AO177))))","v":0},{"$f":"IF(Q176<=0,0,IF($C177<=SUM($AN177:AP177),0,IF(AH177+$C177-SUM($AN177:AP177)>Q176+Y177,Q176+Y177-AH177,$C177-SUM($AN177:AP177))))","v":0},{"$f":"IF(R176<=0,0,IF($C177<=SUM($AN177:AQ177),0,IF(AI177+$C177-SUM($AN177:AQ177)>R176+Z177,R176+Z177-AI177,$C177-SUM($AN177:AQ177))))","v":0},{"$f":"IF(S176<=0,0,IF($C177<=SUM($AN177:AR177),0,IF(AJ177+$C177-SUM($AN177:AR177)>S176+AA177,S176+AA177-AJ177,$C177-SUM($AN177:AR177))))","v":0},{"$f":"IF(T176<=0,0,IF($C177<=SUM($AN177:AS177),0,IF(AK177+$C177-SUM($AN177:AS177)>T176+AB177,T176+AB177-AK177,$C177-SUM($AN177:AS177))))","v":0}]
["",{"$error":"#N/A"},"",null,0,0,0,0,0,0,0,null,0,0,0,0,0,0,0,0,null,0,0,0,0,0,0,0,0,null,0,0,0,0,0,0,{"$f":"IF(T177>0,IF((T177+AB178)<#REF!,T177+AB178,#REF!),0)","v":0},0,null,0,{"$f":"IF(O177<=0,0,IF($C178<=SUM($AN178:AN178),0,IF(AF178+$C178-SUM($AN178:AN178)>O177+W178,O177+W178-AF178,$C178-SUM($AN178:AN178))))","v":0},{"$f":"IF(P177<=0,0,IF($C178<=SUM($AN178:AO178),0,IF(AG178+$C178-SUM($AN178:AO178)>P177+X178,P177+X178-AG178,$C178-SUM($AN178:AO178))))","v":0},{"$f":"IF(Q177<=0,0,IF($C178<=SUM($AN178:AP178),0,IF(AH178+$C178-SUM($AN178:AP178)>Q177+Y178,Q177+Y178-AH178,$C178-SUM($AN178:AP178))))","v":0},{"$f":"IF(R177<=0,0,IF($C178<=SUM($AN178:AQ178),0,IF(AI178+$C178-SUM($AN178:AQ178)>R177+Z178,R177+Z178-AI178,$C178-SUM($AN178:AQ178))))","v":0},{"$f":"IF(S177<=0,0,IF($C178<=SUM($AN178:AR178),0,IF(AJ178+$C178-SUM($AN178:AR178)>S177+AA178,S177+AA178-AJ178,$C178-SUM($AN178:AR178))))","v":0},{"$f":"IF(T177<=0,0,IF($C178<=SUM($AN178:AS178),0,IF(AK178+$C178-SUM($AN178:AS178)>T177+AB178,T177+AB178-AK178,$C178-SUM($AN178:AS178))))","v":0}]
["",{"$error":"#N/A"},"",null,0,0,0,0,0,0,0,null,0,0,0,0,0,0,0,0,null,0,0,0,0,0,0,0,0,null,0,0,0,0,0,0,{"$f":"IF(T178>0,IF((T178+AB179)<#REF!,T178+AB179,#REF!),0)","v":0},0,null,0,{"$f":"IF(O178<=0,0,IF($C179<=SUM($AN179:AN179),0,IF(AF179+$C179-SUM($AN179:AN179)>O178+W179,O178+W179-AF179,$C179-SUM($AN179:AN179))))","v":0},{"$f":"IF(P178<=0,0,IF($C179<=SUM($AN179:AO179),0,IF(AG179+$C179-SUM($AN179:AO179)>P178+X179,P178+X179-AG179,$C179-SUM($AN179:AO179))))","v":0},{"$f":"IF(Q178<=0,0,IF($C179<=SUM($AN179:AP179),0,IF(AH179+$C179-SUM($AN179:AP179)>Q178+Y179,Q178+Y179-AH179,$C179-SUM($AN179:AP179))))","v":0},{"$f":"IF(R178<=0,0,IF($C179<=SUM($AN179:AQ179),0,IF(AI179+$C179-SUM($AN179:AQ179)>R178+Z179,R178+Z179-AI179,$C179-SUM($AN179:AQ179))))","v":0},{"$f":"IF(S178<=0,0,IF($C179<=SUM($AN179:AR179),0,IF(AJ179+$C179-SUM($AN179:AR179)>S178+AA179,S178+AA179-AJ179,$C179-SUM($AN179:AR179))))","v":0},{"$f":"IF(T178<=0,0,IF($C179<=SUM($AN179:AS179),0,IF(AK179+$C179-SUM($AN179:AS179)>T178+AB179,T178+AB179-AK179,$C179-SUM($AN179:AS179))))","v":0}]
["",{"$error":"#N/A"},"",null,0,0,0,0,0,0,0,null,0,0,0,0,0,0,0,0,null,0,0,0,0,0,0,0,0,null,0,0,0,0,0,0,{"$f":"IF(T179>0,IF((T179+AB180)<#REF!,T179+AB180,#REF!),0)","v":0},0,null,0,{"$f":"IF(O179<=0,0,IF($C180<=SUM($AN180:AN180),0,IF(AF180+$C180-SUM($AN180:AN180)>O179+W180,O179+W180-AF180,$C180-SUM($AN180:AN180))))","v":0},{"$f":"IF(P179<=0,0,IF($C180<=SUM($AN180:AO180),0,IF(AG180+$C180-SUM($AN180:AO180)>P179+X180,P179+X180-AG180,$C180-SUM($AN180:AO180))))","v":0},{"$f":"IF(Q179<=0,0,IF($C180<=SUM($AN180:AP180),0,IF(AH180+$C180-SUM($AN180:AP180)>Q179+Y180,Q179+Y180-AH180,$C180-SUM($AN180:AP180))))","v":0},{"$f":"IF(R179<=0,0,IF($C180<=SUM($AN180:AQ180),0,IF(AI180+$C180-SUM($AN180:AQ180)>R179+Z180,R179+Z180-AI180,$C180-SUM($AN180:AQ180))))","v":0},{"$f":"IF(S179<=0,0,IF($C180<=SUM($AN180:AR180),0,IF(AJ180+$C180-SUM($AN180:AR180)>S179+AA180,S179+AA180-AJ180,$C180-SUM($AN180:AR180))))","v":0},{"$f":"IF(T179<=0,0,IF($C180<=SUM($AN180:AS180),0,IF(AK180+$C180-SUM($AN180:AS180)>T179+AB180,T179+AB180-AK180,$C180-SUM($AN180:AS180))))","v":0}]
[{"$f":"IF(SUM(N180:T180)<=0,\"\",A180+1)","v":""},{"$error":"#N/A"},"",null,0,0,0,0,0,0,0,null,0,{"$f":"IF(D$8=0,0,ROUND(N180-(E181-V181),2))","v":0},{"$f":"IF(E$8=0,0,ROUND(O180-(F181-W181),2))","v":0},{"$f":"IF(F$8=0,0,ROUND(P180-(G181-X181),2))","v":0},{"$f":"IF(G$8=0,0,ROUND(Q180-(H181-Y181),2))","v":0},{"$f":"IF(H$8=0,0,ROUND(R180-(I181-Z181),2))","v":0},{"$f":"IF(I$8=0,0,ROUND(S180-(J181-AA181),2))","v":0},{"$f":"IF(J$8=0,0,ROUND(T180-(K181-AB181),2))","v":0},null,{"$f":"ROUND(N180*E$9/12,2)","v":0},{"$f":"ROUND(O180*F$9/12,2)","v":0},{"$f":"ROUND(P180*G$9/12,2)","v":0},{"$f":"ROUND(Q180*H$9/12,2)","v":0},{"$f":"ROUND(R180*I$9/12,2)","v":0},{"$f":"ROUND(S180*J$9/12,2)","v":0},{"$f":"ROUND(T180*K$9/12,2)","v":0},0,null,0,0,0,0,0,0,{"$f":"IF(T180>0,IF((T180+AB181)<#REF!,T180+AB181,#REF!),0)","v":0},0,null,0,{"$f":"IF(O180<=0,0,IF($C181<=SUM($AN181:AN181),0,IF(AF181+$C181-SUM($AN181:AN181)>O180+W181,O180+W181-AF181,$C181-SUM($AN181:AN181))))","v":0},{"$f":"IF(P180<=0,0,IF($C181<=SUM($AN181:AO181),0,IF(AG181+$C181-SUM($AN181:AO181)>P180+X181,P180+X181-AG181,$C181-SUM($AN181:AO181))))","v":0},{"$f":"IF(Q180<=0,0,IF($C181<=SUM($AN181:AP181),0,IF(AH181+$C181-SUM($AN181:AP181)>Q180+Y181,Q180+Y181-AH181,$C181-SUM($AN181:AP181))))","v":0},{"$f":"IF(R180<=0,0,IF($C181<=SUM($AN181:AQ181),0,IF(AI181+$C181-SUM($AN181:AQ181)>R180+Z181,R180+Z181-AI181,$C181-SUM($AN181:AQ181))))","v":0},{"$f":"IF(S180<=0,0,IF($C181<=SUM($AN181:AR181),0,IF(AJ181+$C181-SUM($AN181:AR181)>S180+AA181,S180+AA181-AJ181,$C181-SUM($AN181:AR181))))","v":0},{"$f":"IF(T180<=0,0,IF($C181<=SUM($AN181:AS181),0,IF(AK181+$C181-SUM($AN181:AS181)>T180+AB181,T180+AB181-AK181,$C181-SUM($AN181:AS181))))","v":0}]
["",{"$error":"#N/A"},"",null,0,0,0,0,0,0,0,null,0,0,0,0,0,0,0,0,null,0,0,0,0,0,0,0,0,null,{"$f":"IF(N181>0,IF((N181+V182)<E$10,N181+V182,E$10),0)","v":0},{"$f":"IF(O181>0,IF((O181+W182)<F$10,O181+W182,F$10),0)","v":0},{"$f":"IF(P181>0,IF((P181+X182)<G$10,P181+X182,G$10),0)","v":0},{"$f":"IF(Q181>0,IF((Q181+Y182)<H$10,Q181+Y182,H$10),0)","v":0},{"$f":"IF(R181>0,IF((R181+Z182)<I$10,R181+Z182,I$10),0)","v":0},{"$f":"IF(S181>0,IF((S181+AA182)<I$10,S181+AA182,I$10),0)","v":0},{"$f":"IF(T181>0,IF((T181+AB182)<#REF!,T181+AB182,#REF!),0)","v":0},0,null,0,{"$f":"IF(O181<=0,0,IF($C182<=SUM($AN182:AN182),0,IF(AF182+$C182-SUM($AN182:AN182)>O181+W182,O181+W182-AF182,$C182-SUM($AN182:AN182))))","v":0},{"$f":"IF(P181<=0,0,IF($C182<=SUM($AN182:AO182),0,IF(AG182+$C182-SUM($AN182:AO182)>P181+X182,P181+X182-AG182,$C182-SUM($AN182:AO182))))","v":0},{"$f":"IF(Q181<=0,0,IF($C182<=SUM($AN182:AP182),0,IF(AH182+$C182-SUM($AN182:AP182)>Q181+Y182,Q181+Y182-AH182,$C182-SUM($AN182:AP182))))","v":0},{"$f":"IF(R181<=0,0,IF($C182<=SUM($AN182:AQ182),0,IF(AI182+$C182-SUM($AN182:AQ182)>R181+Z182,R181+Z182-AI182,$C182-SUM($AN182:AQ182))))","v":0},{"$f":"IF(S181<=0,0,IF($C182<=SUM($AN182:AR182),0,IF(AJ182+$C182-SUM($AN182:AR182)>S181+AA182,S181+AA182-AJ182,$C182-SUM($AN182:AR182))))","v":0},{"$f":"IF(T181<=0,0,IF($C182<=SUM($AN182:AS182),0,IF(AK182+$C182-SUM($AN182:AS182)>T181+AB182,T181+AB182-AK182,$C182-SUM($AN182:AS182))))","v":0}]
["",{"$error":"#N/A"},"",null,0,0,0,0,0,0,0,null,0,0,0,0,0,0,0,0,null,0,0,0,0,0,0,0,0,null,0,0,0,0,0,0,{"$f":"IF(T182>0,IF((T182+AB183)<#REF!,T182+AB183,#REF!),0)","v":0},0,null,0,{"$f":"IF(O182<=0,0,IF($C183<=SUM($AN183:AN183),0,IF(AF183+$C183-SUM($AN183:AN183)>O182+W183,O182+W183-AF183,$C183-SUM($AN183:AN183))))","v":0},{"$f":"IF(P182<=0,0,IF($C183<=SUM($AN183:AO183),0,IF(AG183+$C183-SUM($AN183:AO183)>P182+X183,P182+X183-AG183,$C183-SUM($AN183:AO183))))","v":0},{"$f":"IF(Q182<=0,0,IF($C183<=SUM($AN183:AP183),0,IF(AH183+$C183-SUM($AN183:AP183)>Q182+Y183,Q182+Y183-AH183,$C183-SUM($AN183:AP183))))","v":0},{"$f":"IF(R182<=0,0,IF($C183<=SUM($AN183:AQ183),0,IF(AI183+$C183-SUM($AN183:AQ183)>R182+Z183,R182+Z183-AI183,$C183-SUM($AN183:AQ183))))","v":0},{"$f":"IF(S182<=0,0,IF($C183<=SUM($AN183:AR183),0,IF(AJ183+$C183-SUM($AN183:AR183)>S182+AA183,S182+AA183-AJ183,$C183-SUM($AN183:AR183))))","v":0},{"$f":"IF(T182<=0,0,IF($C183<=SUM($AN183:AS183),0,IF(AK183+$C183-SUM($AN183:AS183)>T182+AB183,T182+AB183-AK183,$C183-SUM($AN183:AS183))))","v":0}]
["",{"$error":"#N/A"},"",null,0,0,0,0,0,0,0,null,0,0,0,0,0,0,0,0,null,0,0,0,0,0,0,0,0,null,0,0,0,0,0,0,{"$f":"IF(T183>0,IF((T183+AB184)<#REF!,T183+AB184,#REF!),0)","v":0},0,null,0,{"$f":"IF(O183<=0,0,IF($C184<=SUM($AN184:AN184),0,IF(AF184+$C184-SUM($AN184:AN184)>O183+W184,O183+W184-AF184,$C184-SUM($AN184:AN184))))","v":0},{"$f":"IF(P183<=0,0,IF($C184<=SUM($AN184:AO184),0,IF(AG184+$C184-SUM($AN184:AO184)>P183+X184,P183+X184-AG184,$C184-SUM($AN184:AO184))))","v":0},{"$f":"IF(Q183<=0,0,IF($C184<=SUM($AN184:AP184),0,IF(AH184+$C184-SUM($AN184:AP184)>Q183+Y184,Q183+Y184-AH184,$C184-SUM($AN184:AP184))))","v":0},{"$f":"IF(R183<=0,0,IF($C184<=SUM($AN184:AQ184),0,IF(AI184+$C184-SUM($AN184:AQ184)>R183+Z184,R183+Z184-AI184,$C184-SUM($AN184:AQ184))))","v":0},{"$f":"IF(S183<=0,0,IF($C184<=SUM($AN184:AR184),0,IF(AJ184+$C184-SUM($AN184:AR184)>S183+AA184,S183+AA184-AJ184,$C184-SUM($AN184:AR184))))","v":0},{"$f":"IF(T183<=0,0,IF($C184<=SUM($AN184:AS184),0,IF(AK184+$C184-SUM($AN184:AS184)>T183+AB184,T183+AB184-AK184,$C184-SUM($AN184:AS184))))","v":0}]
["",{"$error":"#N/A"},"",null,0,0,0,0,0,0,0,null,0,0,0,0,0,0,0,0,null,0,0,0,0,0,0,0,0,null,0,0,0,0,0,0,{"$f":"IF(T184>0,IF((T184+AB185)<#REF!,T184+AB185,#REF!),0)","v":0},0,null,0,{"$f":"IF(O184<=0,0,IF($C185<=SUM($AN185:AN185),0,IF(AF185+$C185-SUM($AN185:AN185)>O184+W185,O184+W185-AF185,$C185-SUM($AN185:AN185))))","v":0},{"$f":"IF(P184<=0,0,IF($C185<=SUM($AN185:AO185),0,IF(AG185+$C185-SUM($AN185:AO185)>P184+X185,P184+X185-AG185,$C185-SUM($AN185:AO185))))","v":0},{"$f":"IF(Q184<=0,0,IF($C185<=SUM($AN185:AP185),0,IF(AH185+$C185-SUM($AN185:AP185)>Q184+Y185,Q184+Y185-AH185,$C185-SUM($AN185:AP185))))","v":0},{"$f":"IF(R184<=0,0,IF($C185<=SUM($AN185:AQ185),0,IF(AI185+$C185-SUM($AN185:AQ185)>R184+Z185,R184+Z185-AI185,$C185-SUM($AN185:AQ185))))","v":0},{"$f":"IF(S184<=0,0,IF($C185<=SUM($AN185:AR185),0,IF(AJ185+$C185-SUM($AN185:AR185)>S184+AA185,S184+AA185-AJ185,$C185-SUM($AN185:AR185))))","v":0},{"$f":"IF(T184<=0,0,IF($C185<=SUM($AN185:AS185),0,IF(AK185+$C185-SUM($AN185:AS185)>T184+AB185,T184+AB185-AK185,$C185-SUM($AN185:AS185))))","v":0}]
["",{"$error":"#N/A"},"",null,0,0,0,0,0,0,0,null,0,0,0,0,0,0,0,0,null,0,0,0,0,0,0,0,0,null,0,0,0,0,0,0,{"$f":"IF(T185>0,IF((T185+AB186)<#REF!,T185+AB186,#REF!),0)","v":0},0,null,0,{"$f":"IF(O185<=0,0,IF($C186<=SUM($AN186:AN186),0,IF(AF186+$C186-SUM($AN186:AN186)>O185+W186,O185+W186-AF186,$C186-SUM($AN186:AN186))))","v":0},{"$f":"IF(P185<=0,0,IF($C186<=SUM($AN186:AO186),0,IF(AG186+$C186-SUM($AN186:AO186)>P185+X186,P185+X186-AG186,$C186-SUM($AN186:AO186))))","v":0},{"$f":"IF(Q185<=0,0,IF($C186<=SUM($AN186:AP186),0,IF(AH186+$C186-SUM($AN186:AP186)>Q185+Y186,Q185+Y186-AH186,$C186-SUM($AN186:AP186))))","v":0},{"$f":"IF(R185<=0,0,IF($C186<=SUM($AN186:AQ186),0,IF(AI186+$C186-SUM($AN186:AQ186)>R185+Z186,R185+Z186-AI186,$C186-SUM($AN186:AQ186))))","v":0},{"$f":"IF(S185<=0,0,IF($C186<=SUM($AN186:AR186),0,IF(AJ186+$C186-SUM($AN186:AR186)>S185+AA186,S185+AA186-AJ186,$C186-SUM($AN186:AR186))))","v":0},{"$f":"IF(T185<=0,0,IF($C186<=SUM($AN186:AS186),0,IF(AK186+$C186-SUM($AN186:AS186)>T185+AB186,T185+AB186-AK186,$C186-SUM($AN186:AS186))))","v":0}]
["",{"$error":"#N/A"},"",null,0,0,0,0,0,0,0,null,0,0,0,0,0,0,0,0,null,0,0,0,0,0,0,0,0,null,0,0,0,0,0,0,{"$f":"IF(T186>0,IF((T186+AB187)<#REF!,T186+AB187,#REF!),0)","v":0},0,null,0,{"$f":"IF(O186<=0,0,IF($C187<=SUM($AN187:AN187),0,IF(AF187+$C187-SUM($AN187:AN187)>O186+W187,O186+W187-AF187,$C187-SUM($AN187:AN187))))","v":0},{"$f":"IF(P186<=0,0,IF($C187<=SUM($AN187:AO187),0,IF(AG187+$C187-SUM($AN187:AO187)>P186+X187,P186+X187-AG187,$C187-SUM($AN187:AO187))))","v":0},{"$f":"IF(Q186<=0,0,IF($C187<=SUM($AN187:AP187),0,IF(AH187+$C187-SUM($AN187:AP187)>Q186+Y187,Q186+Y187-AH187,$C187-SUM($AN187:AP187))))","v":0},{"$f":"IF(R186<=0,0,IF($C187<=SUM($AN187:AQ187),0,IF(AI187+$C187-SUM($AN187:AQ187)>R186+Z187,R186+Z187-AI187,$C187-SUM($AN187:AQ187))))","v":0},{"$f":"IF(S186<=0,0,IF($C187<=SUM($AN187:AR187),0,IF(AJ187+$C187-SUM($AN187:AR187)>S186+AA187,S186+AA187-AJ187,$C187-SUM($AN187:AR187))))","v":0},{"$f":"IF(T186<=0,0,IF($C187<=SUM($AN187:AS187),0,IF(AK187+$C187-SUM($AN187:AS187)>T186+AB187,T186+AB187-AK187,$C187-SUM($AN187:AS187))))","v":0}]
["",{"$error":"#N/A"},"",null,0,0,0,0,0,0,0,null,0,0,0,0,0,0,0,0,null,0,0,0,0,0,0,0,0,null,0,0,0,0,0,0,{"$f":"IF(T187>0,IF((T187+AB188)<#REF!,T187+AB188,#REF!),0)","v":0},0,null,0,{"$f":"IF(O187<=0,0,IF($C188<=SUM($AN188:AN188),0,IF(AF188+$C188-SUM($AN188:AN188)>O187+W188,O187+W188-AF188,$C188-SUM($AN188:AN188))))","v":0},{"$f":"IF(P187<=0,0,IF($C188<=SUM($AN188:AO188),0,IF(AG188+$C188-SUM($AN188:AO188)>P187+X188,P187+X188-AG188,$C188-SUM($AN188:AO188))))","v":0},{"$f":"IF(Q187<=0,0,IF($C188<=SUM($AN188:AP188),0,IF(AH188+$C188-SUM($AN188:AP188)>Q187+Y188,Q187+Y188-AH188,$C188-SUM($AN188:AP188))))","v":0},{"$f":"IF(R187<=0,0,IF($C188<=SUM($AN188:AQ188),0,IF(AI188+$C188-SUM($AN188:AQ188)>R187+Z188,R187+Z188-AI188,$C188-SUM($AN188:AQ188))))","v":0},{"$f":"IF(S187<=0,0,IF($C188<=SUM($AN188:AR188),0,IF(AJ188+$C188-SUM($AN188:AR188)>S187+AA188,S187+AA188-AJ188,$C188-SUM($AN188:AR188))))","v":0},{"$f":"IF(T187<=0,0,IF($C188<=SUM($AN188:AS188),0,IF(AK188+$C188-SUM($AN188:AS188)>T187+AB188,T187+AB188-AK188,$C188-SUM($AN188:AS188))))","v":0}]
["",{"$error":"#N/A"},"",null,0,0,0,0,0,0,0,null,0,0,0,0,0,0,0,0,null,0,0,0,0,0,0,0,0,null,0,0,0,0,0,0,{"$f":"IF(T188>0,IF((T188+AB189)<#REF!,T188+AB189,#REF!),0)","v":0},0,null,0,{"$f":"IF(O188<=0,0,IF($C189<=SUM($AN189:AN189),0,IF(AF189+$C189-SUM($AN189:AN189)>O188+W189,O188+W189-AF189,$C189-SUM($AN189:AN189))))","v":0},{"$f":"IF(P188<=0,0,IF($C189<=SUM($AN189:AO189),0,IF(AG189+$C189-SUM($AN189:AO189)>P188+X189,P188+X189-AG189,$C189-SUM($AN189:AO189))))","v":0},{"$f":"IF(Q188<=0,0,IF($C189<=SUM($AN189:AP189),0,IF(AH189+$C189-SUM($AN189:AP189)>Q188+Y189,Q188+Y189-AH189,$C189-SUM($AN189:AP189))))","v":0},{"$f":"IF(R188<=0,0,IF($C189<=SUM($AN189:AQ189),0,IF(AI189+$C189-SUM($AN189:AQ189)>R188+Z189,R188+Z189-AI189,$C189-SUM($AN189:AQ189))))","v":0},{"$f":"IF(S188<=0,0,IF($C189<=SUM($AN189:AR189),0,IF(AJ189+$C189-SUM($AN189:AR189)>S188+AA189,S188+AA189-AJ189,$C189-SUM($AN189:AR189))))","v":0},{"$f":"IF(T188<=0,0,IF($C189<=SUM($AN189:AS189),0,IF(AK189+$C189-SUM($AN189:AS189)>T188+AB189,T188+AB189-AK189,$C189-SUM($AN189:AS189))))","v":0}]
["",{"$error":"#N/A"},"",null,0,0,0,0,0,0,0,null,0,0,0,0,0,0,0,0,null,0,0,0,0,0,0,0,0,null,0,0,0,0,0,0,{"$f":"IF(T189>0,IF((T189+AB190)<#REF!,T189+AB190,#REF!),0)","v":0},0,null,0,{"$f":"IF(O189<=0,0,IF($C190<=SUM($AN190:AN190),0,IF(AF190+$C190-SUM($AN190:AN190)>O189+W190,O189+W190-AF190,$C190-SUM($AN190:AN190))))","v":0},{"$f":"IF(P189<=0,0,IF($C190<=SUM($AN190:AO190),0,IF(AG190+$C190-SUM($AN190:AO190)>P189+X190,P189+X190-AG190,$C190-SUM($AN190:AO190))))","v":0},{"$f":"IF(Q189<=0,0,IF($C190<=SUM($AN190:AP190),0,IF(AH190+$C190-SUM($AN190:AP190)>Q189+Y190,Q189+Y190-AH190,$C190-SUM($AN190:AP190))))","v":0},{"$f":"IF(R189<=0,0,IF($C190<=SUM($AN190:AQ190),0,IF(AI190+$C190-SUM($AN190:AQ190)>R189+Z190,R189+Z190-AI190,$C190-SUM($AN190:AQ190))))","v":0},{"$f":"IF(S189<=0,0,IF($C190<=SUM($AN190:AR190),0,IF(AJ190+$C190-SUM($AN190:AR190)>S189+AA190,S189+AA190-AJ190,$C190-SUM($AN190:AR190))))","v":0},{"$f":"IF(T189<=0,0,IF($C190<=SUM($AN190:AS190),0,IF(AK190+$C190-SUM($AN190:AS190)>T189+AB190,T189+AB190-AK190,$C190-SUM($AN190:AS190))))","v":0}]
[{"$f":"IF(SUM(N190:T190)<=0,\"\",A190+1)","v":""},{"$f":"IF(A191=\"\",NA(),DATE(YEAR(B190),MONTH(B190)+1,1))","v":{"$error":"#N/A"}},"",null,{"$f":"AE191+AN191","v":0},{"$f":"AF191+AO191","v":0},{"$f":"AG191+AP191","v":0},{"$f":"AH191+AQ191","v":0},{"$f":"AI191+AR191","v":0},{"$f":"AJ191+AS191","v":0},{"$f":"AK191+AT191","v":0},null,{"$f":"SUM(N191:T191)","v":0},{"$f":"IF(D$8=0,0,ROUND(N190-(E191-V191),2))","v":0},{"$f":"IF(E$8=0,0,ROUND(O190-(F191-W191),2))","v":0},{"$f":"IF(F$8=0,0,ROUND(P190-(G191-X191),2))","v":0},{"$f":"IF(G$8=0,0,ROUND(Q190-(H191-Y191),2))","v":0},{"$f":"IF(H$8=0,0,ROUND(R190-(I191-Z191),2))","v":0},{"$f":"IF(I$8=0,0,ROUND(S190-(J191-AA191),2))","v":0},{"$f":"IF(J$8=0,0,ROUND(T190-(K191-AB191),2))","v":0},null,{"$f":"ROUND(N190*E$9/12,2)","v":0},{"$f":"ROUND(O190*F$9/12,2)","v":0},{"$f":"ROUND(P190*G$9/12,2)","v":0},{"$f":"ROUND(Q190*H$9/12,2)","v":0},{"$f":"ROUND(R190*I$9/12,2)","v":0},{"$f":"ROUND(S190*J$9/12,2)","v":0},{"$f":"ROUND(T190*K$9/12,2)","v":0},{"$f":"SUM(V191:AB191)","v":0},null,{"$f":"IF(N190>0,IF((N190+V191)<E$10,N190+V191,E$10),0)","v":0},{"$f":"IF(O190>0,IF((O190+W191)<F$10,O190+W191,F$10),0)","v":0},{"$f":"IF(P190>0,IF((P190+X191)<G$10,P190+X191,G$10),0)","v":0},{"$f":"IF(Q190>0,IF((Q190+Y191)<H$10,Q190+Y191,H$10),0)","v":0},{"$f":"IF(R190>0,IF((R190+Z191)<I$10,R190+Z191,I$10),0)","v":0},{"$f":"IF(S190>0,IF((S190+AA191)<I$10,S190+AA191,I$10),0)","v":0},{"$f":"IF(T190>0,IF((T190+AB191)<#REF!,T190+AB191,#REF!),0)","v":0},{"$f":"SUM(AE191:AK191)","v":0},null,{"$f":"IF(N190<=0,0,IF(AE191+$C191>N190+V191,N190+V191-AE191,$C191))","v":0},{"$f":"IF(O190<=0,0,IF($C191<=SUM($AN191:AN191),0,IF(AF191+$C191-SUM($AN191:AN191)>O190+W191,O190+W191-AF191,$C191-SUM($AN191:AN191))))","v":0},{"$f":"IF(P190<=0,0,IF($C191<=SUM($AN191:AO191),0,IF(AG191+$C191-SUM($AN191:AO191)>P190+X191,P190+X191-AG191,$C191-SUM($AN191:AO191))))","v":0},{"$f":"IF(Q190<=0,0,IF($C191<=SUM($AN191:AP191),0,IF(AH191+$C191-SUM($AN191:AP191)>Q190+Y191,Q190+Y191-AH191,$C191-SUM($AN191:AP191))))","v":0},{"$f":"IF(R190<=0,0,IF($C191<=SUM($AN191:AQ191),0,IF(AI191+$C191-SUM($AN191:AQ191)>R190+Z191,R190+Z191-AI191,$C191-SUM($AN191:AQ191))))","v":0},{"$f":"IF(S190<=0,0,IF($C191<=SUM($AN191:AR191),0,IF(AJ191+$C191-SUM($AN191:AR191)>S190+AA191,S190+AA191-AJ191,$C191-SUM($AN191:AR191))))","v":0},{"$f":"IF(T190<=0,0,IF($C191<=SUM($AN191:AS191),0,IF(AK191+$C191-SUM($AN191:AS191)>T190+AB191,T190+AB191-AK191,$C191-SUM($AN191:AS191))))","v":0}]
["",{"$error":"#N/A"},"",null,0,0,0,0,0,0,0,null,0,0,0,0,0,0,0,0,null,0,0,0,0,0,0,0,0,null,0,0,0,0,0,0,{"$f":"IF(T191>0,IF((T191+AB192)<#REF!,T191+AB192,#REF!),0)","v":0},0,null,0,{"$f":"IF(O191<=0,0,IF($C192<=SUM($AN192:AN192),0,IF(AF192+$C192-SUM($AN192:AN192)>O191+W192,O191+W192-AF192,$C192-SUM($AN192:AN192))))","v":0},{"$f":"IF(P191<=0,0,IF($C192<=SUM($AN192:AO192),0,IF(AG192+$C192-SUM($AN192:AO192)>P191+X192,P191+X192-AG192,$C192-SUM($AN192:AO192))))","v":0},{"$f":"IF(Q191<=0,0,IF($C192<=SUM($AN192:AP192),0,IF(AH192+$C192-SUM($AN192:AP192)>Q191+Y192,Q191+Y192-AH192,$C192-SUM($AN192:AP192))))","v":0},{"$f":"IF(R191<=0,0,IF($C192<=SUM($AN192:AQ192),0,IF(AI192+$C192-SUM($AN192:AQ192)>R191+Z192,R191+Z192-AI192,$C192-SUM($AN192:AQ192))))","v":0},{"$f":"IF(S191<=0,0,IF($C192<=SUM($AN192:AR192),0,IF(AJ192+$C192-SUM($AN192:AR192)>S191+AA192,S191+AA192-AJ192,$C192-SUM($AN192:AR192))))","v":0},{"$f":"IF(T191<=0,0,IF($C192<=SUM($AN192:AS192),0,IF(AK192+$C192-SUM($AN192:AS192)>T191+AB192,T191+AB192-AK192,$C192-SUM($AN192:AS192))))","v":0}]
["",{"$error":"#N/A"},"",null,0,0,0,0,0,0,0,null,0,0,0,0,0,0,0,0,null,0,0,0,0,0,0,0,0,null,0,0,0,0,0,0,{"$f":"IF(T192>0,IF((T192+AB193)<#REF!,T192+AB193,#REF!),0)","v":0},0,null,0,{"$f":"IF(O192<=0,0,IF($C193<=SUM($AN193:AN193),0,IF(AF193+$C193-SUM($AN193:AN193)>O192+W193,O192+W193-AF193,$C193-SUM($AN193:AN193))))","v":0},{"$f":"IF(P192<=0,0,IF($C193<=SUM($AN193:AO193),0,IF(AG193+$C193-SUM($AN193:AO193)>P192+X193,P192+X193-AG193,$C193-SUM($AN193:AO193))))","v":0},{"$f":"IF(Q192<=0,0,IF($C193<=SUM($AN193:AP193),0,IF(AH193+$C193-SUM($AN193:AP193)>Q192+Y193,Q192+Y193-AH193,$C193-SUM($AN193:AP193))))","v":0},{"$f":"IF(R192<=0,0,IF($C193<=SUM($AN193:AQ193),0,IF(AI193+$C193-SUM($AN193:AQ193)>R192+Z193,R192+Z193-AI193,$C193-SUM($AN193:AQ193))))","v":0},{"$f":"IF(S192<=0,0,IF($C193<=SUM($AN193:AR193),0,IF(AJ193+$C193-SUM($AN193:AR193)>S192+AA193,S192+AA193-AJ193,$C193-SUM($AN193:AR193))))","v":0},{"$f":"IF(T192<=0,0,IF($C193<=SUM($AN193:AS193),0,IF(AK193+$C193-SUM($AN193:AS193)>T192+AB193,T192+AB193-AK193,$C193-SUM($AN193:AS193))))","v":0}]
["",{"$error":"#N/A"},"",null,0,0,0,0,0,0,0,null,0,0,0,0,0,0,0,0,null,0,0,0,0,0,0,0,0,null,0,0,0,0,0,0,{"$f":"IF(T193>0,IF((T193+AB194)<#REF!,T193+AB194,#REF!),0)","v":0},0,null,0,{"$f":"IF(O193<=0,0,IF($C194<=SUM($AN194:AN194),0,IF(AF194+$C194-SUM($AN194:AN194)>O193+W194,O193+W194-AF194,$C194-SUM($AN194:AN194))))","v":0},{"$f":"IF(P193<=0,0,IF($C194<=SUM($AN194:AO194),0,IF(AG194+$C194-SUM($AN194:AO194)>P193+X194,P193+X194-AG194,$C194-SUM($AN194:AO194))))","v":0},{"$f":"IF(Q193<=0,0,IF($C194<=SUM($AN194:AP194),0,IF(AH194+$C194-SUM($AN194:AP194)>Q193+Y194,Q193+Y194-AH194,$C194-SUM($AN194:AP194))))","v":0},{"$f":"IF(R193<=0,0,IF($C194<=SUM($AN194:AQ194),0,IF(AI194+$C194-SUM($AN194:AQ194)>R193+Z194,R193+Z194-AI194,$C194-SUM($AN194:AQ194))))","v":0},{"$f":"IF(S193<=0,0,IF($C194<=SUM($AN194:AR194),0,IF(AJ194+$C194-SUM($AN194:AR194)>S193+AA194,S193+AA194-AJ194,$C194-SUM($AN194:AR194))))","v":0},{"$f":"IF(T193<=0,0,IF($C194<=SUM($AN194:AS194),0,IF(AK194+$C194-SUM($AN194:AS194)>T193+AB194,T193+AB194-AK194,$C194-SUM($AN194:AS194))))","v":0}]
["",{"$error":"#N/A"},"",null,0,0,0,0,0,0,0,null,0,0,0,0,0,0,0,0,null,0,0,0,0,0,0,0,0,null,0,0,0,0,0,0,{"$f":"IF(T194>0,IF((T194+AB195)<#REF!,T194+AB195,#REF!),0)","v":0},0,null,0,{"$f":"IF(O194<=0,0,IF($C195<=SUM($AN195:AN195),0,IF(AF195+$C195-SUM($AN195:AN195)>O194+W195,O194+W195-AF195,$C195-SUM($AN195:AN195))))","v":0},{"$f":"IF(P194<=0,0,IF($C195<=SUM($AN195:AO195),0,IF(AG195+$C195-SUM($AN195:AO195)>P194+X195,P194+X195-AG195,$C195-SUM($AN195:AO195))))","v":0},{"$f":"IF(Q194<=0,0,IF($C195<=SUM($AN195:AP195),0,IF(AH195+$C195-SUM($AN195:AP195)>Q194+Y195,Q194+Y195-AH195,$C195-SUM($AN195:AP195))))","v":0},{"$f":"IF(R194<=0,0,IF($C195<=SUM($AN195:AQ195),0,IF(AI195+$C195-SUM($AN195:AQ195)>R194+Z195,R194+Z195-AI195,$C195-SUM($AN195:AQ195))))","v":0},{"$f":"IF(S194<=0,0,IF($C195<=SUM($AN195:AR195),0,IF(AJ195+$C195-SUM($AN195:AR195)>S194+AA195,S194+AA195-AJ195,$C195-SUM($AN195:AR195))))","v":0},{"$f":"IF(T194<=0,0,IF($C195<=SUM($AN195:AS195),0,IF(AK195+$C195-SUM($AN195:AS195)>T194+AB195,T194+AB195-AK195,$C195-SUM($AN195:AS195))))","v":0}]
["",{"$error":"#N/A"},"",null,0,0,0,0,0,0,0,null,0,0,0,0,0,0,0,0,null,0,0,0,0,0,0,0,0,null,0,0,0,0,0,0,{"$f":"IF(T195>0,IF((T195+AB196)<#REF!,T195+AB196,#REF!),0)","v":0},0,null,0,{"$f":"IF(O195<=0,0,IF($C196<=SUM($AN196:AN196),0,IF(AF196+$C196-SUM($AN196:AN196)>O195+W196,O195+W196-AF196,$C196-SUM($AN196:AN196))))","v":0},{"$f":"IF(P195<=0,0,IF($C196<=SUM($AN196:AO196),0,IF(AG196+$C196-SUM($AN196:AO196)>P195+X196,P195+X196-AG196,$C196-SUM($AN196:AO196))))","v":0},{"$f":"IF(Q195<=0,0,IF($C196<=SUM($AN196:AP196),0,IF(AH196+$C196-SUM($AN196:AP196)>Q195+Y196,Q195+Y196-AH196,$C196-SUM($AN196:AP196))))","v":0},{"$f":"IF(R195<=0,0,IF($C196<=SUM($AN196:AQ196),0,IF(AI196+$C196-SUM($AN196:AQ196)>R195+Z196,R195+Z196-AI196,$C196-SUM($AN196:AQ196))))","v":0},{"$f":"IF(S195<=0,0,IF($C196<=SUM($AN196:AR196),0,IF(AJ196+$C196-SUM($AN196:AR196)>S195+AA196,S195+AA196-AJ196,$C196-SUM($AN196:AR196))))","v":0},{"$f":"IF(T195<=0,0,IF($C196<=SUM($AN196:AS196),0,IF(AK196+$C196-SUM($AN196:AS196)>T195+AB196,T195+AB196-AK196,$C196-SUM($AN196:AS196))))","v":0}]
["",{"$error":"#N/A"},"",null,0,0,0,0,0,0,0,null,0,0,0,0,0,0,0,0,null,0,0,0,0,0,0,0,0,null,0,0,0,0,0,0,{"$f":"IF(T196>0,IF((T196+AB197)<#REF!,T196+AB197,#REF!),0)","v":0},0,null,0,{"$f":"IF(O196<=0,0,IF($C197<=SUM($AN197:AN197),0,IF(AF197+$C197-SUM($AN197:AN197)>O196+W197,O196+W197-AF197,$C197-SUM($AN197:AN197))))","v":0},{"$f":"IF(P196<=0,0,IF($C197<=SUM($AN197:AO197),0,IF(AG197+$C197-SUM($AN197:AO197)>P196+X197,P196+X197-AG197,$C197-SUM($AN197:AO197))))","v":0},{"$f":"IF(Q196<=0,0,IF($C197<=SUM($AN197:AP197),0,IF(AH197+$C197-SUM($AN197:AP197)>Q196+Y197,Q196+Y197-AH197,$C197-SUM($AN197:AP197))))","v":0},{"$f":"IF(R196<=0,0,IF($C197<=SUM($AN197:AQ197),0,IF(AI197+$C197-SUM($AN197:AQ197)>R196+Z197,R196+Z197-AI197,$C197-SUM($AN197:AQ197))))","v":0},{"$f":"IF(S196<=0,0,IF($C197<=SUM($AN197:AR197),0,IF(AJ197+$C197-SUM($AN197:AR197)>S196+AA197,S196+AA197-AJ197,$C197-SUM($AN197:AR197))))","v":0},{"$f":"IF(T196<=0,0,IF($C197<=SUM($AN197:AS197),0,IF(AK197+$C197-SUM($AN197:AS197)>T196+AB197,T196+AB197-AK197,$C197-SUM($AN197:AS197))))","v":0}]
["",{"$error":"#N/A"},"",null,0,0,0,0,0,0,0,null,0,0,0,0,0,0,0,0,null,0,0,0,0,0,0,0,0,null,0,0,0,0,0,0,{"$f":"IF(T197>0,IF((T197+AB198)<#REF!,T197+AB198,#REF!),0)","v":0},0,null,0,{"$f":"IF(O197<=0,0,IF($C198<=SUM($AN198:AN198),0,IF(AF198+$C198-SUM($AN198:AN198)>O197+W198,O197+W198-AF198,$C198-SUM($AN198:AN198))))","v":0},{"$f":"IF(P197<=0,0,IF($C198<=SUM($AN198:AO198),0,IF(AG198+$C198-SUM($AN198:AO198)>P197+X198,P197+X198-AG198,$C198-SUM($AN198:AO198))))","v":0},{"$f":"IF(Q197<=0,0,IF($C198<=SUM($AN198:AP198),0,IF(AH198+$C198-SUM($AN198:AP198)>Q197+Y198,Q197+Y198-AH198,$C198-SUM($AN198:AP198))))","v":0},{"$f":"IF(R197<=0,0,IF($C198<=SUM($AN198:AQ198),0,IF(AI198+$C198-SUM($AN198:AQ198)>R197+Z198,R197+Z198-AI198,$C198-SUM($AN198:AQ198))))","v":0},{"$f":"IF(S197<=0,0,IF($C198<=SUM($AN198:AR198),0,IF(AJ198+$C198-SUM($AN198:AR198)>S197+AA198,S197+AA198-AJ198,$C198-SUM($AN198:AR198))))","v":0},{"$f":"IF(T197<=0,0,IF($C198<=SUM($AN198:AS198),0,IF(AK198+$C198-SUM($AN198:AS198)>T197+AB198,T197+AB198-AK198,$C198-SUM($AN198:AS198))))","v":0}]
["",{"$error":"#N/A"},"",null,0,0,0,0,0,0,0,null,0,0,0,0,0,0,0,0,null,0,0,0,0,0,0,0,0,null,0,0,0,0,0,0,{"$f":"IF(T198>0,IF((T198+AB199)<#REF!,T198+AB199,#REF!),0)","v":0},0,null,0,{"$f":"IF(O198<=0,0,IF($C199<=SUM($AN199:AN199),0,IF(AF199+$C199-SUM($AN199:AN199)>O198+W199,O198+W199-AF199,$C199-SUM($AN199:AN199))))","v":0},{"$f":"IF(P198<=0,0,IF($C199<=SUM($AN199:AO199),0,IF(AG199+$C199-SUM($AN199:AO199)>P198+X199,P198+X199-AG199,$C199-SUM($AN199:AO199))))","v":0},{"$f":"IF(Q198<=0,0,IF($C199<=SUM($AN199:AP199),0,IF(AH199+$C199-SUM($AN199:AP199)>Q198+Y199,Q198+Y199-AH199,$C199-SUM($AN199:AP199))))","v":0},{"$f":"IF(R198<=0,0,IF($C199<=SUM($AN199:AQ199),0,IF(AI199+$C199-SUM($AN199:AQ199)>R198+Z199,R198+Z199-AI199,$C199-SUM($AN199:AQ199))))","v":0},{"$f":"IF(S198<=0,0,IF($C199<=SUM($AN199:AR199),0,IF(AJ199+$C199-SUM($AN199:AR199)>S198+AA199,S198+AA199-AJ199,$C199-SUM($AN199:AR199))))","v":0},{"$f":"IF(T198<=0,0,IF($C199<=SUM($AN199:AS199),0,IF(AK199+$C199-SUM($AN199:AS199)>T198+AB199,T198+AB199-AK199,$C199-SUM($AN199:AS199))))","v":0}]
["",{"$error":"#N/A"},"",null,0,0,0,0,0,0,0,null,0,0,0,0,0,0,0,0,null,0,0,0,0,0,0,0,0,null,0,0,0,0,0,0,{"$f":"IF(T199>0,IF((T199+AB200)<#REF!,T199+AB200,#REF!),0)","v":0},0,null,0,{"$f":"IF(O199<=0,0,IF($C200<=SUM($AN200:AN200),0,IF(AF200+$C200-SUM($AN200:AN200)>O199+W200,O199+W200-AF200,$C200-SUM($AN200:AN200))))","v":0},{"$f":"IF(P199<=0,0,IF($C200<=SUM($AN200:AO200),0,IF(AG200+$C200-SUM($AN200:AO200)>P199+X200,P199+X200-AG200,$C200-SUM($AN200:AO200))))","v":0},{"$f":"IF(Q199<=0,0,IF($C200<=SUM($AN200:AP200),0,IF(AH200+$C200-SUM($AN200:AP200)>Q199+Y200,Q199+Y200-AH200,$C200-SUM($AN200:AP200))))","v":0},{"$f":"IF(R199<=0,0,IF($C200<=SUM($AN200:AQ200),0,IF(AI200+$C200-SUM($AN200:AQ200)>R199+Z200,R199+Z200-AI200,$C200-SUM($AN200:AQ200))))","v":0},{"$f":"IF(S199<=0,0,IF($C200<=SUM($AN200:AR200),0,IF(AJ200+$C200-SUM($AN200:AR200)>S199+AA200,S199+AA200-AJ200,$C200-SUM($AN200:AR200))))","v":0},{"$f":"IF(T199<=0,0,IF($C200<=SUM($AN200:AS200),0,IF(AK200+$C200-SUM($AN200:AS200)>T199+AB200,T199+AB200-AK200,$C200-SUM($AN200:AS200))))","v":0}]
["",{"$error":"#N/A"},"",null,0,0,0,0,0,0,0,null,0,0,0,0,0,0,0,0,null,0,0,0,0,0,0,0,0,null,0,0,0,0,0,0,{"$f":"IF(T200>0,IF((T200+AB201)<#REF!,T200+AB201,#REF!),0)","v":0},0,null,0,{"$f":"IF(O200<=0,0,IF($C201<=SUM($AN201:AN201),0,IF(AF201+$C201-SUM($AN201:AN201)>O200+W201,O200+W201-AF201,$C201-SUM($AN201:AN201))))","v":0},{"$f":"IF(P200<=0,0,IF($C201<=SUM($AN201:AO201),0,IF(AG201+$C201-SUM($AN201:AO201)>P200+X201,P200+X201-AG201,$C201-SUM($AN201:AO201))))","v":0},{"$f":"IF(Q200<=0,0,IF($C201<=SUM($AN201:AP201),0,IF(AH201+$C201-SUM($AN201:AP201)>Q200+Y201,Q200+Y201-AH201,$C201-SUM($AN201:AP201))))","v":0},{"$f":"IF(R200<=0,0,IF($C201<=SUM($AN201:AQ201),0,IF(AI201+$C201-SUM($AN201:AQ201)>R200+Z201,R200+Z201-AI201,$C201-SUM($AN201:AQ201))))","v":0},{"$f":"IF(S200<=0,0,IF($C201<=SUM($AN201:AR201),0,IF(AJ201+$C201-SUM($AN201:AR201)>S200+AA201,S200+AA201-AJ201,$C201-SUM($AN201:AR201))))","v":0},{"$f":"IF(T200<=0,0,IF($C201<=SUM($AN201:AS201),0,IF(AK201+$C201-SUM($AN201:AS201)>T200+AB201,T200+AB201-AK201,$C201-SUM($AN201:AS201))))","v":0}]
["",{"$error":"#N/A"},"",null,0,0,0,0,0,0,0,null,0,0,0,0,0,0,0,0,null,0,0,0,0,0,0,0,0,null,0,0,0,0,0,0,{"$f":"IF(T201>0,IF((T201+AB202)<#REF!,T201+AB202,#REF!),0)","v":0},0,null,0,{"$f":"IF(O201<=0,0,IF($C202<=SUM($AN202:AN202),0,IF(AF202+$C202-SUM($AN202:AN202)>O201+W202,O201+W202-AF202,$C202-SUM($AN202:AN202))))","v":0},{"$f":"IF(P201<=0,0,IF($C202<=SUM($AN202:AO202),0,IF(AG202+$C202-SUM($AN202:AO202)>P201+X202,P201+X202-AG202,$C202-SUM($AN202:AO202))))","v":0},{"$f":"IF(Q201<=0,0,IF($C202<=SUM($AN202:AP202),0,IF(AH202+$C202-SUM($AN202:AP202)>Q201+Y202,Q201+Y202-AH202,$C202-SUM($AN202:AP202))))","v":0},{"$f":"IF(R201<=0,0,IF($C202<=SUM($AN202:AQ202),0,IF(AI202+$C202-SUM($AN202:AQ202)>R201+Z202,R201+Z202-AI202,$C202-SUM($AN202:AQ202))))","v":0},{"$f":"IF(S201<=0,0,IF($C202<=SUM($AN202:AR202),0,IF(AJ202+$C202-SUM($AN202:AR202)>S201+AA202,S201+AA202-AJ202,$C202-SUM($AN202:AR202))))","v":0},{"$f":"IF(T201<=0,0,IF($C202<=SUM($AN202:AS202),0,IF(AK202+$C202-SUM($AN202:AS202)>T201+AB202,T201+AB202-AK202,$C202-SUM($AN202:AS202))))","v":0}]
["",{"$error":"#N/A"},"",null,0,0,0,0,0,0,0,null,0,0,0,0,0,0,0,0,null,0,0,0,0,0,0,0,0,null,0,0,0,0,0,0,{"$f":"IF(T202>0,IF((T202+AB203)<#REF!,T202+AB203,#REF!),0)","v":0},0,null,0,{"$f":"IF(O202<=0,0,IF($C203<=SUM($AN203:AN203),0,IF(AF203+$C203-SUM($AN203:AN203)>O202+W203,O202+W203-AF203,$C203-SUM($AN203:AN203))))","v":0},{"$f":"IF(P202<=0,0,IF($C203<=SUM($AN203:AO203),0,IF(AG203+$C203-SUM($AN203:AO203)>P202+X203,P202+X203-AG203,$C203-SUM($AN203:AO203))))","v":0},{"$f":"IF(Q202<=0,0,IF($C203<=SUM($AN203:AP203),0,IF(AH203+$C203-SUM($AN203:AP203)>Q202+Y203,Q202+Y203-AH203,$C203-SUM($AN203:AP203))))","v":0},{"$f":"IF(R202<=0,0,IF($C203<=SUM($AN203:AQ203),0,IF(AI203+$C203-SUM($AN203:AQ203)>R202+Z203,R202+Z203-AI203,$C203-SUM($AN203:AQ203))))","v":0},{"$f":"IF(S202<=0,0,IF($C203<=SUM($AN203:AR203),0,IF(AJ203+$C203-SUM($AN203:AR203)>S202+AA203,S202+AA203-AJ203,$C203-SUM($AN203:AR203))))","v":0},{"$f":"IF(T202<=0,0,IF($C203<=SUM($AN203:AS203),0,IF(AK203+$C203-SUM($AN203:AS203)>T202+AB203,T202+AB203-AK203,$C203-SUM($AN203:AS203))))","v":0}]
["",{"$error":"#N/A"},"",null,0,0,0,0,0,0,0,null,0,0,0,0,0,0,0,0,null,0,0,0,0,0,0,0,0,null,0,0,0,0,0,0,{"$f":"IF(T203>0,IF((T203+AB204)<#REF!,T203+AB204,#REF!),0)","v":0},0,null,0,{"$f":"IF(O203<=0,0,IF($C204<=SUM($AN204:AN204),0,IF(AF204+$C204-SUM($AN204:AN204)>O203+W204,O203+W204-AF204,$C204-SUM($AN204:AN204))))","v":0},{"$f":"IF(P203<=0,0,IF($C204<=SUM($AN204:AO204),0,IF(AG204+$C204-SUM($AN204:AO204)>P203+X204,P203+X204-AG204,$C204-SUM($AN204:AO204))))","v":0},{"$f":"IF(Q203<=0,0,IF($C204<=SUM($AN204:AP204),0,IF(AH204+$C204-SUM($AN204:AP204)>Q203+Y204,Q203+Y204-AH204,$C204-SUM($AN204:AP204))))","v":0},{"$f":"IF(R203<=0,0,IF($C204<=SUM($AN204:AQ204),0,IF(AI204+$C204-SUM($AN204:AQ204)>R203+Z204,R203+Z204-AI204,$C204-SUM($AN204:AQ204))))","v":0},{"$f":"IF(S203<=0,0,IF($C204<=SUM($AN204:AR204),0,IF(AJ204+$C204-SUM($AN204:AR204)>S203+AA204,S203+AA204-AJ204,$C204-SUM($AN204:AR204))))","v":0},{"$f":"IF(T203<=0,0,IF($C204<=SUM($AN204:AS204),0,IF(AK204+$C204-SUM($AN204:AS204)>T203+AB204,T203+AB204-AK204,$C204-SUM($AN204:AS204))))","v":0}]
["",{"$error":"#N/A"},"",null,0,0,0,0,0,0,0,null,0,0,0,0,0,0,0,0,null,0,0,0,0,0,0,0,0,null,0,0,0,0,0,0,{"$f":"IF(T204>0,IF((T204+AB205)<#REF!,T204+AB205,#REF!),0)","v":0},0,null,0,{"$f":"IF(O204<=0,0,IF($C205<=SUM($AN205:AN205),0,IF(AF205+$C205-SUM($AN205:AN205)>O204+W205,O204+W205-AF205,$C205-SUM($AN205:AN205))))","v":0},{"$f":"IF(P204<=0,0,IF($C205<=SUM($AN205:AO205),0,IF(AG205+$C205-SUM($AN205:AO205)>P204+X205,P204+X205-AG205,$C205-SUM($AN205:AO205))))","v":0},{"$f":"IF(Q204<=0,0,IF($C205<=SUM($AN205:AP205),0,IF(AH205+$C205-SUM($AN205:AP205)>Q204+Y205,Q204+Y205-AH205,$C205-SUM($AN205:AP205))))","v":0},{"$f":"IF(R204<=0,0,IF($C205<=SUM($AN205:AQ205),0,IF(AI205+$C205-SUM($AN205:AQ205)>R204+Z205,R204+Z205-AI205,$C205-SUM($AN205:AQ205))))","v":0},{"$f":"IF(S204<=0,0,IF($C205<=SUM($AN205:AR205),0,IF(AJ205+$C205-SUM($AN205:AR205)>S204+AA205,S204+AA205-AJ205,$C205-SUM($AN205:AR205))))","v":0},{"$f":"IF(T204<=0,0,IF($C205<=SUM($AN205:AS205),0,IF(AK205+$C205-SUM($AN205:AS205)>T204+AB205,T204+AB205-AK205,$C205-SUM($AN205:AS205))))","v":0}]
["",{"$error":"#N/A"},"",null,0,0,0,0,0,0,0,null,0,0,0,0,0,0,0,0,null,0,0,0,0,0,0,0,0,null,0,0,0,0,0,0,{"$f":"IF(T205>0,IF((T205+AB206)<#REF!,T205+AB206,#REF!),0)","v":0},0,null,0,{"$f":"IF(O205<=0,0,IF($C206<=SUM($AN206:AN206),0,IF(AF206+$C206-SUM($AN206:AN206)>O205+W206,O205+W206-AF206,$C206-SUM($AN206:AN206))))","v":0},{"$f":"IF(P205<=0,0,IF($C206<=SUM($AN206:AO206),0,IF(AG206+$C206-SUM($AN206:AO206)>P205+X206,P205+X206-AG206,$C206-SUM($AN206:AO206))))","v":0},{"$f":"IF(Q205<=0,0,IF($C206<=SUM($AN206:AP206),0,IF(AH206+$C206-SUM($AN206:AP206)>Q205+Y206,Q205+Y206-AH206,$C206-SUM($AN206:AP206))))","v":0},{"$f":"IF(R205<=0,0,IF($C206<=SUM($AN206:AQ206),0,IF(AI206+$C206-SUM($AN206:AQ206)>R205+Z206,R205+Z206-AI206,$C206-SUM($AN206:AQ206))))","v":0},{"$f":"IF(S205<=0,0,IF($C206<=SUM($AN206:AR206),0,IF(AJ206+$C206-SUM($AN206:AR206)>S205+AA206,S205+AA206-AJ206,$C206-SUM($AN206:AR206))))","v":0},{"$f":"IF(T205<=0,0,IF($C206<=SUM($AN206:AS206),0,IF(AK206+$C206-SUM($AN206:AS206)>T205+AB206,T205+AB206-AK206,$C206-SUM($AN206:AS206))))","v":0}]
["",{"$error":"#N/A"},"",null,0,0,0,0,0,0,0,null,0,0,0,0,0,0,0,0,null,0,0,0,0,0,0,0,0,null,0,0,0,0,0,0,{"$f":"IF(T206>0,IF((T206+AB207)<#REF!,T206+AB207,#REF!),0)","v":0},0,null,0,{"$f":"IF(O206<=0,0,IF($C207<=SUM($AN207:AN207),0,IF(AF207+$C207-SUM($AN207:AN207)>O206+W207,O206+W207-AF207,$C207-SUM($AN207:AN207))))","v":0},{"$f":"IF(P206<=0,0,IF($C207<=SUM($AN207:AO207),0,IF(AG207+$C207-SUM($AN207:AO207)>P206+X207,P206+X207-AG207,$C207-SUM($AN207:AO207))))","v":0},{"$f":"IF(Q206<=0,0,IF($C207<=SUM($AN207:AP207),0,IF(AH207+$C207-SUM($AN207:AP207)>Q206+Y207,Q206+Y207-AH207,$C207-SUM($AN207:AP207))))","v":0},{"$f":"IF(R206<=0,0,IF($C207<=SUM($AN207:AQ207),0,IF(AI207+$C207-SUM($AN207:AQ207)>R206+Z207,R206+Z207-AI207,$C207-SUM($AN207:AQ207))))","v":0},{"$f":"IF(S206<=0,0,IF($C207<=SUM($AN207:AR207),0,IF(AJ207+$C207-SUM($AN207:AR207)>S206+AA207,S206+AA207-AJ207,$C207-SUM($AN207:AR207))))","v":0},{"$f":"IF(T206<=0,0,IF($C207<=SUM($AN207:AS207),0,IF(AK207+$C207-SUM($AN207:AS207)>T206+AB207,T206+AB207-AK207,$C207-SUM($AN207:AS207))))","v":0}]
["",{"$error":"#N/A"},"",null,0,0,0,0,0,0,0,null,0,0,0,0,0,0,0,0,null,0,0,0,0,0,0,0,0,null,0,0,0,0,0,0,{"$f":"IF(T207>0,IF((T207+AB208)<#REF!,T207+AB208,#REF!),0)","v":0},0,null,0,{"$f":"IF(O207<=0,0,IF($C208<=SUM($AN208:AN208),0,IF(AF208+$C208-SUM($AN208:AN208)>O207+W208,O207+W208-AF208,$C208-SUM($AN208:AN208))))","v":0},{"$f":"IF(P207<=0,0,IF($C208<=SUM($AN208:AO208),0,IF(AG208+$C208-SUM($AN208:AO208)>P207+X208,P207+X208-AG208,$C208-SUM($AN208:AO208))))","v":0},{"$f":"IF(Q207<=0,0,IF($C208<=SUM($AN208:AP208),0,IF(AH208+$C208-SUM($AN208:AP208)>Q207+Y208,Q207+Y208-AH208,$C208-SUM($AN208:AP208))))","v":0},{"$f":"IF(R207<=0,0,IF($C208<=SUM($AN208:AQ208),0,IF(AI208+$C208-SUM($AN208:AQ208)>R207+Z208,R207+Z208-AI208,$C208-SUM($AN208:AQ208))))","v":0},{"$f":"IF(S207<=0,0,IF($C208<=SUM($AN208:AR208),0,IF(AJ208+$C208-SUM($AN208:AR208)>S207+AA208,S207+AA208-AJ208,$C208-SUM($AN208:AR208))))","v":0},{"$f":"IF(T207<=0,0,IF($C208<=SUM($AN208:AS208),0,IF(AK208+$C208-SUM($AN208:AS208)>T207+AB208,T207+AB208-AK208,$C208-SUM($AN208:AS208))))","v":0}]
["",{"$error":"#N/A"},"",null,0,0,0,0,0,0,0,null,0,0,0,0,0,0,0,0,null,0,0,0,0,0,0,0,0,null,0,0,0,0,0,0,{"$f":"IF(T208>0,IF((T208+AB209)<#REF!,T208+AB209,#REF!),0)","v":0},0,null,0,{"$f":"IF(O208<=0,0,IF($C209<=SUM($AN209:AN209),0,IF(AF209+$C209-SUM($AN209:AN209)>O208+W209,O208+W209-AF209,$C209-SUM($AN209:AN209))))","v":0},{"$f":"IF(P208<=0,0,IF($C209<=SUM($AN209:AO209),0,IF(AG209+$C209-SUM($AN209:AO209)>P208+X209,P208+X209-AG209,$C209-SUM($AN209:AO209))))","v":0},{"$f":"IF(Q208<=0,0,IF($C209<=SUM($AN209:AP209),0,IF(AH209+$C209-SUM($AN209:AP209)>Q208+Y209,Q208+Y209-AH209,$C209-SUM($AN209:AP209))))","v":0},{"$f":"IF(R208<=0,0,IF($C209<=SUM($AN209:AQ209),0,IF(AI209+$C209-SUM($AN209:AQ209)>R208+Z209,R208+Z209-AI209,$C209-SUM($AN209:AQ209))))","v":0},{"$f":"IF(S208<=0,0,IF($C209<=SUM($AN209:AR209),0,IF(AJ209+$C209-SUM($AN209:AR209)>S208+AA209,S208+AA209-AJ209,$C209-SUM($AN209:AR209))))","v":0},{"$f":"IF(T208<=0,0,IF($C209<=SUM($AN209:AS209),0,IF(AK209+$C209-SUM($AN209:AS209)>T208+AB209,T208+AB209-AK209,$C209-SUM($AN209:AS209))))","v":0}]
["",{"$error":"#N/A"},"",null,0,0,0,0,0,0,0,null,0,0,0,0,0,0,0,0,null,0,0,0,0,0,0,0,0,null,0,0,0,0,0,0,{"$f":"IF(T209>0,IF((T209+AB210)<#REF!,T209+AB210,#REF!),0)","v":0},0,null,0,{"$f":"IF(O209<=0,0,IF($C210<=SUM($AN210:AN210),0,IF(AF210+$C210-SUM($AN210:AN210)>O209+W210,O209+W210-AF210,$C210-SUM($AN210:AN210))))","v":0},{"$f":"IF(P209<=0,0,IF($C210<=SUM($AN210:AO210),0,IF(AG210+$C210-SUM($AN210:AO210)>P209+X210,P209+X210-AG210,$C210-SUM($AN210:AO210))))","v":0},{"$f":"IF(Q209<=0,0,IF($C210<=SUM($AN210:AP210),0,IF(AH210+$C210-SUM($AN210:AP210)>Q209+Y210,Q209+Y210-AH210,$C210-SUM($AN210:AP210))))","v":0},{"$f":"IF(R209<=0,0,IF($C210<=SUM($AN210:AQ210),0,IF(AI210+$C210-SUM($AN210:AQ210)>R209+Z210,R209+Z210-AI210,$C210-SUM($AN210:AQ210))))","v":0},{"$f":"IF(S209<=0,0,IF($C210<=SUM($AN210:AR210),0,IF(AJ210+$C210-SUM($AN210:AR210)>S209+AA210,S209+AA210-AJ210,$C210-SUM($AN210:AR210))))","v":0},{"$f":"IF(T209<=0,0,IF($C210<=SUM($AN210:AS210),0,IF(AK210+$C210-SUM($AN210:AS210)>T209+AB210,T209+AB210-AK210,$C210-SUM($AN210:AS210))))","v":0}]
["",{"$error":"#N/A"},"",null,0,0,0,0,0,0,0,null,0,0,0,0,0,0,0,0,null,0,0,0,0,0,0,0,0,null,0,0,0,0,0,0,{"$f":"IF(T210>0,IF((T210+AB211)<#REF!,T210+AB211,#REF!),0)","v":0},0,null,0,{"$f":"IF(O210<=0,0,IF($C211<=SUM($AN211:AN211),0,IF(AF211+$C211-SUM($AN211:AN211)>O210+W211,O210+W211-AF211,$C211-SUM($AN211:AN211))))","v":0},{"$f":"IF(P210<=0,0,IF($C211<=SUM($AN211:AO211),0,IF(AG211+$C211-SUM($AN211:AO211)>P210+X211,P210+X211-AG211,$C211-SUM($AN211:AO211))))","v":0},{"$f":"IF(Q210<=0,0,IF($C211<=SUM($AN211:AP211),0,IF(AH211+$C211-SUM($AN211:AP211)>Q210+Y211,Q210+Y211-AH211,$C211-SUM($AN211:AP211))))","v":0},{"$f":"IF(R210<=0,0,IF($C211<=SUM($AN211:AQ211),0,IF(AI211+$C211-SUM($AN211:AQ211)>R210+Z211,R210+Z211-AI211,$C211-SUM($AN211:AQ211))))","v":0},{"$f":"IF(S210<=0,0,IF($C211<=SUM($AN211:AR211),0,IF(AJ211+$C211-SUM($AN211:AR211)>S210+AA211,S210+AA211-AJ211,$C211-SUM($AN211:AR211))))","v":0},{"$f":"IF(T210<=0,0,IF($C211<=SUM($AN211:AS211),0,IF(AK211+$C211-SUM($AN211:AS211)>T210+AB211,T210+AB211-AK211,$C211-SUM($AN211:AS211))))","v":0}]
["",{"$error":"#N/A"},"",null,0,0,0,0,0,0,0,null,0,0,0,0,0,0,0,0,null,0,0,0,0,0,0,0,0,null,0,0,0,0,0,0,{"$f":"IF(T211>0,IF((T211+AB212)<#REF!,T211+AB212,#REF!),0)","v":0},0,null,0,{"$f":"IF(O211<=0,0,IF($C212<=SUM($AN212:AN212),0,IF(AF212+$C212-SUM($AN212:AN212)>O211+W212,O211+W212-AF212,$C212-SUM($AN212:AN212))))","v":0},{"$f":"IF(P211<=0,0,IF($C212<=SUM($AN212:AO212),0,IF(AG212+$C212-SUM($AN212:AO212)>P211+X212,P211+X212-AG212,$C212-SUM($AN212:AO212))))","v":0},{"$f":"IF(Q211<=0,0,IF($C212<=SUM($AN212:AP212),0,IF(AH212+$C212-SUM($AN212:AP212)>Q211+Y212,Q211+Y212-AH212,$C212-SUM($AN212:AP212))))","v":0},{"$f":"IF(R211<=0,0,IF($C212<=SUM($AN212:AQ212),0,IF(AI212+$C212-SUM($AN212:AQ212)>R211+Z212,R211+Z212-AI212,$C212-SUM($AN212:AQ212))))","v":0},{"$f":"IF(S211<=0,0,IF($C212<=SUM($AN212:AR212),0,IF(AJ212+$C212-SUM($AN212:AR212)>S211+AA212,S211+AA212-AJ212,$C212-SUM($AN212:AR212))))","v":0},{"$f":"IF(T211<=0,0,IF($C212<=SUM($AN212:AS212),0,IF(AK212+$C212-SUM($AN212:AS212)>T211+AB212,T211+AB212-AK212,$C212-SUM($AN212:AS212))))","v":0}]
["",{"$error":"#N/A"},"",null,0,0,0,0,0,0,0,null,0,0,0,0,0,0,0,0,null,0,0,0,0,0,0,0,0,null,0,0,0,0,0,0,{"$f":"IF(T212>0,IF((T212+AB213)<#REF!,T212+AB213,#REF!),0)","v":0},0,null,0,{"$f":"IF(O212<=0,0,IF($C213<=SUM($AN213:AN213),0,IF(AF213+$C213-SUM($AN213:AN213)>O212+W213,O212+W213-AF213,$C213-SUM($AN213:AN213))))","v":0},{"$f":"IF(P212<=0,0,IF($C213<=SUM($AN213:AO213),0,IF(AG213+$C213-SUM($AN213:AO213)>P212+X213,P212+X213-AG213,$C213-SUM($AN213:AO213))))","v":0},{"$f":"IF(Q212<=0,0,IF($C213<=SUM($AN213:AP213),0,IF(AH213+$C213-SUM($AN213:AP213)>Q212+Y213,Q212+Y213-AH213,$C213-SUM($AN213:AP213))))","v":0},{"$f":"IF(R212<=0,0,IF($C213<=SUM($AN213:AQ213),0,IF(AI213+$C213-SUM($AN213:AQ213)>R212+Z213,R212+Z213-AI213,$C213-SUM($AN213:AQ213))))","v":0},{"$f":"IF(S212<=0,0,IF($C213<=SUM($AN213:AR213),0,IF(AJ213+$C213-SUM($AN213:AR213)>S212+AA213,S212+AA213-AJ213,$C213-SUM($AN213:AR213))))","v":0},{"$f":"IF(T212<=0,0,IF($C213<=SUM($AN213:AS213),0,IF(AK213+$C213-SUM($AN213:AS213)>T212+AB213,T212+AB213-AK213,$C213-SUM($AN213:AS213))))","v":0}]
["",{"$error":"#N/A"},"",null,0,0,0,0,0,0,0,null,0,0,0,0,0,0,0,0,null,0,0,0,0,0,0,0,0,null,0,0,0,0,0,0,{"$f":"IF(T213>0,IF((T213+AB214)<#REF!,T213+AB214,#REF!),0)","v":0},0,null,0,{"$f":"IF(O213<=0,0,IF($C214<=SUM($AN214:AN214),0,IF(AF214+$C214-SUM($AN214:AN214)>O213+W214,O213+W214-AF214,$C214-SUM($AN214:AN214))))","v":0},{"$f":"IF(P213<=0,0,IF($C214<=SUM($AN214:AO214),0,IF(AG214+$C214-SUM($AN214:AO214)>P213+X214,P213+X214-AG214,$C214-SUM($AN214:AO214))))","v":0},{"$f":"IF(Q213<=0,0,IF($C214<=SUM($AN214:AP214),0,IF(AH214+$C214-SUM($AN214:AP214)>Q213+Y214,Q213+Y214-AH214,$C214-SUM($AN214:AP214))))","v":0},{"$f":"IF(R213<=0,0,IF($C214<=SUM($AN214:AQ214),0,IF(AI214+$C214-SUM($AN214:AQ214)>R213+Z214,R213+Z214-AI214,$C214-SUM($AN214:AQ214))))","v":0},{"$f":"IF(S213<=0,0,IF($C214<=SUM($AN214:AR214),0,IF(AJ214+$C214-SUM($AN214:AR214)>S213+AA214,S213+AA214-AJ214,$C214-SUM($AN214:AR214))))","v":0},{"$f":"IF(T213<=0,0,IF($C214<=SUM($AN214:AS214),0,IF(AK214+$C214-SUM($AN214:AS214)>T213+AB214,T213+AB214-AK214,$C214-SUM($AN214:AS214))))","v":0}]
["",{"$error":"#N/A"},"",null,0,0,0,0,0,0,0,null,0,0,0,0,0,0,0,0,null,0,0,0,0,0,0,0,0,null,0,0,0,0,0,0,{"$f":"IF(T214>0,IF((T214+AB215)<#REF!,T214+AB215,#REF!),0)","v":0},0,null,0,{"$f":"IF(O214<=0,0,IF($C215<=SUM($AN215:AN215),0,IF(AF215+$C215-SUM($AN215:AN215)>O214+W215,O214+W215-AF215,$C215-SUM($AN215:AN215))))","v":0},{"$f":"IF(P214<=0,0,IF($C215<=SUM($AN215:AO215),0,IF(AG215+$C215-SUM($AN215:AO215)>P214+X215,P214+X215-AG215,$C215-SUM($AN215:AO215))))","v":0},{"$f":"IF(Q214<=0,0,IF($C215<=SUM($AN215:AP215),0,IF(AH215+$C215-SUM($AN215:AP215)>Q214+Y215,Q214+Y215-AH215,$C215-SUM($AN215:AP215))))","v":0},{"$f":"IF(R214<=0,0,IF($C215<=SUM($AN215:AQ215),0,IF(AI215+$C215-SUM($AN215:AQ215)>R214+Z215,R214+Z215-AI215,$C215-SUM($AN215:AQ215))))","v":0},{"$f":"IF(S214<=0,0,IF($C215<=SUM($AN215:AR215),0,IF(AJ215+$C215-SUM($AN215:AR215)>S214+AA215,S214+AA215-AJ215,$C215-SUM($AN215:AR215))))","v":0},{"$f":"IF(T214<=0,0,IF($C215<=SUM($AN215:AS215),0,IF(AK215+$C215-SUM($AN215:AS215)>T214+AB215,T214+AB215-AK215,$C215-SUM($AN215:AS215))))","v":0}]
["",{"$error":"#N/A"},"",null,0,0,0,0,0,0,0,null,0,0,0,0,0,0,0,0,null,0,0,0,0,0,0,0,0,null,0,0,0,0,0,0,{"$f":"IF(T215>0,IF((T215+AB216)<#REF!,T215+AB216,#REF!),0)","v":0},0,null,0,{"$f":"IF(O215<=0,0,IF($C216<=SUM($AN216:AN216),0,IF(AF216+$C216-SUM($AN216:AN216)>O215+W216,O215+W216-AF216,$C216-SUM($AN216:AN216))))","v":0},{"$f":"IF(P215<=0,0,IF($C216<=SUM($AN216:AO216),0,IF(AG216+$C216-SUM($AN216:AO216)>P215+X216,P215+X216-AG216,$C216-SUM($AN216:AO216))))","v":0},{"$f":"IF(Q215<=0,0,IF($C216<=SUM($AN216:AP216),0,IF(AH216+$C216-SUM($AN216:AP216)>Q215+Y216,Q215+Y216-AH216,$C216-SUM($AN216:AP216))))","v":0},{"$f":"IF(R215<=0,0,IF($C216<=SUM($AN216:AQ216),0,IF(AI216+$C216-SUM($AN216:AQ216)>R215+Z216,R215+Z216-AI216,$C216-SUM($AN216:AQ216))))","v":0},{"$f":"IF(S215<=0,0,IF($C216<=SUM($AN216:AR216),0,IF(AJ216+$C216-SUM($AN216:AR216)>S215+AA216,S215+AA216-AJ216,$C216-SUM($AN216:AR216))))","v":0},{"$f":"IF(T215<=0,0,IF($C216<=SUM($AN216:AS216),0,IF(AK216+$C216-SUM($AN216:AS216)>T215+AB216,T215+AB216-AK216,$C216-SUM($AN216:AS216))))","v":0}]
["",{"$error":"#N/A"},"",null,0,0,0,0,0,0,0,null,0,0,0,0,0,0,0,0,null,0,0,0,0,0,0,0,0,null,0,0,0,0,0,0,{"$f":"IF(T216>0,IF((T216+AB217)<#REF!,T216+AB217,#REF!),0)","v":0},0,null,0,{"$f":"IF(O216<=0,0,IF($C217<=SUM($AN217:AN217),0,IF(AF217+$C217-SUM($AN217:AN217)>O216+W217,O216+W217-AF217,$C217-SUM($AN217:AN217))))","v":0},{"$f":"IF(P216<=0,0,IF($C217<=SUM($AN217:AO217),0,IF(AG217+$C217-SUM($AN217:AO217)>P216+X217,P216+X217-AG217,$C217-SUM($AN217:AO217))))","v":0},{"$f":"IF(Q216<=0,0,IF($C217<=SUM($AN217:AP217),0,IF(AH217+$C217-SUM($AN217:AP217)>Q216+Y217,Q216+Y217-AH217,$C217-SUM($AN217:AP217))))","v":0},{"$f":"IF(R216<=0,0,IF($C217<=SUM($AN217:AQ217),0,IF(AI217+$C217-SUM($AN217:AQ217)>R216+Z217,R216+Z217-AI217,$C217-SUM($AN217:AQ217))))","v":0},{"$f":"IF(S216<=0,0,IF($C217<=SUM($AN217:AR217),0,IF(AJ217+$C217-SUM($AN217:AR217)>S216+AA217,S216+AA217-AJ217,$C217-SUM($AN217:AR217))))","v":0},{"$f":"IF(T216<=0,0,IF($C217<=SUM($AN217:AS217),0,IF(AK217+$C217-SUM($AN217:AS217)>T216+AB217,T216+AB217-AK217,$C217-SUM($AN217:AS217))))","v":0}]
["",{"$error":"#N/A"},"",null,0,0,0,0,0,0,0,null,0,0,0,0,0,0,0,0,null,0,0,0,0,0,0,0,0,null,0,0,0,0,0,0,{"$f":"IF(T217>0,IF((T217+AB218)<#REF!,T217+AB218,#REF!),0)","v":0},0,null,0,{"$f":"IF(O217<=0,0,IF($C218<=SUM($AN218:AN218),0,IF(AF218+$C218-SUM($AN218:AN218)>O217+W218,O217+W218-AF218,$C218-SUM($AN218:AN218))))","v":0},{"$f":"IF(P217<=0,0,IF($C218<=SUM($AN218:AO218),0,IF(AG218+$C218-SUM($AN218:AO218)>P217+X218,P217+X218-AG218,$C218-SUM($AN218:AO218))))","v":0},{"$f":"IF(Q217<=0,0,IF($C218<=SUM($AN218:AP218),0,IF(AH218+$C218-SUM($AN218:AP218)>Q217+Y218,Q217+Y218-AH218,$C218-SUM($AN218:AP218))))","v":0},{"$f":"IF(R217<=0,0,IF($C218<=SUM($AN218:AQ218),0,IF(AI218+$C218-SUM($AN218:AQ218)>R217+Z218,R217+Z218-AI218,$C218-SUM($AN218:AQ218))))","v":0},{"$f":"IF(S217<=0,0,IF($C218<=SUM($AN218:AR218),0,IF(AJ218+$C218-SUM($AN218:AR218)>S217+AA218,S217+AA218-AJ218,$C218-SUM($AN218:AR218))))","v":0},{"$f":"IF(T217<=0,0,IF($C218<=SUM($AN218:AS218),0,IF(AK218+$C218-SUM($AN218:AS218)>T217+AB218,T217+AB218-AK218,$C218-SUM($AN218:AS218))))","v":0}]
["",{"$error":"#N/A"},"",null,0,0,0,0,0,0,0,null,0,0,0,0,0,0,0,0,null,0,0,0,0,0,0,0,0,null,0,0,0,0,0,0,{"$f":"IF(T218>0,IF((T218+AB219)<#REF!,T218+AB219,#REF!),0)","v":0},0,null,0,{"$f":"IF(O218<=0,0,IF($C219<=SUM($AN219:AN219),0,IF(AF219+$C219-SUM($AN219:AN219)>O218+W219,O218+W219-AF219,$C219-SUM($AN219:AN219))))","v":0},{"$f":"IF(P218<=0,0,IF($C219<=SUM($AN219:AO219),0,IF(AG219+$C219-SUM($AN219:AO219)>P218+X219,P218+X219-AG219,$C219-SUM($AN219:AO219))))","v":0},{"$f":"IF(Q218<=0,0,IF($C219<=SUM($AN219:AP219),0,IF(AH219+$C219-SUM($AN219:AP219)>Q218+Y219,Q218+Y219-AH219,$C219-SUM($AN219:AP219))))","v":0},{"$f":"IF(R218<=0,0,IF($C219<=SUM($AN219:AQ219),0,IF(AI219+$C219-SUM($AN219:AQ219)>R218+Z219,R218+Z219-AI219,$C219-SUM($AN219:AQ219))))","v":0},{"$f":"IF(S218<=0,0,IF($C219<=SUM($AN219:AR219),0,IF(AJ219+$C219-SUM($AN219:AR219)>S218+AA219,S218+AA219-AJ219,$C219-SUM($AN219:AR219))))","v":0},{"$f":"IF(T218<=0,0,IF($C219<=SUM($AN219:AS219),0,IF(AK219+$C219-SUM($AN219:AS219)>T218+AB219,T218+AB219-AK219,$C219-SUM($AN219:AS219))))","v":0}]
["",{"$error":"#N/A"},"",null,0,0,0,0,0,0,0,null,0,0,0,0,0,0,0,0,null,0,0,0,0,0,0,0,0,null,0,0,0,0,0,0,{"$f":"IF(T219>0,IF((T219+AB220)<#REF!,T219+AB220,#REF!),0)","v":0},0,null,0,{"$f":"IF(O219<=0,0,IF($C220<=SUM($AN220:AN220),0,IF(AF220+$C220-SUM($AN220:AN220)>O219+W220,O219+W220-AF220,$C220-SUM($AN220:AN220))))","v":0},{"$f":"IF(P219<=0,0,IF($C220<=SUM($AN220:AO220),0,IF(AG220+$C220-SUM($AN220:AO220)>P219+X220,P219+X220-AG220,$C220-SUM($AN220:AO220))))","v":0},{"$f":"IF(Q219<=0,0,IF($C220<=SUM($AN220:AP220),0,IF(AH220+$C220-SUM($AN220:AP220)>Q219+Y220,Q219+Y220-AH220,$C220-SUM($AN220:AP220))))","v":0},{"$f":"IF(R219<=0,0,IF($C220<=SUM($AN220:AQ220),0,IF(AI220+$C220-SUM($AN220:AQ220)>R219+Z220,R219+Z220-AI220,$C220-SUM($AN220:AQ220))))","v":0},{"$f":"IF(S219<=0,0,IF($C220<=SUM($AN220:AR220),0,IF(AJ220+$C220-SUM($AN220:AR220)>S219+AA220,S219+AA220-AJ220,$C220-SUM($AN220:AR220))))","v":0},{"$f":"IF(T219<=0,0,IF($C220<=SUM($AN220:AS220),0,IF(AK220+$C220-SUM($AN220:AS220)>T219+AB220,T219+AB220-AK220,$C220-SUM($AN220:AS220))))","v":0}]
["",{"$error":"#N/A"},"",null,0,0,0,0,0,0,0,null,0,0,0,0,0,0,0,0,null,0,0,0,0,0,0,0,0,null,0,0,0,0,0,0,{"$f":"IF(T220>0,IF((T220+AB221)<#REF!,T220+AB221,#REF!),0)","v":0},0,null,0,{"$f":"IF(O220<=0,0,IF($C221<=SUM($AN221:AN221),0,IF(AF221+$C221-SUM($AN221:AN221)>O220+W221,O220+W221-AF221,$C221-SUM($AN221:AN221))))","v":0},{"$f":"IF(P220<=0,0,IF($C221<=SUM($AN221:AO221),0,IF(AG221+$C221-SUM($AN221:AO221)>P220+X221,P220+X221-AG221,$C221-SUM($AN221:AO221))))","v":0},{"$f":"IF(Q220<=0,0,IF($C221<=SUM($AN221:AP221),0,IF(AH221+$C221-SUM($AN221:AP221)>Q220+Y221,Q220+Y221-AH221,$C221-SUM($AN221:AP221))))","v":0},{"$f":"IF(R220<=0,0,IF($C221<=SUM($AN221:AQ221),0,IF(AI221+$C221-SUM($AN221:AQ221)>R220+Z221,R220+Z221-AI221,$C221-SUM($AN221:AQ221))))","v":0},{"$f":"IF(S220<=0,0,IF($C221<=SUM($AN221:AR221),0,IF(AJ221+$C221-SUM($AN221:AR221)>S220+AA221,S220+AA221-AJ221,$C221-SUM($AN221:AR221))))","v":0},{"$f":"IF(T220<=0,0,IF($C221<=SUM($AN221:AS221),0,IF(AK221+$C221-SUM($AN221:AS221)>T220+AB221,T220+AB221-AK221,$C221-SUM($AN221:AS221))))","v":0}]
["",{"$error":"#N/A"},"",null,0,0,0,0,0,0,0,null,0,0,0,0,0,0,0,0,null,0,0,0,0,0,0,0,0,null,0,0,0,0,0,0,{"$f":"IF(T221>0,IF((T221+AB222)<#REF!,T221+AB222,#REF!),0)","v":0},0,null,0,{"$f":"IF(O221<=0,0,IF($C222<=SUM($AN222:AN222),0,IF(AF222+$C222-SUM($AN222:AN222)>O221+W222,O221+W222-AF222,$C222-SUM($AN222:AN222))))","v":0},{"$f":"IF(P221<=0,0,IF($C222<=SUM($AN222:AO222),0,IF(AG222+$C222-SUM($AN222:AO222)>P221+X222,P221+X222-AG222,$C222-SUM($AN222:AO222))))","v":0},{"$f":"IF(Q221<=0,0,IF($C222<=SUM($AN222:AP222),0,IF(AH222+$C222-SUM($AN222:AP222)>Q221+Y222,Q221+Y222-AH222,$C222-SUM($AN222:AP222))))","v":0},{"$f":"IF(R221<=0,0,IF($C222<=SUM($AN222:AQ222),0,IF(AI222+$C222-SUM($AN222:AQ222)>R221+Z222,R221+Z222-AI222,$C222-SUM($AN222:AQ222))))","v":0},{"$f":"IF(S221<=0,0,IF($C222<=SUM($AN222:AR222),0,IF(AJ222+$C222-SUM($AN222:AR222)>S221+AA222,S221+AA222-AJ222,$C222-SUM($AN222:AR222))))","v":0},{"$f":"IF(T221<=0,0,IF($C222<=SUM($AN222:AS222),0,IF(AK222+$C222-SUM($AN222:AS222)>T221+AB222,T221+AB222-AK222,$C222-SUM($AN222:AS222))))","v":0}]
["",{"$error":"#N/A"},"",null,0,0,0,0,0,0,0,null,0,0,0,0,0,0,0,0,null,0,0,0,0,0,0,0,0,null,0,0,0,0,0,0,{"$f":"IF(T222>0,IF((T222+AB223)<#REF!,T222+AB223,#REF!),0)","v":0},0,null,0,{"$f":"IF(O222<=0,0,IF($C223<=SUM($AN223:AN223),0,IF(AF223+$C223-SUM($AN223:AN223)>O222+W223,O222+W223-AF223,$C223-SUM($AN223:AN223))))","v":0},{"$f":"IF(P222<=0,0,IF($C223<=SUM($AN223:AO223),0,IF(AG223+$C223-SUM($AN223:AO223)>P222+X223,P222+X223-AG223,$C223-SUM($AN223:AO223))))","v":0},{"$f":"IF(Q222<=0,0,IF($C223<=SUM($AN223:AP223),0,IF(AH223+$C223-SUM($AN223:AP223)>Q222+Y223,Q222+Y223-AH223,$C223-SUM($AN223:AP223))))","v":0},{"$f":"IF(R222<=0,0,IF($C223<=SUM($AN223:AQ223),0,IF(AI223+$C223-SUM($AN223:AQ223)>R222+Z223,R222+Z223-AI223,$C223-SUM($AN223:AQ223))))","v":0},{"$f":"IF(S222<=0,0,IF($C223<=SUM($AN223:AR223),0,IF(AJ223+$C223-SUM($AN223:AR223)>S222+AA223,S222+AA223-AJ223,$C223-SUM($AN223:AR223))))","v":0},{"$f":"IF(T222<=0,0,IF($C223<=SUM($AN223:AS223),0,IF(AK223+$C223-SUM($AN223:AS223)>T222+AB223,T222+AB223-AK223,$C223-SUM($AN223:AS223))))","v":0}]
["",{"$error":"#N/A"},"",null,0,0,0,0,0,0,0,null,0,0,0,0,0,0,0,0,null,0,0,0,0,0,0,0,0,null,0,0,0,0,0,0,{"$f":"IF(T223>0,IF((T223+AB224)<#REF!,T223+AB224,#REF!),0)","v":0},0,null,0,{"$f":"IF(O223<=0,0,IF($C224<=SUM($AN224:AN224),0,IF(AF224+$C224-SUM($AN224:AN224)>O223+W224,O223+W224-AF224,$C224-SUM($AN224:AN224))))","v":0},{"$f":"IF(P223<=0,0,IF($C224<=SUM($AN224:AO224),0,IF(AG224+$C224-SUM($AN224:AO224)>P223+X224,P223+X224-AG224,$C224-SUM($AN224:AO224))))","v":0},{"$f":"IF(Q223<=0,0,IF($C224<=SUM($AN224:AP224),0,IF(AH224+$C224-SUM($AN224:AP224)>Q223+Y224,Q223+Y224-AH224,$C224-SUM($AN224:AP224))))","v":0},{"$f":"IF(R223<=0,0,IF($C224<=SUM($AN224:AQ224),0,IF(AI224+$C224-SUM($AN224:AQ224)>R223+Z224,R223+Z224-AI224,$C224-SUM($AN224:AQ224))))","v":0},{"$f":"IF(S223<=0,0,IF($C224<=SUM($AN224:AR224),0,IF(AJ224+$C224-SUM($AN224:AR224)>S223+AA224,S223+AA224-AJ224,$C224-SUM($AN224:AR224))))","v":0},{"$f":"IF(T223<=0,0,IF($C224<=SUM($AN224:AS224),0,IF(AK224+$C224-SUM($AN224:AS224)>T223+AB224,T223+AB224-AK224,$C224-SUM($AN224:AS224))))","v":0}]
["",{"$error":"#N/A"},"",null,0,0,0,0,0,0,0,null,0,0,0,0,0,0,0,0,null,0,0,0,0,0,0,0,0,null,0,0,0,0,0,0,{"$f":"IF(T224>0,IF((T224+AB225)<#REF!,T224+AB225,#REF!),0)","v":0},0,null,0,{"$f":"IF(O224<=0,0,IF($C225<=SUM($AN225:AN225),0,IF(AF225+$C225-SUM($AN225:AN225)>O224+W225,O224+W225-AF225,$C225-SUM($AN225:AN225))))","v":0},{"$f":"IF(P224<=0,0,IF($C225<=SUM($AN225:AO225),0,IF(AG225+$C225-SUM($AN225:AO225)>P224+X225,P224+X225-AG225,$C225-SUM($AN225:AO225))))","v":0},{"$f":"IF(Q224<=0,0,IF($C225<=SUM($AN225:AP225),0,IF(AH225+$C225-SUM($AN225:AP225)>Q224+Y225,Q224+Y225-AH225,$C225-SUM($AN225:AP225))))","v":0},{"$f":"IF(R224<=0,0,IF($C225<=SUM($AN225:AQ225),0,IF(AI225+$C225-SUM($AN225:AQ225)>R224+Z225,R224+Z225-AI225,$C225-SUM($AN225:AQ225))))","v":0},{"$f":"IF(S224<=0,0,IF($C225<=SUM($AN225:AR225),0,IF(AJ225+$C225-SUM($AN225:AR225)>S224+AA225,S224+AA225-AJ225,$C225-SUM($AN225:AR225))))","v":0},{"$f":"IF(T224<=0,0,IF($C225<=SUM($AN225:AS225),0,IF(AK225+$C225-SUM($AN225:AS225)>T224+AB225,T224+AB225-AK225,$C225-SUM($AN225:AS225))))","v":0}]
["",{"$error":"#N/A"},"",null,0,0,0,0,0,0,0,null,0,0,0,0,0,0,0,0,null,0,0,0,0,0,0,0,0,null,0,0,0,0,0,0,{"$f":"IF(T225>0,IF((T225+AB226)<#REF!,T225+AB226,#REF!),0)","v":0},0,null,0,{"$f":"IF(O225<=0,0,IF($C226<=SUM($AN226:AN226),0,IF(AF226+$C226-SUM($AN226:AN226)>O225+W226,O225+W226-AF226,$C226-SUM($AN226:AN226))))","v":0},{"$f":"IF(P225<=0,0,IF($C226<=SUM($AN226:AO226),0,IF(AG226+$C226-SUM($AN226:AO226)>P225+X226,P225+X226-AG226,$C226-SUM($AN226:AO226))))","v":0},{"$f":"IF(Q225<=0,0,IF($C226<=SUM($AN226:AP226),0,IF(AH226+$C226-SUM($AN226:AP226)>Q225+Y226,Q225+Y226-AH226,$C226-SUM($AN226:AP226))))","v":0},{"$f":"IF(R225<=0,0,IF($C226<=SUM($AN226:AQ226),0,IF(AI226+$C226-SUM($AN226:AQ226)>R225+Z226,R225+Z226-AI226,$C226-SUM($AN226:AQ226))))","v":0},{"$f":"IF(S225<=0,0,IF($C226<=SUM($AN226:AR226),0,IF(AJ226+$C226-SUM($AN226:AR226)>S225+AA226,S225+AA226-AJ226,$C226-SUM($AN226:AR226))))","v":0},{"$f":"IF(T225<=0,0,IF($C226<=SUM($AN226:AS226),0,IF(AK226+$C226-SUM($AN226:AS226)>T225+AB226,T225+AB226-AK226,$C226-SUM($AN226:AS226))))","v":0}]
["",{"$error":"#N/A"},"",null,0,0,0,0,0,0,0,null,0,0,0,0,0,0,0,0,null,0,0,0,0,0,0,0,0,null,0,0,0,0,0,0,{"$f":"IF(T226>0,IF((T226+AB227)<#REF!,T226+AB227,#REF!),0)","v":0},0,null,0,{"$f":"IF(O226<=0,0,IF($C227<=SUM($AN227:AN227),0,IF(AF227+$C227-SUM($AN227:AN227)>O226+W227,O226+W227-AF227,$C227-SUM($AN227:AN227))))","v":0},{"$f":"IF(P226<=0,0,IF($C227<=SUM($AN227:AO227),0,IF(AG227+$C227-SUM($AN227:AO227)>P226+X227,P226+X227-AG227,$C227-SUM($AN227:AO227))))","v":0},{"$f":"IF(Q226<=0,0,IF($C227<=SUM($AN227:AP227),0,IF(AH227+$C227-SUM($AN227:AP227)>Q226+Y227,Q226+Y227-AH227,$C227-SUM($AN227:AP227))))","v":0},{"$f":"IF(R226<=0,0,IF($C227<=SUM($AN227:AQ227),0,IF(AI227+$C227-SUM($AN227:AQ227)>R226+Z227,R226+Z227-AI227,$C227-SUM($AN227:AQ227))))","v":0},{"$f":"IF(S226<=0,0,IF($C227<=SUM($AN227:AR227),0,IF(AJ227+$C227-SUM($AN227:AR227)>S226+AA227,S226+AA227-AJ227,$C227-SUM($AN227:AR227))))","v":0},{"$f":"IF(T226<=0,0,IF($C227<=SUM($AN227:AS227),0,IF(AK227+$C227-SUM($AN227:AS227)>T226+AB227,T226+AB227-AK227,$C227-SUM($AN227:AS227))))","v":0}]
["",{"$error":"#N/A"},"",null,0,0,0,0,0,0,0,null,0,0,0,0,0,0,0,0,null,0,0,0,0,0,0,0,0,null,0,0,0,0,0,0,{"$f":"IF(T227>0,IF((T227+AB228)<#REF!,T227+AB228,#REF!),0)","v":0},0,null,0,{"$f":"IF(O227<=0,0,IF($C228<=SUM($AN228:AN228),0,IF(AF228+$C228-SUM($AN228:AN228)>O227+W228,O227+W228-AF228,$C228-SUM($AN228:AN228))))","v":0},{"$f":"IF(P227<=0,0,IF($C228<=SUM($AN228:AO228),0,IF(AG228+$C228-SUM($AN228:AO228)>P227+X228,P227+X228-AG228,$C228-SUM($AN228:AO228))))","v":0},{"$f":"IF(Q227<=0,0,IF($C228<=SUM($AN228:AP228),0,IF(AH228+$C228-SUM($AN228:AP228)>Q227+Y228,Q227+Y228-AH228,$C228-SUM($AN228:AP228))))","v":0},{"$f":"IF(R227<=0,0,IF($C228<=SUM($AN228:AQ228),0,IF(AI228+$C228-SUM($AN228:AQ228)>R227+Z228,R227+Z228-AI228,$C228-SUM($AN228:AQ228))))","v":0},{"$f":"IF(S227<=0,0,IF($C228<=SUM($AN228:AR228),0,IF(AJ228+$C228-SUM($AN228:AR228)>S227+AA228,S227+AA228-AJ228,$C228-SUM($AN228:AR228))))","v":0},{"$f":"IF(T227<=0,0,IF($C228<=SUM($AN228:AS228),0,IF(AK228+$C228-SUM($AN228:AS228)>T227+AB228,T227+AB228-AK228,$C228-SUM($AN228:AS228))))","v":0}]
["",{"$error":"#N/A"},"",null,0,0,0,0,0,0,0,null,0,0,0,0,0,0,0,0,null,0,0,0,0,0,0,0,0,null,0,0,0,0,0,0,{"$f":"IF(T228>0,IF((T228+AB229)<#REF!,T228+AB229,#REF!),0)","v":0},0,null,0,{"$f":"IF(O228<=0,0,IF($C229<=SUM($AN229:AN229),0,IF(AF229+$C229-SUM($AN229:AN229)>O228+W229,O228+W229-AF229,$C229-SUM($AN229:AN229))))","v":0},{"$f":"IF(P228<=0,0,IF($C229<=SUM($AN229:AO229),0,IF(AG229+$C229-SUM($AN229:AO229)>P228+X229,P228+X229-AG229,$C229-SUM($AN229:AO229))))","v":0},{"$f":"IF(Q228<=0,0,IF($C229<=SUM($AN229:AP229),0,IF(AH229+$C229-SUM($AN229:AP229)>Q228+Y229,Q228+Y229-AH229,$C229-SUM($AN229:AP229))))","v":0},{"$f":"IF(R228<=0,0,IF($C229<=SUM($AN229:AQ229),0,IF(AI229+$C229-SUM($AN229:AQ229)>R228+Z229,R228+Z229-AI229,$C229-SUM($AN229:AQ229))))","v":0},{"$f":"IF(S228<=0,0,IF($C229<=SUM($AN229:AR229),0,IF(AJ229+$C229-SUM($AN229:AR229)>S228+AA229,S228+AA229-AJ229,$C229-SUM($AN229:AR229))))","v":0},{"$f":"IF(T228<=0,0,IF($C229<=SUM($AN229:AS229),0,IF(AK229+$C229-SUM($AN229:AS229)>T228+AB229,T228+AB229-AK229,$C229-SUM($AN229:AS229))))","v":0}]
["",{"$error":"#N/A"},"",null,0,0,0,0,0,0,0,null,0,0,0,0,0,0,0,0,null,0,0,0,0,0,0,0,0,null,0,0,0,0,0,0,{"$f":"IF(T229>0,IF((T229+AB230)<#REF!,T229+AB230,#REF!),0)","v":0},0,null,0,{"$f":"IF(O229<=0,0,IF($C230<=SUM($AN230:AN230),0,IF(AF230+$C230-SUM($AN230:AN230)>O229+W230,O229+W230-AF230,$C230-SUM($AN230:AN230))))","v":0},{"$f":"IF(P229<=0,0,IF($C230<=SUM($AN230:AO230),0,IF(AG230+$C230-SUM($AN230:AO230)>P229+X230,P229+X230-AG230,$C230-SUM($AN230:AO230))))","v":0},{"$f":"IF(Q229<=0,0,IF($C230<=SUM($AN230:AP230),0,IF(AH230+$C230-SUM($AN230:AP230)>Q229+Y230,Q229+Y230-AH230,$C230-SUM($AN230:AP230))))","v":0},{"$f":"IF(R229<=0,0,IF($C230<=SUM($AN230:AQ230),0,IF(AI230+$C230-SUM($AN230:AQ230)>R229+Z230,R229+Z230-AI230,$C230-SUM($AN230:AQ230))))","v":0},{"$f":"IF(S229<=0,0,IF($C230<=SUM($AN230:AR230),0,IF(AJ230+$C230-SUM($AN230:AR230)>S229+AA230,S229+AA230-AJ230,$C230-SUM($AN230:AR230))))","v":0},{"$f":"IF(T229<=0,0,IF($C230<=SUM($AN230:AS230),0,IF(AK230+$C230-SUM($AN230:AS230)>T229+AB230,T229+AB230-AK230,$C230-SUM($AN230:AS230))))","v":0}]
["",{"$error":"#N/A"},"",null,0,0,0,0,0,0,0,null,0,0,0,0,0,0,0,0,null,0,0,0,0,0,0,0,0,null,0,0,0,0,0,0,{"$f":"IF(T230>0,IF((T230+AB231)<#REF!,T230+AB231,#REF!),0)","v":0},0,null,0,{"$f":"IF(O230<=0,0,IF($C231<=SUM($AN231:AN231),0,IF(AF231+$C231-SUM($AN231:AN231)>O230+W231,O230+W231-AF231,$C231-SUM($AN231:AN231))))","v":0},{"$f":"IF(P230<=0,0,IF($C231<=SUM($AN231:AO231),0,IF(AG231+$C231-SUM($AN231:AO231)>P230+X231,P230+X231-AG231,$C231-SUM($AN231:AO231))))","v":0},{"$f":"IF(Q230<=0,0,IF($C231<=SUM($AN231:AP231),0,IF(AH231+$C231-SUM($AN231:AP231)>Q230+Y231,Q230+Y231-AH231,$C231-SUM($AN231:AP231))))","v":0},{"$f":"IF(R230<=0,0,IF($C231<=SUM($AN231:AQ231),0,IF(AI231+$C231-SUM($AN231:AQ231)>R230+Z231,R230+Z231-AI231,$C231-SUM($AN231:AQ231))))","v":0},{"$f":"IF(S230<=0,0,IF($C231<=SUM($AN231:AR231),0,IF(AJ231+$C231-SUM($AN231:AR231)>S230+AA231,S230+AA231-AJ231,$C231-SUM($AN231:AR231))))","v":0},{"$f":"IF(T230<=0,0,IF($C231<=SUM($AN231:AS231),0,IF(AK231+$C231-SUM($AN231:AS231)>T230+AB231,T230+AB231-AK231,$C231-SUM($AN231:AS231))))","v":0}]
["",{"$error":"#N/A"},"",null,0,0,0,0,0,0,0,null,0,0,0,0,0,0,0,0,null,0,0,0,0,0,0,0,0,null,0,0,0,0,0,0,{"$f":"IF(T231>0,IF((T231+AB232)<#REF!,T231+AB232,#REF!),0)","v":0},0,null,0,{"$f":"IF(O231<=0,0,IF($C232<=SUM($AN232:AN232),0,IF(AF232+$C232-SUM($AN232:AN232)>O231+W232,O231+W232-AF232,$C232-SUM($AN232:AN232))))","v":0},{"$f":"IF(P231<=0,0,IF($C232<=SUM($AN232:AO232),0,IF(AG232+$C232-SUM($AN232:AO232)>P231+X232,P231+X232-AG232,$C232-SUM($AN232:AO232))))","v":0},{"$f":"IF(Q231<=0,0,IF($C232<=SUM($AN232:AP232),0,IF(AH232+$C232-SUM($AN232:AP232)>Q231+Y232,Q231+Y232-AH232,$C232-SUM($AN232:AP232))))","v":0},{"$f":"IF(R231<=0,0,IF($C232<=SUM($AN232:AQ232),0,IF(AI232+$C232-SUM($AN232:AQ232)>R231+Z232,R231+Z232-AI232,$C232-SUM($AN232:AQ232))))","v":0},{"$f":"IF(S231<=0,0,IF($C232<=SUM($AN232:AR232),0,IF(AJ232+$C232-SUM($AN232:AR232)>S231+AA232,S231+AA232-AJ232,$C232-SUM($AN232:AR232))))","v":0},{"$f":"IF(T231<=0,0,IF($C232<=SUM($AN232:AS232),0,IF(AK232+$C232-SUM($AN232:AS232)>T231+AB232,T231+AB232-AK232,$C232-SUM($AN232:AS232))))","v":0}]
["",{"$error":"#N/A"},"",null,0,0,0,0,0,0,0,null,0,0,0,0,0,0,0,0,null,0,0,0,0,0,0,0,0,null,0,0,0,0,0,0,{"$f":"IF(T232>0,IF((T232+AB233)<#REF!,T232+AB233,#REF!),0)","v":0},0,null,0,{"$f":"IF(O232<=0,0,IF($C233<=SUM($AN233:AN233),0,IF(AF233+$C233-SUM($AN233:AN233)>O232+W233,O232+W233-AF233,$C233-SUM($AN233:AN233))))","v":0},{"$f":"IF(P232<=0,0,IF($C233<=SUM($AN233:AO233),0,IF(AG233+$C233-SUM($AN233:AO233)>P232+X233,P232+X233-AG233,$C233-SUM($AN233:AO233))))","v":0},{"$f":"IF(Q232<=0,0,IF($C233<=SUM($AN233:AP233),0,IF(AH233+$C233-SUM($AN233:AP233)>Q232+Y233,Q232+Y233-AH233,$C233-SUM($AN233:AP233))))","v":0},{"$f":"IF(R232<=0,0,IF($C233<=SUM($AN233:AQ233),0,IF(AI233+$C233-SUM($AN233:AQ233)>R232+Z233,R232+Z233-AI233,$C233-SUM($AN233:AQ233))))","v":0},{"$f":"IF(S232<=0,0,IF($C233<=SUM($AN233:AR233),0,IF(AJ233+$C233-SUM($AN233:AR233)>S232+AA233,S232+AA233-AJ233,$C233-SUM($AN233:AR233))))","v":0},{"$f":"IF(T232<=0,0,IF($C233<=SUM($AN233:AS233),0,IF(AK233+$C233-SUM($AN233:AS233)>T232+AB233,T232+AB233-AK233,$C233-SUM($AN233:AS233))))","v":0}]
["",{"$error":"#N/A"},"",null,0,0,0,0,0,0,0,null,0,0,0,0,0,0,0,0,null,0,0,0,0,0,0,0,0,null,0,0,0,0,0,0,{"$f":"IF(T233>0,IF((T233+AB234)<#REF!,T233+AB234,#REF!),0)","v":0},0,null,0,{"$f":"IF(O233<=0,0,IF($C234<=SUM($AN234:AN234),0,IF(AF234+$C234-SUM($AN234:AN234)>O233+W234,O233+W234-AF234,$C234-SUM($AN234:AN234))))","v":0},{"$f":"IF(P233<=0,0,IF($C234<=SUM($AN234:AO234),0,IF(AG234+$C234-SUM($AN234:AO234)>P233+X234,P233+X234-AG234,$C234-SUM($AN234:AO234))))","v":0},{"$f":"IF(Q233<=0,0,IF($C234<=SUM($AN234:AP234),0,IF(AH234+$C234-SUM($AN234:AP234)>Q233+Y234,Q233+Y234-AH234,$C234-SUM($AN234:AP234))))","v":0},{"$f":"IF(R233<=0,0,IF($C234<=SUM($AN234:AQ234),0,IF(AI234+$C234-SUM($AN234:AQ234)>R233+Z234,R233+Z234-AI234,$C234-SUM($AN234:AQ234))))","v":0},{"$f":"IF(S233<=0,0,IF($C234<=SUM($AN234:AR234),0,IF(AJ234+$C234-SUM($AN234:AR234)>S233+AA234,S233+AA234-AJ234,$C234-SUM($AN234:AR234))))","v":0},{"$f":"IF(T233<=0,0,IF($C234<=SUM($AN234:AS234),0,IF(AK234+$C234-SUM($AN234:AS234)>T233+AB234,T233+AB234-AK234,$C234-SUM($AN234:AS234))))","v":0}]
["",{"$error":"#N/A"},"",null,0,0,0,0,0,0,0,null,0,0,0,0,0,0,0,0,null,0,0,0,0,0,0,0,0,null,0,0,0,0,0,0,{"$f":"IF(T234>0,IF((T234+AB235)<#REF!,T234+AB235,#REF!),0)","v":0},0,null,0,{"$f":"IF(O234<=0,0,IF($C235<=SUM($AN235:AN235),0,IF(AF235+$C235-SUM($AN235:AN235)>O234+W235,O234+W235-AF235,$C235-SUM($AN235:AN235))))","v":0},{"$f":"IF(P234<=0,0,IF($C235<=SUM($AN235:AO235),0,IF(AG235+$C235-SUM($AN235:AO235)>P234+X235,P234+X235-AG235,$C235-SUM($AN235:AO235))))","v":0},{"$f":"IF(Q234<=0,0,IF($C235<=SUM($AN235:AP235),0,IF(AH235+$C235-SUM($AN235:AP235)>Q234+Y235,Q234+Y235-AH235,$C235-SUM($AN235:AP235))))","v":0},{"$f":"IF(R234<=0,0,IF($C235<=SUM($AN235:AQ235),0,IF(AI235+$C235-SUM($AN235:AQ235)>R234+Z235,R234+Z235-AI235,$C235-SUM($AN235:AQ235))))","v":0},{"$f":"IF(S234<=0,0,IF($C235<=SUM($AN235:AR235),0,IF(AJ235+$C235-SUM($AN235:AR235)>S234+AA235,S234+AA235-AJ235,$C235-SUM($AN235:AR235))))","v":0},{"$f":"IF(T234<=0,0,IF($C235<=SUM($AN235:AS235),0,IF(AK235+$C235-SUM($AN235:AS235)>T234+AB235,T234+AB235-AK235,$C235-SUM($AN235:AS235))))","v":0}]
["",{"$error":"#N/A"},"",null,0,0,0,0,0,0,0,null,0,0,0,0,0,0,0,0,null,0,0,0,0,0,0,0,0,null,0,0,0,0,0,0,{"$f":"IF(T235>0,IF((T235+AB236)<#REF!,T235+AB236,#REF!),0)","v":0},0,null,0,{"$f":"IF(O235<=0,0,IF($C236<=SUM($AN236:AN236),0,IF(AF236+$C236-SUM($AN236:AN236)>O235+W236,O235+W236-AF236,$C236-SUM($AN236:AN236))))","v":0},{"$f":"IF(P235<=0,0,IF($C236<=SUM($AN236:AO236),0,IF(AG236+$C236-SUM($AN236:AO236)>P235+X236,P235+X236-AG236,$C236-SUM($AN236:AO236))))","v":0},{"$f":"IF(Q235<=0,0,IF($C236<=SUM($AN236:AP236),0,IF(AH236+$C236-SUM($AN236:AP236)>Q235+Y236,Q235+Y236-AH236,$C236-SUM($AN236:AP236))))","v":0},{"$f":"IF(R235<=0,0,IF($C236<=SUM($AN236:AQ236),0,IF(AI236+$C236-SUM($AN236:AQ236)>R235+Z236,R235+Z236-AI236,$C236-SUM($AN236:AQ236))))","v":0},{"$f":"IF(S235<=0,0,IF($C236<=SUM($AN236:AR236),0,IF(AJ236+$C236-SUM($AN236:AR236)>S235+AA236,S235+AA236-AJ236,$C236-SUM($AN236:AR236))))","v":0},{"$f":"IF(T235<=0,0,IF($C236<=SUM($AN236:AS236),0,IF(AK236+$C236-SUM($AN236:AS236)>T235+AB236,T235+AB236-AK236,$C236-SUM($AN236:AS236))))","v":0}]
["",{"$error":"#N/A"},"",null,0,0,0,0,0,0,0,null,0,0,0,0,0,0,0,0,null,0,0,0,0,0,0,0,0,null,0,0,0,0,0,0,{"$f":"IF(T236>0,IF((T236+AB237)<#REF!,T236+AB237,#REF!),0)","v":0},0,null,0,{"$f":"IF(O236<=0,0,IF($C237<=SUM($AN237:AN237),0,IF(AF237+$C237-SUM($AN237:AN237)>O236+W237,O236+W237-AF237,$C237-SUM($AN237:AN237))))","v":0},{"$f":"IF(P236<=0,0,IF($C237<=SUM($AN237:AO237),0,IF(AG237+$C237-SUM($AN237:AO237)>P236+X237,P236+X237-AG237,$C237-SUM($AN237:AO237))))","v":0},{"$f":"IF(Q236<=0,0,IF($C237<=SUM($AN237:AP237),0,IF(AH237+$C237-SUM($AN237:AP237)>Q236+Y237,Q236+Y237-AH237,$C237-SUM($AN237:AP237))))","v":0},{"$f":"IF(R236<=0,0,IF($C237<=SUM($AN237:AQ237),0,IF(AI237+$C237-SUM($AN237:AQ237)>R236+Z237,R236+Z237-AI237,$C237-SUM($AN237:AQ237))))","v":0},{"$f":"IF(S236<=0,0,IF($C237<=SUM($AN237:AR237),0,IF(AJ237+$C237-SUM($AN237:AR237)>S236+AA237,S236+AA237-AJ237,$C237-SUM($AN237:AR237))))","v":0},{"$f":"IF(T236<=0,0,IF($C237<=SUM($AN237:AS237),0,IF(AK237+$C237-SUM($AN237:AS237)>T236+AB237,T236+AB237-AK237,$C237-SUM($AN237:AS237))))","v":0}]
["",{"$error":"#N/A"},"",null,0,0,0,0,0,0,0,null,0,0,0,0,0,0,0,0,null,0,0,0,0,0,0,0,0,null,0,0,0,0,0,0,{"$f":"IF(T237>0,IF((T237+AB238)<#REF!,T237+AB238,#REF!),0)","v":0},0,null,0,{"$f":"IF(O237<=0,0,IF($C238<=SUM($AN238:AN238),0,IF(AF238+$C238-SUM($AN238:AN238)>O237+W238,O237+W238-AF238,$C238-SUM($AN238:AN238))))","v":0},{"$f":"IF(P237<=0,0,IF($C238<=SUM($AN238:AO238),0,IF(AG238+$C238-SUM($AN238:AO238)>P237+X238,P237+X238-AG238,$C238-SUM($AN238:AO238))))","v":0},{"$f":"IF(Q237<=0,0,IF($C238<=SUM($AN238:AP238),0,IF(AH238+$C238-SUM($AN238:AP238)>Q237+Y238,Q237+Y238-AH238,$C238-SUM($AN238:AP238))))","v":0},{"$f":"IF(R237<=0,0,IF($C238<=SUM($AN238:AQ238),0,IF(AI238+$C238-SUM($AN238:AQ238)>R237+Z238,R237+Z238-AI238,$C238-SUM($AN238:AQ238))))","v":0},{"$f":"IF(S237<=0,0,IF($C238<=SUM($AN238:AR238),0,IF(AJ238+$C238-SUM($AN238:AR238)>S237+AA238,S237+AA238-AJ238,$C238-SUM($AN238:AR238))))","v":0},{"$f":"IF(T237<=0,0,IF($C238<=SUM($AN238:AS238),0,IF(AK238+$C238-SUM($AN238:AS238)>T237+AB238,T237+AB238-AK238,$C238-SUM($AN238:AS238))))","v":0}]
["",{"$error":"#N/A"},"",null,0,0,0,0,0,0,0,null,0,0,0,0,0,0,0,0,null,0,0,0,0,0,0,0,0,null,0,0,0,0,0,0,{"$f":"IF(T238>0,IF((T238+AB239)<#REF!,T238+AB239,#REF!),0)","v":0},0,null,0,{"$f":"IF(O238<=0,0,IF($C239<=SUM($AN239:AN239),0,IF(AF239+$C239-SUM($AN239:AN239)>O238+W239,O238+W239-AF239,$C239-SUM($AN239:AN239))))","v":0},{"$f":"IF(P238<=0,0,IF($C239<=SUM($AN239:AO239),0,IF(AG239+$C239-SUM($AN239:AO239)>P238+X239,P238+X239-AG239,$C239-SUM($AN239:AO239))))","v":0},{"$f":"IF(Q238<=0,0,IF($C239<=SUM($AN239:AP239),0,IF(AH239+$C239-SUM($AN239:AP239)>Q238+Y239,Q238+Y239-AH239,$C239-SUM($AN239:AP239))))","v":0},{"$f":"IF(R238<=0,0,IF($C239<=SUM($AN239:AQ239),0,IF(AI239+$C239-SUM($AN239:AQ239)>R238+Z239,R238+Z239-AI239,$C239-SUM($AN239:AQ239))))","v":0},{"$f":"IF(S238<=0,0,IF($C239<=SUM($AN239:AR239),0,IF(AJ239+$C239-SUM($AN239:AR239)>S238+AA239,S238+AA239-AJ239,$C239-SUM($AN239:AR239))))","v":0},{"$f":"IF(T238<=0,0,IF($C239<=SUM($AN239:AS239),0,IF(AK239+$C239-SUM($AN239:AS239)>T238+AB239,T238+AB239-AK239,$C239-SUM($AN239:AS239))))","v":0}]
["",{"$error":"#N/A"},"",null,0,0,0,0,0,0,0,null,0,0,0,0,0,0,0,0,null,0,0,0,0,0,0,0,0,null,0,0,0,0,0,0,{"$f":"IF(T239>0,IF((T239+AB240)<#REF!,T239+AB240,#REF!),0)","v":0},0,null,0,{"$f":"IF(O239<=0,0,IF($C240<=SUM($AN240:AN240),0,IF(AF240+$C240-SUM($AN240:AN240)>O239+W240,O239+W240-AF240,$C240-SUM($AN240:AN240))))","v":0},{"$f":"IF(P239<=0,0,IF($C240<=SUM($AN240:AO240),0,IF(AG240+$C240-SUM($AN240:AO240)>P239+X240,P239+X240-AG240,$C240-SUM($AN240:AO240))))","v":0},{"$f":"IF(Q239<=0,0,IF($C240<=SUM($AN240:AP240),0,IF(AH240+$C240-SUM($AN240:AP240)>Q239+Y240,Q239+Y240-AH240,$C240-SUM($AN240:AP240))))","v":0},{"$f":"IF(R239<=0,0,IF($C240<=SUM($AN240:AQ240),0,IF(AI240+$C240-SUM($AN240:AQ240)>R239+Z240,R239+Z240-AI240,$C240-SUM($AN240:AQ240))))","v":0},{"$f":"IF(S239<=0,0,IF($C240<=SUM($AN240:AR240),0,IF(AJ240+$C240-SUM($AN240:AR240)>S239+AA240,S239+AA240-AJ240,$C240-SUM($AN240:AR240))))","v":0},{"$f":"IF(T239<=0,0,IF($C240<=SUM($AN240:AS240),0,IF(AK240+$C240-SUM($AN240:AS240)>T239+AB240,T239+AB240-AK240,$C240-SUM($AN240:AS240))))","v":0}]
["",{"$error":"#N/A"},"",null,0,0,0,0,0,0,0,null,0,0,0,0,0,0,0,0,null,0,0,0,0,0,0,0,0,null,0,0,0,0,0,0,{"$f":"IF(T240>0,IF((T240+AB241)<#REF!,T240+AB241,#REF!),0)","v":0},0,null,0,{"$f":"IF(O240<=0,0,IF($C241<=SUM($AN241:AN241),0,IF(AF241+$C241-SUM($AN241:AN241)>O240+W241,O240+W241-AF241,$C241-SUM($AN241:AN241))))","v":0},{"$f":"IF(P240<=0,0,IF($C241<=SUM($AN241:AO241),0,IF(AG241+$C241-SUM($AN241:AO241)>P240+X241,P240+X241-AG241,$C241-SUM($AN241:AO241))))","v":0},{"$f":"IF(Q240<=0,0,IF($C241<=SUM($AN241:AP241),0,IF(AH241+$C241-SUM($AN241:AP241)>Q240+Y241,Q240+Y241-AH241,$C241-SUM($AN241:AP241))))","v":0},{"$f":"IF(R240<=0,0,IF($C241<=SUM($AN241:AQ241),0,IF(AI241+$C241-SUM($AN241:AQ241)>R240+Z241,R240+Z241-AI241,$C241-SUM($AN241:AQ241))))","v":0},{"$f":"IF(S240<=0,0,IF($C241<=SUM($AN241:AR241),0,IF(AJ241+$C241-SUM($AN241:AR241)>S240+AA241,S240+AA241-AJ241,$C241-SUM($AN241:AR241))))","v":0},{"$f":"IF(T240<=0,0,IF($C241<=SUM($AN241:AS241),0,IF(AK241+$C241-SUM($AN241:AS241)>T240+AB241,T240+AB241-AK241,$C241-SUM($AN241:AS241))))","v":0}]
["",{"$error":"#N/A"},"",null,0,0,0,0,0,0,0,null,0,0,0,0,0,0,0,0,null,0,0,0,0,0,0,0,0,null,0,0,0,0,0,0,{"$f":"IF(T241>0,IF((T241+AB242)<#REF!,T241+AB242,#REF!),0)","v":0},0,null,0,{"$f":"IF(O241<=0,0,IF($C242<=SUM($AN242:AN242),0,IF(AF242+$C242-SUM($AN242:AN242)>O241+W242,O241+W242-AF242,$C242-SUM($AN242:AN242))))","v":0},{"$f":"IF(P241<=0,0,IF($C242<=SUM($AN242:AO242),0,IF(AG242+$C242-SUM($AN242:AO242)>P241+X242,P241+X242-AG242,$C242-SUM($AN242:AO242))))","v":0},{"$f":"IF(Q241<=0,0,IF($C242<=SUM($AN242:AP242),0,IF(AH242+$C242-SUM($AN242:AP242)>Q241+Y242,Q241+Y242-AH242,$C242-SUM($AN242:AP242))))","v":0},{"$f":"IF(R241<=0,0,IF($C242<=SUM($AN242:AQ242),0,IF(AI242+$C242-SUM($AN242:AQ242)>R241+Z242,R241+Z242-AI242,$C242-SUM($AN242:AQ242))))","v":0},{"$f":"IF(S241<=0,0,IF($C242<=SUM($AN242:AR242),0,IF(AJ242+$C242-SUM($AN242:AR242)>S241+AA242,S241+AA242-AJ242,$C242-SUM($AN242:AR242))))","v":0},{"$f":"IF(T241<=0,0,IF($C242<=SUM($AN242:AS242),0,IF(AK242+$C242-SUM($AN242:AS242)>T241+AB242,T241+AB242-AK242,$C242-SUM($AN242:AS242))))","v":0}]
["",{"$error":"#N/A"},"",null,0,0,0,0,0,0,0,null,0,0,0,0,0,0,0,0,null,0,0,0,0,0,0,0,0,null,0,0,0,0,0,0,{"$f":"IF(T242>0,IF((T242+AB243)<#REF!,T242+AB243,#REF!),0)","v":0},0,null,0,{"$f":"IF(O242<=0,0,IF($C243<=SUM($AN243:AN243),0,IF(AF243+$C243-SUM($AN243:AN243)>O242+W243,O242+W243-AF243,$C243-SUM($AN243:AN243))))","v":0},{"$f":"IF(P242<=0,0,IF($C243<=SUM($AN243:AO243),0,IF(AG243+$C243-SUM($AN243:AO243)>P242+X243,P242+X243-AG243,$C243-SUM($AN243:AO243))))","v":0},{"$f":"IF(Q242<=0,0,IF($C243<=SUM($AN243:AP243),0,IF(AH243+$C243-SUM($AN243:AP243)>Q242+Y243,Q242+Y243-AH243,$C243-SUM($AN243:AP243))))","v":0},{"$f":"IF(R242<=0,0,IF($C243<=SUM($AN243:AQ243),0,IF(AI243+$C243-SUM($AN243:AQ243)>R242+Z243,R242+Z243-AI243,$C243-SUM($AN243:AQ243))))","v":0},{"$f":"IF(S242<=0,0,IF($C243<=SUM($AN243:AR243),0,IF(AJ243+$C243-SUM($AN243:AR243)>S242+AA243,S242+AA243-AJ243,$C243-SUM($AN243:AR243))))","v":0},{"$f":"IF(T242<=0,0,IF($C243<=SUM($AN243:AS243),0,IF(AK243+$C243-SUM($AN243:AS243)>T242+AB243,T242+AB243-AK243,$C243-SUM($AN243:AS243))))","v":0}]
["",{"$error":"#N/A"},"",null,0,0,0,0,0,0,0,null,0,0,0,0,0,0,0,0,null,0,0,0,0,0,0,0,0,null,0,0,0,0,0,0,{"$f":"IF(T243>0,IF((T243+AB244)<#REF!,T243+AB244,#REF!),0)","v":0},0,null,0,{"$f":"IF(O243<=0,0,IF($C244<=SUM($AN244:AN244),0,IF(AF244+$C244-SUM($AN244:AN244)>O243+W244,O243+W244-AF244,$C244-SUM($AN244:AN244))))","v":0},{"$f":"IF(P243<=0,0,IF($C244<=SUM($AN244:AO244),0,IF(AG244+$C244-SUM($AN244:AO244)>P243+X244,P243+X244-AG244,$C244-SUM($AN244:AO244))))","v":0},{"$f":"IF(Q243<=0,0,IF($C244<=SUM($AN244:AP244),0,IF(AH244+$C244-SUM($AN244:AP244)>Q243+Y244,Q243+Y244-AH244,$C244-SUM($AN244:AP244))))","v":0},{"$f":"IF(R243<=0,0,IF($C244<=SUM($AN244:AQ244),0,IF(AI244+$C244-SUM($AN244:AQ244)>R243+Z244,R243+Z244-AI244,$C244-SUM($AN244:AQ244))))","v":0},{"$f":"IF(S243<=0,0,IF($C244<=SUM($AN244:AR244),0,IF(AJ244+$C244-SUM($AN244:AR244)>S243+AA244,S243+AA244-AJ244,$C244-SUM($AN244:AR244))))","v":0},{"$f":"IF(T243<=0,0,IF($C244<=SUM($AN244:AS244),0,IF(AK244+$C244-SUM($AN244:AS244)>T243+AB244,T243+AB244-AK244,$C244-SUM($AN244:AS244))))","v":0}]
["",{"$error":"#N/A"},"",null,0,0,0,0,0,0,0,null,0,0,0,0,0,0,0,0,null,0,0,0,0,0,0,0,0,null,0,0,0,0,0,0,{"$f":"IF(T244>0,IF((T244+AB245)<#REF!,T244+AB245,#REF!),0)","v":0},0,null,0,{"$f":"IF(O244<=0,0,IF($C245<=SUM($AN245:AN245),0,IF(AF245+$C245-SUM($AN245:AN245)>O244+W245,O244+W245-AF245,$C245-SUM($AN245:AN245))))","v":0},{"$f":"IF(P244<=0,0,IF($C245<=SUM($AN245:AO245),0,IF(AG245+$C245-SUM($AN245:AO245)>P244+X245,P244+X245-AG245,$C245-SUM($AN245:AO245))))","v":0},{"$f":"IF(Q244<=0,0,IF($C245<=SUM($AN245:AP245),0,IF(AH245+$C245-SUM($AN245:AP245)>Q244+Y245,Q244+Y245-AH245,$C245-SUM($AN245:AP245))))","v":0},{"$f":"IF(R244<=0,0,IF($C245<=SUM($AN245:AQ245),0,IF(AI245+$C245-SUM($AN245:AQ245)>R244+Z245,R244+Z245-AI245,$C245-SUM($AN245:AQ245))))","v":0},{"$f":"IF(S244<=0,0,IF($C245<=SUM($AN245:AR245),0,IF(AJ245+$C245-SUM($AN245:AR245)>S244+AA245,S244+AA245-AJ245,$C245-SUM($AN245:AR245))))","v":0},{"$f":"IF(T244<=0,0,IF($C245<=SUM($AN245:AS245),0,IF(AK245+$C245-SUM($AN245:AS245)>T244+AB245,T244+AB245-AK245,$C245-SUM($AN245:AS245))))","v":0}]
["",{"$error":"#N/A"},"",null,0,0,0,0,0,0,0,null,0,0,0,0,0,0,0,0,null,0,0,0,0,0,0,0,0,null,0,0,0,0,0,0,{"$f":"IF(T245>0,IF((T245+AB246)<#REF!,T245+AB246,#REF!),0)","v":0},0,null,0,{"$f":"IF(O245<=0,0,IF($C246<=SUM($AN246:AN246),0,IF(AF246+$C246-SUM($AN246:AN246)>O245+W246,O245+W246-AF246,$C246-SUM($AN246:AN246))))","v":0},{"$f":"IF(P245<=0,0,IF($C246<=SUM($AN246:AO246),0,IF(AG246+$C246-SUM($AN246:AO246)>P245+X246,P245+X246-AG246,$C246-SUM($AN246:AO246))))","v":0},{"$f":"IF(Q245<=0,0,IF($C246<=SUM($AN246:AP246),0,IF(AH246+$C246-SUM($AN246:AP246)>Q245+Y246,Q245+Y246-AH246,$C246-SUM($AN246:AP246))))","v":0},{"$f":"IF(R245<=0,0,IF($C246<=SUM($AN246:AQ246),0,IF(AI246+$C246-SUM($AN246:AQ246)>R245+Z246,R245+Z246-AI246,$C246-SUM($AN246:AQ246))))","v":0},{"$f":"IF(S245<=0,0,IF($C246<=SUM($AN246:AR246),0,IF(AJ246+$C246-SUM($AN246:AR246)>S245+AA246,S245+AA246-AJ246,$C246-SUM($AN246:AR246))))","v":0},{"$f":"IF(T245<=0,0,IF($C246<=SUM($AN246:AS246),0,IF(AK246+$C246-SUM($AN246:AS246)>T245+AB246,T245+AB246-AK246,$C246-SUM($AN246:AS246))))","v":0}]
["",{"$error":"#N/A"},"",null,0,0,0,0,0,0,0,null,0,0,0,0,0,0,0,0,null,0,0,0,0,0,0,0,0,null,0,0,0,0,0,0,{"$f":"IF(T246>0,IF((T246+AB247)<#REF!,T246+AB247,#REF!),0)","v":0},0,null,0,{"$f":"IF(O246<=0,0,IF($C247<=SUM($AN247:AN247),0,IF(AF247+$C247-SUM($AN247:AN247)>O246+W247,O246+W247-AF247,$C247-SUM($AN247:AN247))))","v":0},{"$f":"IF(P246<=0,0,IF($C247<=SUM($AN247:AO247),0,IF(AG247+$C247-SUM($AN247:AO247)>P246+X247,P246+X247-AG247,$C247-SUM($AN247:AO247))))","v":0},{"$f":"IF(Q246<=0,0,IF($C247<=SUM($AN247:AP247),0,IF(AH247+$C247-SUM($AN247:AP247)>Q246+Y247,Q246+Y247-AH247,$C247-SUM($AN247:AP247))))","v":0},{"$f":"IF(R246<=0,0,IF($C247<=SUM($AN247:AQ247),0,IF(AI247+$C247-SUM($AN247:AQ247)>R246+Z247,R246+Z247-AI247,$C247-SUM($AN247:AQ247))))","v":0},{"$f":"IF(S246<=0,0,IF($C247<=SUM($AN247:AR247),0,IF(AJ247+$C247-SUM($AN247:AR247)>S246+AA247,S246+AA247-AJ247,$C247-SUM($AN247:AR247))))","v":0},{"$f":"IF(T246<=0,0,IF($C247<=SUM($AN247:AS247),0,IF(AK247+$C247-SUM($AN247:AS247)>T246+AB247,T246+AB247-AK247,$C247-SUM($AN247:AS247))))","v":0}]
["",{"$error":"#N/A"},"",null,0,0,0,0,0,0,0,null,0,0,0,0,0,0,0,0,null,0,0,0,0,0,0,0,0,null,0,0,0,0,0,0,{"$f":"IF(T247>0,IF((T247+AB248)<#REF!,T247+AB248,#REF!),0)","v":0},0,null,0,{"$f":"IF(O247<=0,0,IF($C248<=SUM($AN248:AN248),0,IF(AF248+$C248-SUM($AN248:AN248)>O247+W248,O247+W248-AF248,$C248-SUM($AN248:AN248))))","v":0},{"$f":"IF(P247<=0,0,IF($C248<=SUM($AN248:AO248),0,IF(AG248+$C248-SUM($AN248:AO248)>P247+X248,P247+X248-AG248,$C248-SUM($AN248:AO248))))","v":0},{"$f":"IF(Q247<=0,0,IF($C248<=SUM($AN248:AP248),0,IF(AH248+$C248-SUM($AN248:AP248)>Q247+Y248,Q247+Y248-AH248,$C248-SUM($AN248:AP248))))","v":0},{"$f":"IF(R247<=0,0,IF($C248<=SUM($AN248:AQ248),0,IF(AI248+$C248-SUM($AN248:AQ248)>R247+Z248,R247+Z248-AI248,$C248-SUM($AN248:AQ248))))","v":0},{"$f":"IF(S247<=0,0,IF($C248<=SUM($AN248:AR248),0,IF(AJ248+$C248-SUM($AN248:AR248)>S247+AA248,S247+AA248-AJ248,$C248-SUM($AN248:AR248))))","v":0},{"$f":"IF(T247<=0,0,IF($C248<=SUM($AN248:AS248),0,IF(AK248+$C248-SUM($AN248:AS248)>T247+AB248,T247+AB248-AK248,$C248-SUM($AN248:AS248))))","v":0}]
["",{"$error":"#N/A"},"",null,0,0,0,0,0,0,0,null,0,0,0,0,0,0,0,0,null,0,0,0,0,0,0,0,0,null,0,0,0,0,0,0,{"$f":"IF(T248>0,IF((T248+AB249)<#REF!,T248+AB249,#REF!),0)","v":0},0,null,0,{"$f":"IF(O248<=0,0,IF($C249<=SUM($AN249:AN249),0,IF(AF249+$C249-SUM($AN249:AN249)>O248+W249,O248+W249-AF249,$C249-SUM($AN249:AN249))))","v":0},{"$f":"IF(P248<=0,0,IF($C249<=SUM($AN249:AO249),0,IF(AG249+$C249-SUM($AN249:AO249)>P248+X249,P248+X249-AG249,$C249-SUM($AN249:AO249))))","v":0},{"$f":"IF(Q248<=0,0,IF($C249<=SUM($AN249:AP249),0,IF(AH249+$C249-SUM($AN249:AP249)>Q248+Y249,Q248+Y249-AH249,$C249-SUM($AN249:AP249))))","v":0},{"$f":"IF(R248<=0,0,IF($C249<=SUM($AN249:AQ249),0,IF(AI249+$C249-SUM($AN249:AQ249)>R248+Z249,R248+Z249-AI249,$C249-SUM($AN249:AQ249))))","v":0},{"$f":"IF(S248<=0,0,IF($C249<=SUM($AN249:AR249),0,IF(AJ249+$C249-SUM($AN249:AR249)>S248+AA249,S248+AA249-AJ249,$C249-SUM($AN249:AR249))))","v":0},{"$f":"IF(T248<=0,0,IF($C249<=SUM($AN249:AS249),0,IF(AK249+$C249-SUM($AN249:AS249)>T248+AB249,T248+AB249-AK249,$C249-SUM($AN249:AS249))))","v":0}]
["",{"$error":"#N/A"},"",null,0,0,0,0,0,0,0,null,0,0,0,0,0,0,0,0,null,0,0,0,0,0,0,0,0,null,0,0,0,0,0,0,{"$f":"IF(T249>0,IF((T249+AB250)<#REF!,T249+AB250,#REF!),0)","v":0},0,null,0,{"$f":"IF(O249<=0,0,IF($C250<=SUM($AN250:AN250),0,IF(AF250+$C250-SUM($AN250:AN250)>O249+W250,O249+W250-AF250,$C250-SUM($AN250:AN250))))","v":0},{"$f":"IF(P249<=0,0,IF($C250<=SUM($AN250:AO250),0,IF(AG250+$C250-SUM($AN250:AO250)>P249+X250,P249+X250-AG250,$C250-SUM($AN250:AO250))))","v":0},{"$f":"IF(Q249<=0,0,IF($C250<=SUM($AN250:AP250),0,IF(AH250+$C250-SUM($AN250:AP250)>Q249+Y250,Q249+Y250-AH250,$C250-SUM($AN250:AP250))))","v":0},{"$f":"IF(R249<=0,0,IF($C250<=SUM($AN250:AQ250),0,IF(AI250+$C250-SUM($AN250:AQ250)>R249+Z250,R249+Z250-AI250,$C250-SUM($AN250:AQ250))))","v":0},{"$f":"IF(S249<=0,0,IF($C250<=SUM($AN250:AR250),0,IF(AJ250+$C250-SUM($AN250:AR250)>S249+AA250,S249+AA250-AJ250,$C250-SUM($AN250:AR250))))","v":0},{"$f":"IF(T249<=0,0,IF($C250<=SUM($AN250:AS250),0,IF(AK250+$C250-SUM($AN250:AS250)>T249+AB250,T249+AB250-AK250,$C250-SUM($AN250:AS250))))","v":0}]
["",{"$error":"#N/A"},"",null,0,0,0,0,0,0,0,null,0,0,0,0,0,0,0,0,null,0,0,0,0,0,0,0,0,null,0,0,0,0,0,0,{"$f":"IF(T250>0,IF((T250+AB251)<#REF!,T250+AB251,#REF!),0)","v":0},0,null,0,{"$f":"IF(O250<=0,0,IF($C251<=SUM($AN251:AN251),0,IF(AF251+$C251-SUM($AN251:AN251)>O250+W251,O250+W251-AF251,$C251-SUM($AN251:AN251))))","v":0},{"$f":"IF(P250<=0,0,IF($C251<=SUM($AN251:AO251),0,IF(AG251+$C251-SUM($AN251:AO251)>P250+X251,P250+X251-AG251,$C251-SUM($AN251:AO251))))","v":0},{"$f":"IF(Q250<=0,0,IF($C251<=SUM($AN251:AP251),0,IF(AH251+$C251-SUM($AN251:AP251)>Q250+Y251,Q250+Y251-AH251,$C251-SUM($AN251:AP251))))","v":0},{"$f":"IF(R250<=0,0,IF($C251<=SUM($AN251:AQ251),0,IF(AI251+$C251-SUM($AN251:AQ251)>R250+Z251,R250+Z251-AI251,$C251-SUM($AN251:AQ251))))","v":0},{"$f":"IF(S250<=0,0,IF($C251<=SUM($AN251:AR251),0,IF(AJ251+$C251-SUM($AN251:AR251)>S250+AA251,S250+AA251-AJ251,$C251-SUM($AN251:AR251))))","v":0},{"$f":"IF(T250<=0,0,IF($C251<=SUM($AN251:AS251),0,IF(AK251+$C251-SUM($AN251:AS251)>T250+AB251,T250+AB251-AK251,$C251-SUM($AN251:AS251))))","v":0}]
["",{"$error":"#N/A"},"",null,0,0,0,0,0,0,0,null,0,0,0,0,0,0,0,0,null,0,0,0,0,0,0,0,0,null,0,0,0,0,0,0,{"$f":"IF(T251>0,IF((T251+AB252)<#REF!,T251+AB252,#REF!),0)","v":0},0,null,0,{"$f":"IF(O251<=0,0,IF($C252<=SUM($AN252:AN252),0,IF(AF252+$C252-SUM($AN252:AN252)>O251+W252,O251+W252-AF252,$C252-SUM($AN252:AN252))))","v":0},{"$f":"IF(P251<=0,0,IF($C252<=SUM($AN252:AO252),0,IF(AG252+$C252-SUM($AN252:AO252)>P251+X252,P251+X252-AG252,$C252-SUM($AN252:AO252))))","v":0},{"$f":"IF(Q251<=0,0,IF($C252<=SUM($AN252:AP252),0,IF(AH252+$C252-SUM($AN252:AP252)>Q251+Y252,Q251+Y252-AH252,$C252-SUM($AN252:AP252))))","v":0},{"$f":"IF(R251<=0,0,IF($C252<=SUM($AN252:AQ252),0,IF(AI252+$C252-SUM($AN252:AQ252)>R251+Z252,R251+Z252-AI252,$C252-SUM($AN252:AQ252))))","v":0},{"$f":"IF(S251<=0,0,IF($C252<=SUM($AN252:AR252),0,IF(AJ252+$C252-SUM($AN252:AR252)>S251+AA252,S251+AA252-AJ252,$C252-SUM($AN252:AR252))))","v":0},{"$f":"IF(T251<=0,0,IF($C252<=SUM($AN252:AS252),0,IF(AK252+$C252-SUM($AN252:AS252)>T251+AB252,T251+AB252-AK252,$C252-SUM($AN252:AS252))))","v":0}]
["",{"$error":"#N/A"},"",null,0,0,0,0,0,0,0,null,0,0,0,0,0,0,0,0,null,0,0,0,0,0,0,0,0,null,0,0,0,0,0,0,{"$f":"IF(T252>0,IF((T252+AB253)<#REF!,T252+AB253,#REF!),0)","v":0},0,null,0,{"$f":"IF(O252<=0,0,IF($C253<=SUM($AN253:AN253),0,IF(AF253+$C253-SUM($AN253:AN253)>O252+W253,O252+W253-AF253,$C253-SUM($AN253:AN253))))","v":0},{"$f":"IF(P252<=0,0,IF($C253<=SUM($AN253:AO253),0,IF(AG253+$C253-SUM($AN253:AO253)>P252+X253,P252+X253-AG253,$C253-SUM($AN253:AO253))))","v":0},{"$f":"IF(Q252<=0,0,IF($C253<=SUM($AN253:AP253),0,IF(AH253+$C253-SUM($AN253:AP253)>Q252+Y253,Q252+Y253-AH253,$C253-SUM($AN253:AP253))))","v":0},{"$f":"IF(R252<=0,0,IF($C253<=SUM($AN253:AQ253),0,IF(AI253+$C253-SUM($AN253:AQ253)>R252+Z253,R252+Z253-AI253,$C253-SUM($AN253:AQ253))))","v":0},{"$f":"IF(S252<=0,0,IF($C253<=SUM($AN253:AR253),0,IF(AJ253+$C253-SUM($AN253:AR253)>S252+AA253,S252+AA253-AJ253,$C253-SUM($AN253:AR253))))","v":0},{"$f":"IF(T252<=0,0,IF($C253<=SUM($AN253:AS253),0,IF(AK253+$C253-SUM($AN253:AS253)>T252+AB253,T252+AB253-AK253,$C253-SUM($AN253:AS253))))","v":0}]
["",{"$error":"#N/A"},"",null,0,0,0,0,0,0,0,null,0,0,0,0,0,0,0,0,null,0,0,0,0,0,0,0,0,null,0,0,0,0,0,0,{"$f":"IF(T253>0,IF((T253+AB254)<#REF!,T253+AB254,#REF!),0)","v":0},0,null,0,{"$f":"IF(O253<=0,0,IF($C254<=SUM($AN254:AN254),0,IF(AF254+$C254-SUM($AN254:AN254)>O253+W254,O253+W254-AF254,$C254-SUM($AN254:AN254))))","v":0},{"$f":"IF(P253<=0,0,IF($C254<=SUM($AN254:AO254),0,IF(AG254+$C254-SUM($AN254:AO254)>P253+X254,P253+X254-AG254,$C254-SUM($AN254:AO254))))","v":0},{"$f":"IF(Q253<=0,0,IF($C254<=SUM($AN254:AP254),0,IF(AH254+$C254-SUM($AN254:AP254)>Q253+Y254,Q253+Y254-AH254,$C254-SUM($AN254:AP254))))","v":0},{"$f":"IF(R253<=0,0,IF($C254<=SUM($AN254:AQ254),0,IF(AI254+$C254-SUM($AN254:AQ254)>R253+Z254,R253+Z254-AI254,$C254-SUM($AN254:AQ254))))","v":0},{"$f":"IF(S253<=0,0,IF($C254<=SUM($AN254:AR254),0,IF(AJ254+$C254-SUM($AN254:AR254)>S253+AA254,S253+AA254-AJ254,$C254-SUM($AN254:AR254))))","v":0},{"$f":"IF(T253<=0,0,IF($C254<=SUM($AN254:AS254),0,IF(AK254+$C254-SUM($AN254:AS254)>T253+AB254,T253+AB254-AK254,$C254-SUM($AN254:AS254))))","v":0}]
[{"$f":"IF(SUM(N254:T254)<=0,\"\",A254+1)","v":""},{"$f":"IF(A255=\"\",NA(),DATE(YEAR(B254),MONTH(B254)+1,1))","v":{"$error":"#N/A"}},"",null,{"$f":"AE255+AN255","v":0},{"$f":"AF255+AO255","v":0},{"$f":"AG255+AP255","v":0},{"$f":"AH255+AQ255","v":0},{"$f":"AI255+AR255","v":0},{"$f":"AJ255+AS255","v":0},{"$f":"AK255+AT255","v":0},null,{"$f":"SUM(N255:T255)","v":0},{"$f":"IF(D$8=0,0,ROUND(N254-(E255-V255),2))","v":0},{"$f":"IF(E$8=0,0,ROUND(O254-(F255-W255),2))","v":0},{"$f":"IF(F$8=0,0,ROUND(P254-(G255-X255),2))","v":0},{"$f":"IF(G$8=0,0,ROUND(Q254-(H255-Y255),2))","v":0},{"$f":"IF(H$8=0,0,ROUND(R254-(I255-Z255),2))","v":0},{"$f":"IF(I$8=0,0,ROUND(S254-(J255-AA255),2))","v":0},{"$f":"IF(J$8=0,0,ROUND(T254-(K255-AB255),2))","v":0},null,{"$f":"ROUND(N254*E$9/12,2)","v":0},{"$f":"ROUND(O254*F$9/12,2)","v":0},{"$f":"ROUND(P254*G$9/12,2)","v":0},{"$f":"ROUND(Q254*H$9/12,2)","v":0},{"$f":"ROUND(R254*I$9/12,2)","v":0},{"$f":"ROUND(S254*J$9/12,2)","v":0},{"$f":"ROUND(T254*K$9/12,2)","v":0},{"$f":"SUM(V255:AB255)","v":0},null,{"$f":"IF(N254>0,IF((N254+V255)<E$10,N254+V255,E$10),0)","v":0},{"$f":"IF(O254>0,IF((O254+W255)<F$10,O254+W255,F$10),0)","v":0},{"$f":"IF(P254>0,IF((P254+X255)<G$10,P254+X255,G$10),0)","v":0},{"$f":"IF(Q254>0,IF((Q254+Y255)<H$10,Q254+Y255,H$10),0)","v":0},{"$f":"IF(R254>0,IF((R254+Z255)<I$10,R254+Z255,I$10),0)","v":0},{"$f":"IF(S254>0,IF((S254+AA255)<I$10,S254+AA255,I$10),0)","v":0},{"$f":"IF(T254>0,IF((T254+AB255)<#REF!,T254+AB255,#REF!),0)","v":0},{"$f":"SUM(AE255:AK255)","v":0},null,{"$f":"IF(N254<=0,0,IF(AE255+$C255>N254+V255,N254+V255-AE255,$C255))","v":0},{"$f":"IF(O254<=0,0,IF($C255<=SUM($AN255:AN255),0,IF(AF255+$C255-SUM($AN255:AN255)>O254+W255,O254+W255-AF255,$C255-SUM($AN255:AN255))))","v":0},{"$f":"IF(P254<=0,0,IF($C255<=SUM($AN255:AO255),0,IF(AG255+$C255-SUM($AN255:AO255)>P254+X255,P254+X255-AG255,$C255-SUM($AN255:AO255))))","v":0},{"$f":"IF(Q254<=0,0,IF($C255<=SUM($AN255:AP255),0,IF(AH255+$C255-SUM($AN255:AP255)>Q254+Y255,Q254+Y255-AH255,$C255-SUM($AN255:AP255))))","v":0},{"$f":"IF(R254<=0,0,IF($C255<=SUM($AN255:AQ255),0,IF(AI255+$C255-SUM($AN255:AQ255)>R254+Z255,R254+Z255-AI255,$C255-SUM($AN255:AQ255))))","v":0},{"$f":"IF(S254<=0,0,IF($C255<=SUM($AN255:AR255),0,IF(AJ255+$C255-SUM($AN255:AR255)>S254+AA255,S254+AA255-AJ255,$C255-SUM($AN255:AR255))))","v":0},{"$f":"IF(T254<=0,0,IF($C255<=SUM($AN255:AS255),0,IF(AK255+$C255-SUM($AN255:AS255)>T254+AB255,T254+AB255-AK255,$C255-SUM($AN255:AS255))))","v":0}]
["",{"$error":"#N/A"},"",null,0,0,0,0,0,0,0,null,0,0,0,0,0,0,0,0,null,0,0,0,0,0,0,0,0,null,0,0,0,0,0,0,{"$f":"IF(T255>0,IF((T255+AB256)<#REF!,T255+AB256,#REF!),0)","v":0},0,null,0,{"$f":"IF(O255<=0,0,IF($C256<=SUM($AN256:AN256),0,IF(AF256+$C256-SUM($AN256:AN256)>O255+W256,O255+W256-AF256,$C256-SUM($AN256:AN256))))","v":0},{"$f":"IF(P255<=0,0,IF($C256<=SUM($AN256:AO256),0,IF(AG256+$C256-SUM($AN256:AO256)>P255+X256,P255+X256-AG256,$C256-SUM($AN256:AO256))))","v":0},{"$f":"IF(Q255<=0,0,IF($C256<=SUM($AN256:AP256),0,IF(AH256+$C256-SUM($AN256:AP256)>Q255+Y256,Q255+Y256-AH256,$C256-SUM($AN256:AP256))))","v":0},{"$f":"IF(R255<=0,0,IF($C256<=SUM($AN256:AQ256),0,IF(AI256+$C256-SUM($AN256:AQ256)>R255+Z256,R255+Z256-AI256,$C256-SUM($AN256:AQ256))))","v":0},{"$f":"IF(S255<=0,0,IF($C256<=SUM($AN256:AR256),0,IF(AJ256+$C256-SUM($AN256:AR256)>S255+AA256,S255+AA256-AJ256,$C256-SUM($AN256:AR256))))","v":0},{"$f":"IF(T255<=0,0,IF($C256<=SUM($AN256:AS256),0,IF(AK256+$C256-SUM($AN256:AS256)>T255+AB256,T255+AB256-AK256,$C256-SUM($AN256:AS256))))","v":0}]
["",{"$error":"#N/A"},"",null,0,0,0,0,0,0,0,null,0,0,0,0,0,0,0,0,null,0,0,0,0,0,0,0,0,null,0,0,0,0,0,0,{"$f":"IF(T256>0,IF((T256+AB257)<#REF!,T256+AB257,#REF!),0)","v":0},0,null,0,{"$f":"IF(O256<=0,0,IF($C257<=SUM($AN257:AN257),0,IF(AF257+$C257-SUM($AN257:AN257)>O256+W257,O256+W257-AF257,$C257-SUM($AN257:AN257))))","v":0},{"$f":"IF(P256<=0,0,IF($C257<=SUM($AN257:AO257),0,IF(AG257+$C257-SUM($AN257:AO257)>P256+X257,P256+X257-AG257,$C257-SUM($AN257:AO257))))","v":0},{"$f":"IF(Q256<=0,0,IF($C257<=SUM($AN257:AP257),0,IF(AH257+$C257-SUM($AN257:AP257)>Q256+Y257,Q256+Y257-AH257,$C257-SUM($AN257:AP257))))","v":0},{"$f":"IF(R256<=0,0,IF($C257<=SUM($AN257:AQ257),0,IF(AI257+$C257-SUM($AN257:AQ257)>R256+Z257,R256+Z257-AI257,$C257-SUM($AN257:AQ257))))","v":0},{"$f":"IF(S256<=0,0,IF($C257<=SUM($AN257:AR257),0,IF(AJ257+$C257-SUM($AN257:AR257)>S256+AA257,S256+AA257-AJ257,$C257-SUM($AN257:AR257))))","v":0},{"$f":"IF(T256<=0,0,IF($C257<=SUM($AN257:AS257),0,IF(AK257+$C257-SUM($AN257:AS257)>T256+AB257,T256+AB257-AK257,$C257-SUM($AN257:AS257))))","v":0}]
["",{"$error":"#N/A"},"",null,0,0,0,0,0,0,0,null,0,0,0,0,0,0,0,0,null,0,0,0,0,0,0,0,0,null,0,0,0,0,0,0,{"$f":"IF(T257>0,IF((T257+AB258)<#REF!,T257+AB258,#REF!),0)","v":0},0,null,0,{"$f":"IF(O257<=0,0,IF($C258<=SUM($AN258:AN258),0,IF(AF258+$C258-SUM($AN258:AN258)>O257+W258,O257+W258-AF258,$C258-SUM($AN258:AN258))))","v":0},{"$f":"IF(P257<=0,0,IF($C258<=SUM($AN258:AO258),0,IF(AG258+$C258-SUM($AN258:AO258)>P257+X258,P257+X258-AG258,$C258-SUM($AN258:AO258))))","v":0},{"$f":"IF(Q257<=0,0,IF($C258<=SUM($AN258:AP258),0,IF(AH258+$C258-SUM($AN258:AP258)>Q257+Y258,Q257+Y258-AH258,$C258-SUM($AN258:AP258))))","v":0},{"$f":"IF(R257<=0,0,IF($C258<=SUM($AN258:AQ258),0,IF(AI258+$C258-SUM($AN258:AQ258)>R257+Z258,R257+Z258-AI258,$C258-SUM($AN258:AQ258))))","v":0},{"$f":"IF(S257<=0,0,IF($C258<=SUM($AN258:AR258),0,IF(AJ258+$C258-SUM($AN258:AR258)>S257+AA258,S257+AA258-AJ258,$C258-SUM($AN258:AR258))))","v":0},{"$f":"IF(T257<=0,0,IF($C258<=SUM($AN258:AS258),0,IF(AK258+$C258-SUM($AN258:AS258)>T257+AB258,T257+AB258-AK258,$C258-SUM($AN258:AS258))))","v":0}]
["",{"$error":"#N/A"},"",null,0,0,0,0,0,0,0,null,0,0,0,0,0,0,0,0,null,0,0,0,0,0,0,0,0,null,0,0,0,0,0,0,{"$f":"IF(T258>0,IF((T258+AB259)<#REF!,T258+AB259,#REF!),0)","v":0},0,null,0,{"$f":"IF(O258<=0,0,IF($C259<=SUM($AN259:AN259),0,IF(AF259+$C259-SUM($AN259:AN259)>O258+W259,O258+W259-AF259,$C259-SUM($AN259:AN259))))","v":0},{"$f":"IF(P258<=0,0,IF($C259<=SUM($AN259:AO259),0,IF(AG259+$C259-SUM($AN259:AO259)>P258+X259,P258+X259-AG259,$C259-SUM($AN259:AO259))))","v":0},{"$f":"IF(Q258<=0,0,IF($C259<=SUM($AN259:AP259),0,IF(AH259+$C259-SUM($AN259:AP259)>Q258+Y259,Q258+Y259-AH259,$C259-SUM($AN259:AP259))))","v":0},{"$f":"IF(R258<=0,0,IF($C259<=SUM($AN259:AQ259),0,IF(AI259+$C259-SUM($AN259:AQ259)>R258+Z259,R258+Z259-AI259,$C259-SUM($AN259:AQ259))))","v":0},{"$f":"IF(S258<=0,0,IF($C259<=SUM($AN259:AR259),0,IF(AJ259+$C259-SUM($AN259:AR259)>S258+AA259,S258+AA259-AJ259,$C259-SUM($AN259:AR259))))","v":0},{"$f":"IF(T258<=0,0,IF($C259<=SUM($AN259:AS259),0,IF(AK259+$C259-SUM($AN259:AS259)>T258+AB259,T258+AB259-AK259,$C259-SUM($AN259:AS259))))","v":0}]
["",{"$error":"#N/A"},"",null,0,0,0,0,0,0,0,null,0,0,0,0,0,0,0,0,null,0,0,0,0,0,0,0,0,null,0,0,0,0,0,0,{"$f":"IF(T259>0,IF((T259+AB260)<#REF!,T259+AB260,#REF!),0)","v":0},0,null,0,{"$f":"IF(O259<=0,0,IF($C260<=SUM($AN260:AN260),0,IF(AF260+$C260-SUM($AN260:AN260)>O259+W260,O259+W260-AF260,$C260-SUM($AN260:AN260))))","v":0},{"$f":"IF(P259<=0,0,IF($C260<=SUM($AN260:AO260),0,IF(AG260+$C260-SUM($AN260:AO260)>P259+X260,P259+X260-AG260,$C260-SUM($AN260:AO260))))","v":0},{"$f":"IF(Q259<=0,0,IF($C260<=SUM($AN260:AP260),0,IF(AH260+$C260-SUM($AN260:AP260)>Q259+Y260,Q259+Y260-AH260,$C260-SUM($AN260:AP260))))","v":0},{"$f":"IF(R259<=0,0,IF($C260<=SUM($AN260:AQ260),0,IF(AI260+$C260-SUM($AN260:AQ260)>R259+Z260,R259+Z260-AI260,$C260-SUM($AN260:AQ260))))","v":0},{"$f":"IF(S259<=0,0,IF($C260<=SUM($AN260:AR260),0,IF(AJ260+$C260-SUM($AN260:AR260)>S259+AA260,S259+AA260-AJ260,$C260-SUM($AN260:AR260))))","v":0},{"$f":"IF(T259<=0,0,IF($C260<=SUM($AN260:AS260),0,IF(AK260+$C260-SUM($AN260:AS260)>T259+AB260,T259+AB260-AK260,$C260-SUM($AN260:AS260))))","v":0}]